BEGIN:VCALENDAR
VERSION:2.0
PRODID:-//Spiritualist First Church of Truth - ECPv6.15.20//NONSGML v1.0//EN
CALSCALE:GREGORIAN
METHOD:PUBLISH
X-WR-CALNAME:Spiritualist First Church of Truth
X-ORIGINAL-URL:https://spiritualistfirstchurchoftruth.org
X-WR-CALDESC:Events for Spiritualist First Church of Truth
REFRESH-INTERVAL;VALUE=DURATION:PT1H
X-Robots-Tag:noindex
X-PUBLISHED-TTL:PT1H
BEGIN:VTIMEZONE
TZID:America/Detroit
BEGIN:DAYLIGHT
TZOFFSETFROM:-0500
TZOFFSETTO:-0400
TZNAME:EDT
DTSTART:20250309T070000
END:DAYLIGHT
BEGIN:STANDARD
TZOFFSETFROM:-0400
TZOFFSETTO:-0500
TZNAME:EST
DTSTART:20251102T060000
END:STANDARD
BEGIN:DAYLIGHT
TZOFFSETFROM:-0500
TZOFFSETTO:-0400
TZNAME:EDT
DTSTART:20260308T070000
END:DAYLIGHT
BEGIN:STANDARD
TZOFFSETFROM:-0400
TZOFFSETTO:-0500
TZNAME:EST
DTSTART:20261101T060000
END:STANDARD
BEGIN:DAYLIGHT
TZOFFSETFROM:-0500
TZOFFSETTO:-0400
TZNAME:EDT
DTSTART:20270314T070000
END:DAYLIGHT
BEGIN:STANDARD
TZOFFSETFROM:-0400
TZOFFSETTO:-0500
TZNAME:EST
DTSTART:20271107T060000
END:STANDARD
END:VTIMEZONE
BEGIN:VEVENT
DTSTART;TZID=America/Detroit:20260104T110000
DTEND;TZID=America/Detroit:20260104T123000
DTSTAMP:20260423T144035
CREATED:20251230T220448Z
LAST-MODIFIED:20251230T220448Z
UID:4274-1767524400-1767529800@spiritualistfirstchurchoftruth.org
SUMMARY:Church Services with speaker Carl Franklin
DESCRIPTION:NO POTLUCK. Board meeting after church.
URL:https://spiritualistfirstchurchoftruth.org/event/church-services-with-speaker-carl-franklin-7/
CATEGORIES:At church,On Zoom.
END:VEVENT
BEGIN:VEVENT
DTSTART;TZID=America/Detroit:20260105T110000
DTEND;TZID=America/Detroit:20260105T123000
DTSTAMP:20260423T144035
CREATED:20251230T220532Z
LAST-MODIFIED:20251230T220805Z
UID:4276-1767610800-1767616200@spiritualistfirstchurchoftruth.org
SUMMARY:Development class\, zoom only
DESCRIPTION:
URL:https://spiritualistfirstchurchoftruth.org/event/development-class-zoom-only-5/
CATEGORIES:On Zoom.
END:VEVENT
BEGIN:VEVENT
DTSTART;TZID=America/Detroit:20260111T110000
DTEND;TZID=America/Detroit:20260111T123000
DTSTAMP:20260423T144035
CREATED:20251230T220617Z
LAST-MODIFIED:20251230T220617Z
UID:4278-1768129200-1768134600@spiritualistfirstchurchoftruth.org
SUMMARY:Church Services with speaker Mary Theadoor
DESCRIPTION:
URL:https://spiritualistfirstchurchoftruth.org/event/church-services-with-speaker-mary-theadoor/
CATEGORIES:At church,On Zoom.
END:VEVENT
BEGIN:VEVENT
DTSTART;TZID=America/Detroit:20260112T110000
DTEND;TZID=America/Detroit:20260112T123000
DTSTAMP:20260423T144035
CREATED:20251230T220658Z
LAST-MODIFIED:20251230T220658Z
UID:4280-1768215600-1768221000@spiritualistfirstchurchoftruth.org
SUMMARY:Development class\, zoom only
DESCRIPTION:
URL:https://spiritualistfirstchurchoftruth.org/event/development-class-zoom-only-6/
CATEGORIES:On Zoom.
END:VEVENT
BEGIN:VEVENT
DTSTART;TZID=America/Detroit:20260118T110000
DTEND;TZID=America/Detroit:20260118T123000
DTSTAMP:20260423T144035
CREATED:20251230T220842Z
LAST-MODIFIED:20251230T220842Z
UID:4282-1768734000-1768739400@spiritualistfirstchurchoftruth.org
SUMMARY:Church Services with speaker Mike Miller
DESCRIPTION:
URL:https://spiritualistfirstchurchoftruth.org/event/church-services-with-speaker-mike-miller-2/
CATEGORIES:At church,On Zoom.
END:VEVENT
BEGIN:VEVENT
DTSTART;TZID=America/Detroit:20260119T110000
DTEND;TZID=America/Detroit:20260119T123000
DTSTAMP:20260423T144035
CREATED:20251230T220912Z
LAST-MODIFIED:20251230T220912Z
UID:4284-1768820400-1768825800@spiritualistfirstchurchoftruth.org
SUMMARY:Development class
DESCRIPTION:
URL:https://spiritualistfirstchurchoftruth.org/event/development-class-83/
CATEGORIES:At church,On Zoom.
END:VEVENT
BEGIN:VEVENT
DTSTART;TZID=America/Detroit:20260125T110000
DTEND;TZID=America/Detroit:20260125T123000
DTSTAMP:20260423T144035
CREATED:20251230T220951Z
LAST-MODIFIED:20251230T220951Z
UID:4286-1769338800-1769344200@spiritualistfirstchurchoftruth.org
SUMMARY:Church Services with speaker Ortrun Franklin
DESCRIPTION:
URL:https://spiritualistfirstchurchoftruth.org/event/church-services-with-speaker-ortrun-franklin-3/
CATEGORIES:At church,On Zoom.
END:VEVENT
BEGIN:VEVENT
DTSTART;TZID=America/Detroit:20260126T110000
DTEND;TZID=America/Detroit:20260126T123000
DTSTAMP:20260423T144035
CREATED:20251230T221021Z
LAST-MODIFIED:20251230T221021Z
UID:4288-1769425200-1769430600@spiritualistfirstchurchoftruth.org
SUMMARY:Development class\, zoom only
DESCRIPTION:
URL:https://spiritualistfirstchurchoftruth.org/event/development-class-zoom-only-7/
CATEGORIES:On Zoom.
END:VEVENT
END:VCALENDAR