BEGIN:VCALENDAR
VERSION:2.0
PRODID:-//Spiritualist First Church of Truth - ECPv6.15.20//NONSGML v1.0//EN
CALSCALE:GREGORIAN
METHOD:PUBLISH
X-WR-CALNAME:Spiritualist First Church of Truth
X-ORIGINAL-URL:https://spiritualistfirstchurchoftruth.org
X-WR-CALDESC:Events for Spiritualist First Church of Truth
REFRESH-INTERVAL;VALUE=DURATION:PT1H
X-Robots-Tag:noindex
X-PUBLISHED-TTL:PT1H
BEGIN:VTIMEZONE
TZID:America/Detroit
BEGIN:DAYLIGHT
TZOFFSETFROM:-0500
TZOFFSETTO:-0400
TZNAME:EDT
DTSTART:20220313T070000
END:DAYLIGHT
BEGIN:STANDARD
TZOFFSETFROM:-0400
TZOFFSETTO:-0500
TZNAME:EST
DTSTART:20221106T060000
END:STANDARD
BEGIN:DAYLIGHT
TZOFFSETFROM:-0500
TZOFFSETTO:-0400
TZNAME:EDT
DTSTART:20230312T070000
END:DAYLIGHT
BEGIN:STANDARD
TZOFFSETFROM:-0400
TZOFFSETTO:-0500
TZNAME:EST
DTSTART:20231105T060000
END:STANDARD
BEGIN:DAYLIGHT
TZOFFSETFROM:-0500
TZOFFSETTO:-0400
TZNAME:EDT
DTSTART:20240310T070000
END:DAYLIGHT
BEGIN:STANDARD
TZOFFSETFROM:-0400
TZOFFSETTO:-0500
TZNAME:EST
DTSTART:20241103T060000
END:STANDARD
END:VTIMEZONE
BEGIN:VEVENT
DTSTART;TZID=America/Detroit:20230801T180000
DTEND;TZID=America/Detroit:20230801T190000
DTSTAMP:20260425T112104
CREATED:20230730T162352Z
LAST-MODIFIED:20230730T162441Z
UID:2313-1690912800-1690916400@spiritualistfirstchurchoftruth.org
SUMMARY:Seance in person at church
DESCRIPTION:
URL:https://spiritualistfirstchurchoftruth.org/event/seance/
LOCATION:First Church of Truth
CATEGORIES:At church
END:VEVENT
BEGIN:VEVENT
DTSTART;TZID=America/Detroit:20230803T120000
DTEND;TZID=America/Detroit:20230803T140000
DTSTAMP:20260425T112104
CREATED:20230728T124509Z
LAST-MODIFIED:20230728T124509Z
UID:2291-1691064000-1691071200@spiritualistfirstchurchoftruth.org
SUMMARY:Development class
DESCRIPTION:
URL:https://spiritualistfirstchurchoftruth.org/event/development-class/
LOCATION:Zoom
CATEGORIES:On Zoom.
END:VEVENT
BEGIN:VEVENT
DTSTART;TZID=America/Detroit:20230806T110000
DTEND;TZID=America/Detroit:20230806T123000
DTSTAMP:20260425T112104
CREATED:20230728T124546Z
LAST-MODIFIED:20230729T223457Z
UID:2293-1691319600-1691325000@spiritualistfirstchurchoftruth.org
SUMMARY:Church\, potluck\, board mtg\, speaker Rev Bill Lumsden
DESCRIPTION:Board meeting after church.
URL:https://spiritualistfirstchurchoftruth.org/event/church-potluck-board-mtg/
LOCATION:First Church of Truth
CATEGORIES:At church,On Zoom.
END:VEVENT
BEGIN:VEVENT
DTSTART;TZID=America/Detroit:20230810T120000
DTEND;TZID=America/Detroit:20230810T140000
DTSTAMP:20260425T112104
CREATED:20230728T124640Z
LAST-MODIFIED:20230728T124640Z
UID:2296-1691668800-1691676000@spiritualistfirstchurchoftruth.org
SUMMARY:Development class
DESCRIPTION:
URL:https://spiritualistfirstchurchoftruth.org/event/development-class-2/
LOCATION:Zoom
CATEGORIES:On Zoom.
END:VEVENT
BEGIN:VEVENT
DTSTART;TZID=America/Detroit:20230813T110000
DTEND;TZID=America/Detroit:20230813T123000
DTSTAMP:20260425T112104
CREATED:20230728T124726Z
LAST-MODIFIED:20230728T124726Z
UID:2298-1691924400-1691929800@spiritualistfirstchurchoftruth.org
SUMMARY:Church\, spkr Eric Webster
DESCRIPTION:
URL:https://spiritualistfirstchurchoftruth.org/event/church-spkr-eric-webster/
LOCATION:First Church of Truth
CATEGORIES:At church,On Zoom.
END:VEVENT
BEGIN:VEVENT
DTSTART;TZID=America/Detroit:20230817T120000
DTEND;TZID=America/Detroit:20230817T140000
DTSTAMP:20260425T112104
CREATED:20230728T124800Z
LAST-MODIFIED:20230728T124800Z
UID:2300-1692273600-1692280800@spiritualistfirstchurchoftruth.org
SUMMARY:Development Class
DESCRIPTION:
URL:https://spiritualistfirstchurchoftruth.org/event/development-class-3/
LOCATION:Zoom
CATEGORIES:On Zoom.
END:VEVENT
BEGIN:VEVENT
DTSTART;TZID=America/Detroit:20230820T110000
DTEND;TZID=America/Detroit:20230820T123000
DTSTAMP:20260425T112104
CREATED:20230728T124911Z
LAST-MODIFIED:20230729T223354Z
UID:2302-1692529200-1692534600@spiritualistfirstchurchoftruth.org
SUMMARY:Church with spkr John Rothwell
DESCRIPTION:
URL:https://spiritualistfirstchurchoftruth.org/event/church-with-spkr-rev-bill-lumsden/
LOCATION:First Church of Truth
CATEGORIES:At church,On Zoom.
END:VEVENT
BEGIN:VEVENT
DTSTART;TZID=America/Detroit:20230824T120000
DTEND;TZID=America/Detroit:20230824T140000
DTSTAMP:20260425T112104
CREATED:20230728T125002Z
LAST-MODIFIED:20230728T125002Z
UID:2304-1692878400-1692885600@spiritualistfirstchurchoftruth.org
SUMMARY:Development Class
DESCRIPTION:
URL:https://spiritualistfirstchurchoftruth.org/event/development-class-4/
LOCATION:Zoom
CATEGORIES:On Zoom.
END:VEVENT
BEGIN:VEVENT
DTSTART;TZID=America/Detroit:20230827T110000
DTEND;TZID=America/Detroit:20230827T123000
DTSTAMP:20260425T112104
CREATED:20230728T125056Z
LAST-MODIFIED:20230728T125241Z
UID:2306-1693134000-1693139400@spiritualistfirstchurchoftruth.org
SUMMARY:Church with spkr David Schroeder
DESCRIPTION:
URL:https://spiritualistfirstchurchoftruth.org/event/church-with-spkr-david-schroeder/
LOCATION:First Church of Truth
CATEGORIES:At church,On Zoom.
END:VEVENT
BEGIN:VEVENT
DTSTART;TZID=America/Detroit:20230831T120000
DTEND;TZID=America/Detroit:20230831T140000
DTSTAMP:20260425T112104
CREATED:20230728T125124Z
LAST-MODIFIED:20230728T125124Z
UID:2308-1693483200-1693490400@spiritualistfirstchurchoftruth.org
SUMMARY:Development Class
DESCRIPTION:
URL:https://spiritualistfirstchurchoftruth.org/event/development-class-5/
LOCATION:Zoom
CATEGORIES:On Zoom.
END:VEVENT
END:VCALENDAR