BEGIN:VCALENDAR
VERSION:2.0
PRODID:-//Spiritualist First Church of Truth - ECPv6.15.20//NONSGML v1.0//EN
CALSCALE:GREGORIAN
METHOD:PUBLISH
X-ORIGINAL-URL:https://spiritualistfirstchurchoftruth.org
X-WR-CALDESC:Events for Spiritualist First Church of Truth
REFRESH-INTERVAL;VALUE=DURATION:PT1H
X-Robots-Tag:noindex
X-PUBLISHED-TTL:PT1H
BEGIN:VTIMEZONE
TZID:America/Detroit
BEGIN:DAYLIGHT
TZOFFSETFROM:-0500
TZOFFSETTO:-0400
TZNAME:EDT
DTSTART:20220313T070000
END:DAYLIGHT
BEGIN:STANDARD
TZOFFSETFROM:-0400
TZOFFSETTO:-0500
TZNAME:EST
DTSTART:20221106T060000
END:STANDARD
BEGIN:DAYLIGHT
TZOFFSETFROM:-0500
TZOFFSETTO:-0400
TZNAME:EDT
DTSTART:20230312T070000
END:DAYLIGHT
BEGIN:STANDARD
TZOFFSETFROM:-0400
TZOFFSETTO:-0500
TZNAME:EST
DTSTART:20231105T060000
END:STANDARD
BEGIN:DAYLIGHT
TZOFFSETFROM:-0500
TZOFFSETTO:-0400
TZNAME:EDT
DTSTART:20240310T070000
END:DAYLIGHT
BEGIN:STANDARD
TZOFFSETFROM:-0400
TZOFFSETTO:-0500
TZNAME:EST
DTSTART:20241103T060000
END:STANDARD
END:VTIMEZONE
BEGIN:VEVENT
DTSTART;TZID=America/Detroit:20230702T110000
DTEND;TZID=America/Detroit:20230702T123000
DTSTAMP:20260425T125528
CREATED:20230625T170952Z
LAST-MODIFIED:20230625T170952Z
UID:2236-1688295600-1688301000@spiritualistfirstchurchoftruth.org
SUMMARY:Church with speaker Rev Bill Lumsden
DESCRIPTION:
URL:https://spiritualistfirstchurchoftruth.org/event/church-with-speaker-rev-bill-lumsden/
CATEGORIES:At church,On Zoom.
END:VEVENT
BEGIN:VEVENT
DTSTART;VALUE=DATE:20230704
DTEND;VALUE=DATE:20230705
DTSTAMP:20260425T125528
CREATED:20230625T171641Z
LAST-MODIFIED:20230625T171641Z
UID:2253-1688428800-1688515199@spiritualistfirstchurchoftruth.org
SUMMARY:July 4th Holiday in the US
DESCRIPTION:
URL:https://spiritualistfirstchurchoftruth.org/event/july-4th-holiday-in-the-us/
END:VEVENT
BEGIN:VEVENT
DTSTART;TZID=America/Detroit:20230706T120000
DTEND;TZID=America/Detroit:20230706T140000
DTSTAMP:20260425T125528
CREATED:20230625T171023Z
LAST-MODIFIED:20230625T171023Z
UID:2238-1688644800-1688652000@spiritualistfirstchurchoftruth.org
SUMMARY:Church class on zoom
DESCRIPTION:
URL:https://spiritualistfirstchurchoftruth.org/event/church-class-on-zoom/
CATEGORIES:On Zoom.
END:VEVENT
BEGIN:VEVENT
DTSTART;TZID=America/Detroit:20230709T110000
DTEND;TZID=America/Detroit:20230709T123000
DTSTAMP:20260425T125528
CREATED:20230625T170916Z
LAST-MODIFIED:20230627T153940Z
UID:2234-1688900400-1688905800@spiritualistfirstchurchoftruth.org
SUMMARY:Church with Spkr David Schroeder and Pot Luck\, Board meeting.
DESCRIPTION:
URL:https://spiritualistfirstchurchoftruth.org/event/church-with-pot-luck/
CATEGORIES:At church,On Zoom.
END:VEVENT
BEGIN:VEVENT
DTSTART;TZID=America/Detroit:20230713T120000
DTEND;TZID=America/Detroit:20230713T140000
DTSTAMP:20260425T125528
CREATED:20230625T171135Z
LAST-MODIFIED:20230625T171135Z
UID:2241-1689249600-1689256800@spiritualistfirstchurchoftruth.org
SUMMARY:Church class
DESCRIPTION:
URL:https://spiritualistfirstchurchoftruth.org/event/church-class-20/
CATEGORIES:On Zoom.
END:VEVENT
BEGIN:VEVENT
DTSTART;TZID=America/Detroit:20230716T110000
DTEND;TZID=America/Detroit:20230716T123000
DTSTAMP:20260425T125528
CREATED:20230625T171208Z
LAST-MODIFIED:20230625T171520Z
UID:2243-1689505200-1689510600@spiritualistfirstchurchoftruth.org
SUMMARY:Church with spkr Chuck Roberts
DESCRIPTION:
URL:https://spiritualistfirstchurchoftruth.org/event/church-with-spkr-chuck-roberts/
CATEGORIES:At church,On Zoom.
END:VEVENT
BEGIN:VEVENT
DTSTART;TZID=America/Detroit:20230720T120000
DTEND;TZID=America/Detroit:20230720T140000
DTSTAMP:20260425T125528
CREATED:20230625T171303Z
LAST-MODIFIED:20230625T171303Z
UID:2245-1689854400-1689861600@spiritualistfirstchurchoftruth.org
SUMMARY:Church class
DESCRIPTION:
URL:https://spiritualistfirstchurchoftruth.org/event/church-class-21/
CATEGORIES:On Zoom.
END:VEVENT
BEGIN:VEVENT
DTSTART;TZID=America/Detroit:20230723T110000
DTEND;TZID=America/Detroit:20230723T123000
DTSTAMP:20260425T125528
CREATED:20230625T171339Z
LAST-MODIFIED:20230625T171339Z
UID:2247-1690110000-1690115400@spiritualistfirstchurchoftruth.org
SUMMARY:Church with speaker Carl Franklin
DESCRIPTION:
URL:https://spiritualistfirstchurchoftruth.org/event/church-with-speaker-carl-franklin/
CATEGORIES:At church,On Zoom.
END:VEVENT
BEGIN:VEVENT
DTSTART;TZID=America/Detroit:20230727T120000
DTEND;TZID=America/Detroit:20230727T140000
DTSTAMP:20260425T125528
CREATED:20230625T171405Z
LAST-MODIFIED:20230625T171405Z
UID:2249-1690459200-1690466400@spiritualistfirstchurchoftruth.org
SUMMARY:Church class
DESCRIPTION:
URL:https://spiritualistfirstchurchoftruth.org/event/church-class-22/
CATEGORIES:On Zoom.
END:VEVENT
BEGIN:VEVENT
DTSTART;TZID=America/Detroit:20230730T110000
DTEND;TZID=America/Detroit:20230730T123000
DTSTAMP:20260425T125528
CREATED:20230625T171436Z
LAST-MODIFIED:20230625T171606Z
UID:2251-1690714800-1690720200@spiritualistfirstchurchoftruth.org
SUMMARY:Church with spkr Ortrun Franklin
DESCRIPTION:
URL:https://spiritualistfirstchurchoftruth.org/event/church-with-spkr-ortrun-franklin/
CATEGORIES:At church,On Zoom.
END:VEVENT
END:VCALENDAR