BEGIN:VCALENDAR
VERSION:2.0
PRODID:-//Spiritualist First Church of Truth - ECPv6.15.20//NONSGML v1.0//EN
CALSCALE:GREGORIAN
METHOD:PUBLISH
X-WR-CALNAME:Spiritualist First Church of Truth
X-ORIGINAL-URL:https://spiritualistfirstchurchoftruth.org
X-WR-CALDESC:Events for Spiritualist First Church of Truth
REFRESH-INTERVAL;VALUE=DURATION:PT1H
X-Robots-Tag:noindex
X-PUBLISHED-TTL:PT1H
BEGIN:VTIMEZONE
TZID:America/Detroit
BEGIN:DAYLIGHT
TZOFFSETFROM:-0500
TZOFFSETTO:-0400
TZNAME:EDT
DTSTART:20230312T070000
END:DAYLIGHT
BEGIN:STANDARD
TZOFFSETFROM:-0400
TZOFFSETTO:-0500
TZNAME:EST
DTSTART:20231105T060000
END:STANDARD
BEGIN:DAYLIGHT
TZOFFSETFROM:-0500
TZOFFSETTO:-0400
TZNAME:EDT
DTSTART:20240310T070000
END:DAYLIGHT
BEGIN:STANDARD
TZOFFSETFROM:-0400
TZOFFSETTO:-0500
TZNAME:EST
DTSTART:20241103T060000
END:STANDARD
BEGIN:DAYLIGHT
TZOFFSETFROM:-0500
TZOFFSETTO:-0400
TZNAME:EDT
DTSTART:20250309T070000
END:DAYLIGHT
BEGIN:STANDARD
TZOFFSETFROM:-0400
TZOFFSETTO:-0500
TZNAME:EST
DTSTART:20251102T060000
END:STANDARD
END:VTIMEZONE
BEGIN:VEVENT
DTSTART;TZID=America/Detroit:20241006T110000
DTEND;TZID=America/Detroit:20241006T123000
DTSTAMP:20260425T070743
CREATED:20240925T195045Z
LAST-MODIFIED:20240925T195045Z
UID:3016-1728212400-1728217800@spiritualistfirstchurchoftruth.org
SUMMARY:Church Services with Rev. Bill Lumsden
DESCRIPTION:Potluck and board meeting after service.
URL:https://spiritualistfirstchurchoftruth.org/event/church-services-with-rev-bill-lumsden-2/
CATEGORIES:At church,On Zoom.
END:VEVENT
BEGIN:VEVENT
DTSTART;TZID=America/Detroit:20240930T110000
DTEND;TZID=America/Detroit:20240930T130000
DTSTAMP:20260425T070743
CREATED:20240828T205640Z
LAST-MODIFIED:20240925T195910Z
UID:2999-1727694000-1727701200@spiritualistfirstchurchoftruth.org
SUMMARY:Development class
DESCRIPTION:
URL:https://spiritualistfirstchurchoftruth.org/event/development-class-43/
CATEGORIES:On Zoom.
END:VEVENT
BEGIN:VEVENT
DTSTART;TZID=America/Detroit:20240929T110000
DTEND;TZID=America/Detroit:20240929T123000
DTSTAMP:20260425T070743
CREATED:20240828T205555Z
LAST-MODIFIED:20240828T205555Z
UID:2997-1727607600-1727613000@spiritualistfirstchurchoftruth.org
SUMMARY:Church\, spkr Ortrun Franklin
DESCRIPTION:
URL:https://spiritualistfirstchurchoftruth.org/event/church-spkr-ortrun-franklin-2/
CATEGORIES:At church,On Zoom.
END:VEVENT
BEGIN:VEVENT
DTSTART;TZID=America/Detroit:20240923T110000
DTEND;TZID=America/Detroit:20240923T130000
DTSTAMP:20260425T070743
CREATED:20240828T205425Z
LAST-MODIFIED:20240828T205425Z
UID:2992-1727089200-1727096400@spiritualistfirstchurchoftruth.org
SUMMARY:Development class
DESCRIPTION:
URL:https://spiritualistfirstchurchoftruth.org/event/development-class-42/
CATEGORIES:On Zoom.
END:VEVENT
BEGIN:VEVENT
DTSTART;TZID=America/Detroit:20240922T110000
DTEND;TZID=America/Detroit:20240922T123000
DTSTAMP:20260425T070743
CREATED:20240828T205245Z
LAST-MODIFIED:20240828T205245Z
UID:2988-1727002800-1727008200@spiritualistfirstchurchoftruth.org
SUMMARY:Church\, spkr Carl Franklin
DESCRIPTION:
URL:https://spiritualistfirstchurchoftruth.org/event/church-spkr-carl-franklin-2/
CATEGORIES:At church,On Zoom.
END:VEVENT
BEGIN:VEVENT
DTSTART;TZID=America/Detroit:20240916T110000
DTEND;TZID=America/Detroit:20240916T130000
DTSTAMP:20260425T070743
CREATED:20240828T204848Z
LAST-MODIFIED:20240828T204848Z
UID:2983-1726484400-1726491600@spiritualistfirstchurchoftruth.org
SUMMARY:Development class
DESCRIPTION:
URL:https://spiritualistfirstchurchoftruth.org/event/development-class-41/
LOCATION:Zoom
CATEGORIES:On Zoom.
END:VEVENT
BEGIN:VEVENT
DTSTART;TZID=America/Detroit:20240915T110000
DTEND;TZID=America/Detroit:20240915T123000
DTSTAMP:20260425T070743
CREATED:20240828T205339Z
LAST-MODIFIED:20240828T205339Z
UID:2990-1726398000-1726403400@spiritualistfirstchurchoftruth.org
SUMMARY:Church and ISA quarterly
DESCRIPTION:
URL:https://spiritualistfirstchurchoftruth.org/event/church-and-isa-quarterly/
CATEGORIES:At church,On Zoom.
END:VEVENT
BEGIN:VEVENT
DTSTART;TZID=America/Detroit:20240914T080000
DTEND;TZID=America/Detroit:20240914T170000
DTSTAMP:20260425T070743
CREATED:20240828T205507Z
LAST-MODIFIED:20240828T205507Z
UID:2994-1726300800-1726333200@spiritualistfirstchurchoftruth.org
SUMMARY:ISA quarterly
DESCRIPTION:
URL:https://spiritualistfirstchurchoftruth.org/event/isa-quarterly-2/
CATEGORIES:At church
END:VEVENT
BEGIN:VEVENT
DTSTART;TZID=America/Detroit:20240913T180000
DTEND;TZID=America/Detroit:20240913T200000
DTSTAMP:20260425T070743
CREATED:20240828T204622Z
LAST-MODIFIED:20240828T204622Z
UID:2975-1726250400-1726257600@spiritualistfirstchurchoftruth.org
SUMMARY:ISA quarterly begins
DESCRIPTION:At church.
URL:https://spiritualistfirstchurchoftruth.org/event/isa-quarterly-begins/
CATEGORIES:At church
END:VEVENT
BEGIN:VEVENT
DTSTART;TZID=America/Detroit:20240909T080000
DTEND;TZID=America/Detroit:20240909T170000
DTSTAMP:20260425T070743
CREATED:20240828T204818Z
LAST-MODIFIED:20240828T204818Z
UID:2981-1725868800-1725901200@spiritualistfirstchurchoftruth.org
SUMMARY:No development class
DESCRIPTION:
URL:https://spiritualistfirstchurchoftruth.org/event/no-development-class-2/
END:VEVENT
BEGIN:VEVENT
DTSTART;TZID=America/Detroit:20240908T110000
DTEND;TZID=America/Detroit:20240908T123000
DTSTAMP:20260425T070743
CREATED:20240828T205150Z
LAST-MODIFIED:20240828T205150Z
UID:2986-1725793200-1725798600@spiritualistfirstchurchoftruth.org
SUMMARY:Church Services\, spkr Chuck Roberts
DESCRIPTION:
URL:https://spiritualistfirstchurchoftruth.org/event/church-services-spkr-chuck-roberts/
CATEGORIES:At church,On Zoom.
END:VEVENT
BEGIN:VEVENT
DTSTART;TZID=America/Detroit:20240902T080000
DTEND;TZID=America/Detroit:20240902T170000
DTSTAMP:20260425T070743
CREATED:20240828T204757Z
LAST-MODIFIED:20240828T204757Z
UID:2979-1725264000-1725296400@spiritualistfirstchurchoftruth.org
SUMMARY:No development class
DESCRIPTION:
URL:https://spiritualistfirstchurchoftruth.org/event/no-development-class/
END:VEVENT
BEGIN:VEVENT
DTSTART;TZID=America/Detroit:20240901T110000
DTEND;TZID=America/Detroit:20240901T123000
DTSTAMP:20260425T070743
CREATED:20240828T204456Z
LAST-MODIFIED:20240828T204456Z
UID:2973-1725188400-1725193800@spiritualistfirstchurchoftruth.org
SUMMARY:Services\, Speaker Rev Bill Lumsden
DESCRIPTION:
URL:https://spiritualistfirstchurchoftruth.org/event/services-speaker-rev-bill-lumsden/
CATEGORIES:At church,On Zoom.
END:VEVENT
BEGIN:VEVENT
DTSTART;TZID=America/Detroit:20240828T110000
DTEND;TZID=America/Detroit:20240828T123000
DTSTAMP:20260425T070743
CREATED:20240828T204721Z
LAST-MODIFIED:20240828T204721Z
UID:2977-1724842800-1724848200@spiritualistfirstchurchoftruth.org
SUMMARY:ISA quarterly last day\, Spkr Chuck Roberts
DESCRIPTION:Church services is at normal time of 11am EST.
URL:https://spiritualistfirstchurchoftruth.org/event/isa-quarterly-last-day-spkr-chuck-roberts/
CATEGORIES:At church,On Zoom.
END:VEVENT
BEGIN:VEVENT
DTSTART;VALUE=DATE:20240826
DTEND;VALUE=DATE:20240827
DTSTAMP:20260425T070743
CREATED:20240731T084044Z
LAST-MODIFIED:20240731T084044Z
UID:2948-1724630400-1724716799@spiritualistfirstchurchoftruth.org
SUMMARY:NO DEV CLASS
DESCRIPTION:Class resumes Sep 16.
URL:https://spiritualistfirstchurchoftruth.org/event/no-dev-class-4/
END:VEVENT
BEGIN:VEVENT
DTSTART;TZID=America/Detroit:20240825T110000
DTEND;TZID=America/Detroit:20240825T123000
DTSTAMP:20260425T070743
CREATED:20240731T084001Z
LAST-MODIFIED:20240731T084010Z
UID:2945-1724583600-1724589000@spiritualistfirstchurchoftruth.org
SUMMARY:Church Services with famous speaker David Schroeder
DESCRIPTION:
URL:https://spiritualistfirstchurchoftruth.org/event/church-services-with-famouse-speaker-david-schroeder/
CATEGORIES:At church,On Zoom.
END:VEVENT
BEGIN:VEVENT
DTSTART;VALUE=DATE:20240819
DTEND;VALUE=DATE:20240820
DTSTAMP:20260425T070743
CREATED:20240731T083851Z
LAST-MODIFIED:20240731T083851Z
UID:2943-1724025600-1724111999@spiritualistfirstchurchoftruth.org
SUMMARY:NO DEV CLASS
DESCRIPTION:Classes resume Sep 16.
URL:https://spiritualistfirstchurchoftruth.org/event/no-dev-class-3/
END:VEVENT
BEGIN:VEVENT
DTSTART;TZID=America/Detroit:20240818T110000
DTEND;TZID=America/Detroit:20240818T123000
DTSTAMP:20260425T070743
CREATED:20240731T083822Z
LAST-MODIFIED:20240731T083822Z
UID:2941-1723978800-1723984200@spiritualistfirstchurchoftruth.org
SUMMARY:Church Services with Eric Webster
DESCRIPTION:
URL:https://spiritualistfirstchurchoftruth.org/event/church-services-with-eric-webster/
CATEGORIES:At church,On Zoom.
END:VEVENT
BEGIN:VEVENT
DTSTART;VALUE=DATE:20240812
DTEND;VALUE=DATE:20240813
DTSTAMP:20260425T070743
CREATED:20240731T083747Z
LAST-MODIFIED:20240731T083747Z
UID:2939-1723420800-1723507199@spiritualistfirstchurchoftruth.org
SUMMARY:NO DEV CLASS
DESCRIPTION:Class resumes Sep 16
URL:https://spiritualistfirstchurchoftruth.org/event/no-dev-class-2/
END:VEVENT
BEGIN:VEVENT
DTSTART;TZID=America/Detroit:20240811T110000
DTEND;TZID=America/Detroit:20240811T123000
DTSTAMP:20260425T070743
CREATED:20240731T083647Z
LAST-MODIFIED:20240731T083647Z
UID:2937-1723374000-1723379400@spiritualistfirstchurchoftruth.org
SUMMARY:Church Services with Michael Joy Stauffer
DESCRIPTION:Board meeting and healing circle after services.
URL:https://spiritualistfirstchurchoftruth.org/event/church-services-with-michael-joy-stauffer/
CATEGORIES:At church,On Zoom.
END:VEVENT
BEGIN:VEVENT
DTSTART;VALUE=DATE:20240805
DTEND;VALUE=DATE:20240806
DTSTAMP:20260425T070743
CREATED:20240731T083603Z
LAST-MODIFIED:20240731T083715Z
UID:2935-1722816000-1722902399@spiritualistfirstchurchoftruth.org
SUMMARY:NO DEV CLASS
DESCRIPTION:Classes resume Sep 16.
URL:https://spiritualistfirstchurchoftruth.org/event/no-dev-class/
END:VEVENT
BEGIN:VEVENT
DTSTART;TZID=America/Detroit:20240804T110000
DTEND;TZID=America/Detroit:20240804T123000
DTSTAMP:20260425T070743
CREATED:20240731T083534Z
LAST-MODIFIED:20240731T083534Z
UID:2933-1722769200-1722774600@spiritualistfirstchurchoftruth.org
SUMMARY:Church Services with Rev Bill Lumsden
DESCRIPTION:Potluck after services
URL:https://spiritualistfirstchurchoftruth.org/event/church-services-with-rev-bill-lumsden/
LOCATION:First Church of Truth
CATEGORIES:At church,On Zoom.
END:VEVENT
BEGIN:VEVENT
DTSTART;TZID=America/Detroit:20240729T110000
DTEND;TZID=America/Detroit:20240729T130000
DTSTAMP:20260425T070743
CREATED:20240626T201516Z
LAST-MODIFIED:20240626T201516Z
UID:2904-1722250800-1722258000@spiritualistfirstchurchoftruth.org
SUMMARY:Development Class
DESCRIPTION:
URL:https://spiritualistfirstchurchoftruth.org/event/development-class-40/
LOCATION:Zoom
CATEGORIES:On Zoom.
END:VEVENT
BEGIN:VEVENT
DTSTART;TZID=America/Detroit:20240728T110000
DTEND;TZID=America/Detroit:20240728T123000
DTSTAMP:20260425T070743
CREATED:20240626T201444Z
LAST-MODIFIED:20240626T201444Z
UID:2902-1722164400-1722169800@spiritualistfirstchurchoftruth.org
SUMMARY:Church with speaker David Schroeder.
DESCRIPTION:
URL:https://spiritualistfirstchurchoftruth.org/event/church-with-speaker-david-schroeder-4/
LOCATION:First Church of Truth
CATEGORIES:At church,On Zoom.
END:VEVENT
BEGIN:VEVENT
DTSTART;TZID=America/Detroit:20240722T110000
DTEND;TZID=America/Detroit:20240722T130000
DTSTAMP:20260425T070743
CREATED:20240626T201359Z
LAST-MODIFIED:20240626T201359Z
UID:2900-1721646000-1721653200@spiritualistfirstchurchoftruth.org
SUMMARY:Development class
DESCRIPTION:
URL:https://spiritualistfirstchurchoftruth.org/event/development-class-39/
LOCATION:Zoom
CATEGORIES:On Zoom.
END:VEVENT
BEGIN:VEVENT
DTSTART;TZID=America/Detroit:20240721T110000
DTEND;TZID=America/Detroit:20240721T123000
DTSTAMP:20260425T070743
CREATED:20240626T201318Z
LAST-MODIFIED:20240626T201318Z
UID:2898-1721559600-1721565000@spiritualistfirstchurchoftruth.org
SUMMARY:Church with Ortrun Franklin
DESCRIPTION:
URL:https://spiritualistfirstchurchoftruth.org/event/church-with-ortrun-franklin-6/
LOCATION:First Church of Truth
CATEGORIES:At church,On Zoom.
END:VEVENT
BEGIN:VEVENT
DTSTART;TZID=America/Detroit:20240715T110000
DTEND;TZID=America/Detroit:20240715T130000
DTSTAMP:20260425T070743
CREATED:20240626T201158Z
LAST-MODIFIED:20240626T201158Z
UID:2896-1721041200-1721048400@spiritualistfirstchurchoftruth.org
SUMMARY:Development class
DESCRIPTION:
URL:https://spiritualistfirstchurchoftruth.org/event/development-class-38/
LOCATION:Zoom
CATEGORIES:On Zoom.
END:VEVENT
BEGIN:VEVENT
DTSTART;TZID=America/Detroit:20240714T110000
DTEND;TZID=America/Detroit:20240714T123000
DTSTAMP:20260425T070743
CREATED:20240626T201125Z
LAST-MODIFIED:20240626T201125Z
UID:2894-1720954800-1720960200@spiritualistfirstchurchoftruth.org
SUMMARY:Church with speaker Carl Franklin
DESCRIPTION:
URL:https://spiritualistfirstchurchoftruth.org/event/church-with-speaker-carl-franklin-3/
CATEGORIES:At church,On Zoom.
END:VEVENT
BEGIN:VEVENT
DTSTART;TZID=America/Detroit:20240708T110000
DTEND;TZID=America/Detroit:20240708T130000
DTSTAMP:20260425T070743
CREATED:20240626T201044Z
LAST-MODIFIED:20240626T201044Z
UID:2892-1720436400-1720443600@spiritualistfirstchurchoftruth.org
SUMMARY:Development class
DESCRIPTION:
URL:https://spiritualistfirstchurchoftruth.org/event/development-class-37/
LOCATION:Zoom
CATEGORIES:On Zoom.
END:VEVENT
BEGIN:VEVENT
DTSTART;TZID=America/Detroit:20240707T110000
DTEND;TZID=America/Detroit:20240707T123000
DTSTAMP:20260425T070743
CREATED:20240626T201010Z
LAST-MODIFIED:20240626T201010Z
UID:2890-1720350000-1720355400@spiritualistfirstchurchoftruth.org
SUMMARY:Church with speaker Chuck Roberts!
DESCRIPTION:Potluck and board meeting after church.
URL:https://spiritualistfirstchurchoftruth.org/event/church-with-speaker-chuck-roberts/
LOCATION:First Church of Truth
CATEGORIES:At church,On Zoom.
END:VEVENT
END:VCALENDAR