BEGIN:VCALENDAR
VERSION:2.0
PRODID:-//Spiritualist First Church of Truth - ECPv6.15.20//NONSGML v1.0//EN
CALSCALE:GREGORIAN
METHOD:PUBLISH
X-WR-CALNAME:Spiritualist First Church of Truth
X-ORIGINAL-URL:https://spiritualistfirstchurchoftruth.org
X-WR-CALDESC:Events for Spiritualist First Church of Truth
REFRESH-INTERVAL;VALUE=DURATION:PT1H
X-Robots-Tag:noindex
X-PUBLISHED-TTL:PT1H
BEGIN:VTIMEZONE
TZID:America/Detroit
BEGIN:DAYLIGHT
TZOFFSETFROM:-0500
TZOFFSETTO:-0400
TZNAME:EDT
DTSTART:20230312T070000
END:DAYLIGHT
BEGIN:STANDARD
TZOFFSETFROM:-0400
TZOFFSETTO:-0500
TZNAME:EST
DTSTART:20231105T060000
END:STANDARD
BEGIN:DAYLIGHT
TZOFFSETFROM:-0500
TZOFFSETTO:-0400
TZNAME:EDT
DTSTART:20240310T070000
END:DAYLIGHT
BEGIN:STANDARD
TZOFFSETFROM:-0400
TZOFFSETTO:-0500
TZNAME:EST
DTSTART:20241103T060000
END:STANDARD
BEGIN:DAYLIGHT
TZOFFSETFROM:-0500
TZOFFSETTO:-0400
TZNAME:EDT
DTSTART:20250309T070000
END:DAYLIGHT
BEGIN:STANDARD
TZOFFSETFROM:-0400
TZOFFSETTO:-0500
TZNAME:EST
DTSTART:20251102T060000
END:STANDARD
BEGIN:DAYLIGHT
TZOFFSETFROM:-0500
TZOFFSETTO:-0400
TZNAME:EDT
DTSTART:20260308T070000
END:DAYLIGHT
BEGIN:STANDARD
TZOFFSETFROM:-0400
TZOFFSETTO:-0500
TZNAME:EST
DTSTART:20261101T060000
END:STANDARD
END:VTIMEZONE
BEGIN:VEVENT
DTSTART;TZID=America/Detroit:20250203T110000
DTEND;TZID=America/Detroit:20250203T130000
DTSTAMP:20260424T080834
CREATED:20250113T143055Z
LAST-MODIFIED:20250113T143147Z
UID:3250-1738580400-1738587600@spiritualistfirstchurchoftruth.org
SUMMARY:Development class
DESCRIPTION:
URL:https://spiritualistfirstchurchoftruth.org/event/development-class-58/
CATEGORIES:On Zoom.
END:VEVENT
BEGIN:VEVENT
DTSTART;TZID=America/Detroit:20250202T123000
DTEND;TZID=America/Detroit:20250202T133000
DTSTAMP:20260424T080834
CREATED:20241226T143706Z
LAST-MODIFIED:20241226T143706Z
UID:3172-1738499400-1738503000@spiritualistfirstchurchoftruth.org
SUMMARY:Potluck and board meeting after services
DESCRIPTION:
URL:https://spiritualistfirstchurchoftruth.org/event/potluck-and-board-meeting-after-services-2/
LOCATION:First Church of Truth
END:VEVENT
BEGIN:VEVENT
DTSTART;TZID=America/Detroit:20250202T110000
DTEND;TZID=America/Detroit:20250202T123000
DTSTAMP:20260424T080834
CREATED:20250113T142947Z
LAST-MODIFIED:20250131T192954Z
UID:3246-1738494000-1738499400@spiritualistfirstchurchoftruth.org
SUMMARY:Church Services\, Rev Bill Lumsden speaks.
DESCRIPTION:
URL:https://spiritualistfirstchurchoftruth.org/event/church-services/
LOCATION:First Church of Truth
CATEGORIES:At church,On Zoom.
END:VEVENT
BEGIN:VEVENT
DTSTART;TZID=America/Detroit:20250202T100000
DTEND;TZID=America/Detroit:20250202T110000
DTSTAMP:20260424T080834
CREATED:20250113T141746Z
LAST-MODIFIED:20250113T141746Z
UID:3244-1738490400-1738494000@spiritualistfirstchurchoftruth.org
SUMMARY:Schroeder channeling before church
DESCRIPTION:Channeling is 10am-10:45am. But on this calendar we only have half hour increments to choose from.
URL:https://spiritualistfirstchurchoftruth.org/event/schroeder-channeling-before-church/
LOCATION:First Church of Truth
CATEGORIES:At church
END:VEVENT
BEGIN:VEVENT
DTSTART;TZID=America/Detroit:20250127T110000
DTEND;TZID=America/Detroit:20250127T130000
DTSTAMP:20260424T080834
CREATED:20241227T230108Z
LAST-MODIFIED:20241227T230108Z
UID:3203-1737975600-1737982800@spiritualistfirstchurchoftruth.org
SUMMARY:Development class
DESCRIPTION:Zoom only. ZOOM: ID: 616 443 7361 PASSWORD: Spirit
URL:https://spiritualistfirstchurchoftruth.org/event/development-class-57/
LOCATION:Zoom
CATEGORIES:On Zoom.
END:VEVENT
BEGIN:VEVENT
DTSTART;TZID=America/Detroit:20250126T110000
DTEND;TZID=America/Detroit:20250126T123000
DTSTAMP:20260424T080834
CREATED:20241227T230014Z
LAST-MODIFIED:20241227T230014Z
UID:3201-1737889200-1737894600@spiritualistfirstchurchoftruth.org
SUMMARY:Church Services with speaker Terese Schroeder
DESCRIPTION:
URL:https://spiritualistfirstchurchoftruth.org/event/church-services-with-speaker-terese-schroeder/
LOCATION:First Church of Truth
CATEGORIES:At church,On Zoom.
END:VEVENT
BEGIN:VEVENT
DTSTART;TZID=America/Detroit:20250123T193000
DTEND;TZID=America/Detroit:20250123T210000
DTSTAMP:20260424T080834
CREATED:20250113T141633Z
LAST-MODIFIED:20250113T141633Z
UID:3242-1737660600-1737666000@spiritualistfirstchurchoftruth.org
SUMMARY:Creating Resilience in Changing Times
DESCRIPTION:Zoom Event by David & Terese Schroeder\nThurs Jan 23\, 2025\n7:30 – 9:00 PM EST\n\nAre you struggling with the current accelerated and intense changes that are occurring in your own life and around the world?\n\nFee: $20.00 Payable thru Venmo: @David-schroeder-191 or Cashapp: $TransitionPathways
URL:https://spiritualistfirstchurchoftruth.org/event/creating-resilience-in-changing-times/
CATEGORIES:On Zoom.
END:VEVENT
BEGIN:VEVENT
DTSTART;TZID=America/Detroit:20250120T110000
DTEND;TZID=America/Detroit:20250120T123000
DTSTAMP:20260424T080834
CREATED:20241227T225923Z
LAST-MODIFIED:20241227T225923Z
UID:3199-1737370800-1737376200@spiritualistfirstchurchoftruth.org
SUMMARY:Development Class
DESCRIPTION:Zoom only. ZOOM: ID: 616 443 7361 PASSWORD: Spirit
URL:https://spiritualistfirstchurchoftruth.org/event/development-class-56/
LOCATION:Zoom
CATEGORIES:On Zoom.
END:VEVENT
BEGIN:VEVENT
DTSTART;TZID=America/Detroit:20250119T110000
DTEND;TZID=America/Detroit:20250119T123000
DTSTAMP:20260424T080834
CREATED:20241227T225829Z
LAST-MODIFIED:20241227T225829Z
UID:3197-1737284400-1737289800@spiritualistfirstchurchoftruth.org
SUMMARY:Church Services with speaker David Schroeder
DESCRIPTION:
URL:https://spiritualistfirstchurchoftruth.org/event/church-services-with-speaker-david-schroeder-2/
LOCATION:First Church of Truth
CATEGORIES:At church,On Zoom.
END:VEVENT
BEGIN:VEVENT
DTSTART;TZID=America/Detroit:20250113T190000
DTEND;TZID=America/Detroit:20250113T200000
DTSTAMP:20260424T080834
CREATED:20241227T225733Z
LAST-MODIFIED:20241227T225733Z
UID:3195-1736794800-1736798400@spiritualistfirstchurchoftruth.org
SUMMARY:Full moon ceremony at church only
DESCRIPTION:No zoom.
URL:https://spiritualistfirstchurchoftruth.org/event/full-moon-ceremony-at-church-only/
LOCATION:First Church of Truth
CATEGORIES:At church
END:VEVENT
BEGIN:VEVENT
DTSTART;TZID=America/Detroit:20250113T110000
DTEND;TZID=America/Detroit:20250113T130000
DTSTAMP:20260424T080834
CREATED:20241227T225653Z
LAST-MODIFIED:20241227T225653Z
UID:3193-1736766000-1736773200@spiritualistfirstchurchoftruth.org
SUMMARY:Development class
DESCRIPTION:Zoom only. ZOOM: ID: 616 443 7361 PASSWORD: Spirit
URL:https://spiritualistfirstchurchoftruth.org/event/development-class-55/
LOCATION:Zoom
CATEGORIES:On Zoom.
END:VEVENT
BEGIN:VEVENT
DTSTART;TZID=America/Detroit:20250112T123000
DTEND;TZID=America/Detroit:20250112T133000
DTSTAMP:20260424T080834
CREATED:20241226T143322Z
LAST-MODIFIED:20241226T143322Z
UID:3166-1736685000-1736688600@spiritualistfirstchurchoftruth.org
SUMMARY:Healing Circle after services
DESCRIPTION:
URL:https://spiritualistfirstchurchoftruth.org/event/healing-circle-after-services/
CATEGORIES:At church
END:VEVENT
BEGIN:VEVENT
DTSTART;TZID=America/Detroit:20250112T110000
DTEND;TZID=America/Detroit:20250112T123000
DTSTAMP:20260424T080834
CREATED:20241227T225609Z
LAST-MODIFIED:20241227T225609Z
UID:3191-1736679600-1736685000@spiritualistfirstchurchoftruth.org
SUMMARY:Services with speaker Michael Joy Stauffer
DESCRIPTION:
URL:https://spiritualistfirstchurchoftruth.org/event/services-with-speaker-michael-joy-stauffer/
LOCATION:First Church of Truth
CATEGORIES:At church,On Zoom.
END:VEVENT
BEGIN:VEVENT
DTSTART;TZID=America/Detroit:20250106T110000
DTEND;TZID=America/Detroit:20250106T123000
DTSTAMP:20260424T080834
CREATED:20241227T225523Z
LAST-MODIFIED:20241227T225523Z
UID:3189-1736161200-1736166600@spiritualistfirstchurchoftruth.org
SUMMARY:Development class
DESCRIPTION:ZOOM: ID: 616 443 7361 PASSWORD: Spirit
URL:https://spiritualistfirstchurchoftruth.org/event/development-class-54/
LOCATION:Zoom
CATEGORIES:On Zoom.
END:VEVENT
BEGIN:VEVENT
DTSTART;TZID=America/Detroit:20250105T123000
DTEND;TZID=America/Detroit:20250105T133000
DTSTAMP:20260424T080834
CREATED:20241226T143459Z
LAST-MODIFIED:20241227T211356Z
UID:3168-1736080200-1736083800@spiritualistfirstchurchoftruth.org
SUMMARY:Board meeting after services. NO POTLUCK.
DESCRIPTION:
URL:https://spiritualistfirstchurchoftruth.org/event/potluck-and-board-meeting-after-services/
LOCATION:First Church of Truth
CATEGORIES:At church
END:VEVENT
BEGIN:VEVENT
DTSTART;TZID=America/Detroit:20250105T110000
DTEND;TZID=America/Detroit:20250105T123000
DTSTAMP:20260424T080834
CREATED:20241227T225423Z
LAST-MODIFIED:20241227T225423Z
UID:3187-1736074800-1736080200@spiritualistfirstchurchoftruth.org
SUMMARY:Services with speaker Rev Bill Lumsden
DESCRIPTION:
URL:https://spiritualistfirstchurchoftruth.org/event/services-with-speaker-rev-bill-lumsden/
LOCATION:First Church of Truth
CATEGORIES:At church,On Zoom.
END:VEVENT
BEGIN:VEVENT
DTSTART;TZID=America/Detroit:20241229T110000
DTEND;TZID=America/Detroit:20241229T123000
DTSTAMP:20260424T080834
CREATED:20241130T163856Z
LAST-MODIFIED:20241130T163856Z
UID:3130-1735470000-1735475400@spiritualistfirstchurchoftruth.org
SUMMARY:Church Services with spkr Ortrun Franklin
DESCRIPTION:
URL:https://spiritualistfirstchurchoftruth.org/event/church-services-with-spkr-ortrun-franklin/
CATEGORIES:At church,On Zoom.
END:VEVENT
BEGIN:VEVENT
DTSTART;VALUE=DATE:20241225
DTEND;VALUE=DATE:20241226
DTSTAMP:20260424T080834
CREATED:20241130T163826Z
LAST-MODIFIED:20241130T163826Z
UID:3128-1735084800-1735171199@spiritualistfirstchurchoftruth.org
SUMMARY:Christmas Day
DESCRIPTION:
URL:https://spiritualistfirstchurchoftruth.org/event/christmas-day-2/
END:VEVENT
BEGIN:VEVENT
DTSTART;VALUE=DATE:20241225
DTEND;VALUE=DATE:20241226
DTSTAMP:20260424T080834
CREATED:20241031T085805Z
LAST-MODIFIED:20241031T085805Z
UID:3085-1735084800-1735171199@spiritualistfirstchurchoftruth.org
SUMMARY:Christmas day
DESCRIPTION:
URL:https://spiritualistfirstchurchoftruth.org/event/christmas-day/
END:VEVENT
BEGIN:VEVENT
DTSTART;TZID=America/Detroit:20241222T110000
DTEND;TZID=America/Detroit:20241222T123000
DTSTAMP:20260424T080834
CREATED:20241130T163802Z
LAST-MODIFIED:20241205T215417Z
UID:3126-1734865200-1734870600@spiritualistfirstchurchoftruth.org
SUMMARY:Church with spkr David Schroeder
DESCRIPTION:Normal service at church and on zoom.
URL:https://spiritualistfirstchurchoftruth.org/event/church-with-spkr-eric-webster/
CATEGORIES:At church,On Zoom.
END:VEVENT
BEGIN:VEVENT
DTSTART;TZID=America/Detroit:20241216T110000
DTEND;TZID=America/Detroit:20241216T130000
DTSTAMP:20260424T080834
CREATED:20241130T163731Z
LAST-MODIFIED:20241130T163731Z
UID:3124-1734346800-1734354000@spiritualistfirstchurchoftruth.org
SUMMARY:Development Class Online
DESCRIPTION:
URL:https://spiritualistfirstchurchoftruth.org/event/development-class-online/
CATEGORIES:On Zoom.
END:VEVENT
BEGIN:VEVENT
DTSTART;TZID=America/Detroit:20241215T110000
DTEND;TZID=America/Detroit:20241215T123000
DTSTAMP:20260424T080834
CREATED:20241130T163708Z
LAST-MODIFIED:20241205T215436Z
UID:3122-1734260400-1734265800@spiritualistfirstchurchoftruth.org
SUMMARY:Church with spkr Eric Webster
DESCRIPTION:
URL:https://spiritualistfirstchurchoftruth.org/event/church-with-spkr-david-schroeder-2/
CATEGORIES:At church,On Zoom.
END:VEVENT
BEGIN:VEVENT
DTSTART;VALUE=DATE:20241215
DTEND;VALUE=DATE:20241216
DTSTAMP:20260424T080834
CREATED:20241202T094304Z
LAST-MODIFIED:20241202T174943Z
UID:3136-1734220800-1734307199@spiritualistfirstchurchoftruth.org
SUMMARY:ISA Quarterly Day 2
DESCRIPTION:Normal service at church and on Zoom.
URL:https://spiritualistfirstchurchoftruth.org/event/isa-quarterly-day-2/
CATEGORIES:On Zoom.
END:VEVENT
BEGIN:VEVENT
DTSTART;VALUE=DATE:20241214
DTEND;VALUE=DATE:20241215
DTSTAMP:20260424T080834
CREATED:20241202T094246Z
LAST-MODIFIED:20241202T094246Z
UID:3134-1734134400-1734220799@spiritualistfirstchurchoftruth.org
SUMMARY:ISA Quarterly
DESCRIPTION:
URL:https://spiritualistfirstchurchoftruth.org/event/isa-quarterly-3/
CATEGORIES:On Zoom.
END:VEVENT
BEGIN:VEVENT
DTSTART;TZID=America/Detroit:20241209T110000
DTEND;TZID=America/Detroit:20241209T130000
DTSTAMP:20260424T080834
CREATED:20241130T163643Z
LAST-MODIFIED:20241130T163643Z
UID:3120-1733742000-1733749200@spiritualistfirstchurchoftruth.org
SUMMARY:Development Class
DESCRIPTION:
URL:https://spiritualistfirstchurchoftruth.org/event/development-class-53/
CATEGORIES:On Zoom.
END:VEVENT
BEGIN:VEVENT
DTSTART;TZID=America/Detroit:20241208T110000
DTEND;TZID=America/Detroit:20241208T123000
DTSTAMP:20260424T080834
CREATED:20241130T163619Z
LAST-MODIFIED:20241130T163619Z
UID:3118-1733655600-1733661000@spiritualistfirstchurchoftruth.org
SUMMARY:Church with spkr Carl Franklin
DESCRIPTION:
URL:https://spiritualistfirstchurchoftruth.org/event/church-with-spkr-carl-franklin/
CATEGORIES:At church,On Zoom.
END:VEVENT
BEGIN:VEVENT
DTSTART;TZID=America/Detroit:20241202T110000
DTEND;TZID=America/Detroit:20241202T130000
DTSTAMP:20260424T080834
CREATED:20241130T163145Z
LAST-MODIFIED:20241130T163145Z
UID:3116-1733137200-1733144400@spiritualistfirstchurchoftruth.org
SUMMARY:Development Class
DESCRIPTION:
URL:https://spiritualistfirstchurchoftruth.org/event/development-class-52/
CATEGORIES:On Zoom.
END:VEVENT
BEGIN:VEVENT
DTSTART;TZID=America/Detroit:20241201T110000
DTEND;TZID=America/Detroit:20241201T123000
DTSTAMP:20260424T080834
CREATED:20241130T163121Z
LAST-MODIFIED:20241130T163121Z
UID:3114-1733050800-1733056200@spiritualistfirstchurchoftruth.org
SUMMARY:Church Service with Rev Bill Lumsden
DESCRIPTION:And potluck followed by board meeting.
URL:https://spiritualistfirstchurchoftruth.org/event/church-service-with-rev-bill-lumsden/
CATEGORIES:At church,On Zoom.
END:VEVENT
BEGIN:VEVENT
DTSTART;VALUE=DATE:20241128
DTEND;VALUE=DATE:20241129
DTSTAMP:20260424T080834
CREATED:20241031T085714Z
LAST-MODIFIED:20241031T085714Z
UID:3083-1732752000-1732838399@spiritualistfirstchurchoftruth.org
SUMMARY:Thanksgiving Day
DESCRIPTION:US national holiday.
URL:https://spiritualistfirstchurchoftruth.org/event/thanksgiving-day/
END:VEVENT
BEGIN:VEVENT
DTSTART;TZID=America/Detroit:20241125T110000
DTEND;TZID=America/Detroit:20241125T130000
DTSTAMP:20260424T080834
CREATED:20241031T085643Z
LAST-MODIFIED:20241031T085643Z
UID:3081-1732532400-1732539600@spiritualistfirstchurchoftruth.org
SUMMARY:Development class
DESCRIPTION:
URL:https://spiritualistfirstchurchoftruth.org/event/development-class-51/
LOCATION:Zoom
CATEGORIES:On Zoom.
END:VEVENT
END:VCALENDAR