BEGIN:VCALENDAR
VERSION:2.0
PRODID:-//Spiritualist First Church of Truth - ECPv6.15.20//NONSGML v1.0//EN
CALSCALE:GREGORIAN
METHOD:PUBLISH
X-WR-CALNAME:Spiritualist First Church of Truth
X-ORIGINAL-URL:https://spiritualistfirstchurchoftruth.org
X-WR-CALDESC:Events for Spiritualist First Church of Truth
REFRESH-INTERVAL;VALUE=DURATION:PT1H
X-Robots-Tag:noindex
X-PUBLISHED-TTL:PT1H
BEGIN:VTIMEZONE
TZID:America/Detroit
BEGIN:DAYLIGHT
TZOFFSETFROM:-0500
TZOFFSETTO:-0400
TZNAME:EDT
DTSTART:20240310T070000
END:DAYLIGHT
BEGIN:STANDARD
TZOFFSETFROM:-0400
TZOFFSETTO:-0500
TZNAME:EST
DTSTART:20241103T060000
END:STANDARD
BEGIN:DAYLIGHT
TZOFFSETFROM:-0500
TZOFFSETTO:-0400
TZNAME:EDT
DTSTART:20250309T070000
END:DAYLIGHT
BEGIN:STANDARD
TZOFFSETFROM:-0400
TZOFFSETTO:-0500
TZNAME:EST
DTSTART:20251102T060000
END:STANDARD
BEGIN:DAYLIGHT
TZOFFSETFROM:-0500
TZOFFSETTO:-0400
TZNAME:EDT
DTSTART:20260308T070000
END:DAYLIGHT
BEGIN:STANDARD
TZOFFSETFROM:-0400
TZOFFSETTO:-0500
TZNAME:EST
DTSTART:20261101T060000
END:STANDARD
END:VTIMEZONE
BEGIN:VEVENT
DTSTART;TZID=America/Detroit:20250913T090000
DTEND;TZID=America/Detroit:20250913T203000
DTSTAMP:20260423T202630
CREATED:20250830T105224Z
LAST-MODIFIED:20250830T105254Z
UID:3852-1757754000-1757795400@spiritualistfirstchurchoftruth.org
SUMMARY:ISA Quarterly Convention
DESCRIPTION:
URL:https://spiritualistfirstchurchoftruth.org/event/isa-quarterly-convention/
END:VEVENT
BEGIN:VEVENT
DTSTART;TZID=America/Detroit:20250912T130000
DTEND;TZID=America/Detroit:20250912T180000
DTSTAMP:20260423T202630
CREATED:20250829T144231Z
LAST-MODIFIED:20250830T105125Z
UID:3834-1757682000-1757700000@spiritualistfirstchurchoftruth.org
SUMMARY:ISA convention at FCOT
DESCRIPTION:Some items on on Zoom. Check the ISA meeting itinerary.
URL:https://spiritualistfirstchurchoftruth.org/event/isa-convention-at-fcot/
CATEGORIES:At church,On Zoom.
END:VEVENT
BEGIN:VEVENT
DTSTART;TZID=America/Detroit:20250908T110000
DTEND;TZID=America/Detroit:20250908T123000
DTSTAMP:20260423T202630
CREATED:20250829T144134Z
LAST-MODIFIED:20250829T144134Z
UID:3832-1757329200-1757334600@spiritualistfirstchurchoftruth.org
SUMMARY:Development class
DESCRIPTION:Zoom only.
URL:https://spiritualistfirstchurchoftruth.org/event/development-class-75/
LOCATION:Zoom
CATEGORIES:On Zoom.
END:VEVENT
BEGIN:VEVENT
DTSTART;TZID=America/Detroit:20250907T110000
DTEND;TZID=America/Detroit:20250907T123000
DTSTAMP:20260423T202630
CREATED:20250829T144057Z
LAST-MODIFIED:20250829T144825Z
UID:3830-1757242800-1757248200@spiritualistfirstchurchoftruth.org
SUMMARY:Church Services with speaker Carl Franklin\, NEW TIME!
DESCRIPTION:Potluck after church\, bring a dish to pass.
URL:https://spiritualistfirstchurchoftruth.org/event/church-services-with-speaker-carl-franklin-4/
LOCATION:First Church of Truth
CATEGORIES:At church,On Zoom.
END:VEVENT
BEGIN:VEVENT
DTSTART;TZID=America/Detroit:20250831T100000
DTEND;TZID=America/Detroit:20250831T113000
DTSTAMP:20260423T202630
CREATED:20250731T212114Z
LAST-MODIFIED:20250731T212114Z
UID:3720-1756634400-1756639800@spiritualistfirstchurchoftruth.org
SUMMARY:Sunday Services with speaker Rev Bill Lumsden
DESCRIPTION:
URL:https://spiritualistfirstchurchoftruth.org/event/sunday-services-with-speaker-rev-bill-lumsden/
LOCATION:First Church of Truth
CATEGORIES:At church,On Zoom.
END:VEVENT
BEGIN:VEVENT
DTSTART;TZID=America/Detroit:20250825T110000
DTEND;TZID=America/Detroit:20250825T123000
DTSTAMP:20260423T202630
CREATED:20250731T212012Z
LAST-MODIFIED:20250731T212012Z
UID:3718-1756119600-1756125000@spiritualistfirstchurchoftruth.org
SUMMARY:Development class
DESCRIPTION:
URL:https://spiritualistfirstchurchoftruth.org/event/development-class-74/
LOCATION:Zoom
CATEGORIES:At church,On Zoom.
END:VEVENT
BEGIN:VEVENT
DTSTART;TZID=America/Detroit:20250824T100000
DTEND;TZID=America/Detroit:20250824T113000
DTSTAMP:20260423T202630
CREATED:20250731T211917Z
LAST-MODIFIED:20250731T211917Z
UID:3716-1756029600-1756035000@spiritualistfirstchurchoftruth.org
SUMMARY:Sunday Services with speaker Laura Joy Veeneman
DESCRIPTION:
URL:https://spiritualistfirstchurchoftruth.org/event/sunday-services-with-speaker-laura-joy-veeneman/
LOCATION:First Church of Truth
CATEGORIES:At church,On Zoom.
END:VEVENT
BEGIN:VEVENT
DTSTART;TZID=America/Detroit:20250818T110000
DTEND;TZID=America/Detroit:20250818T123000
DTSTAMP:20260423T202630
CREATED:20250731T211804Z
LAST-MODIFIED:20250731T211804Z
UID:3714-1755514800-1755520200@spiritualistfirstchurchoftruth.org
SUMMARY:Development class
DESCRIPTION:
URL:https://spiritualistfirstchurchoftruth.org/event/development-class-73/
LOCATION:Zoom
CATEGORIES:On Zoom.
END:VEVENT
BEGIN:VEVENT
DTSTART;TZID=America/Detroit:20250817T100000
DTEND;TZID=America/Detroit:20250817T113000
DTSTAMP:20260423T202630
CREATED:20250731T211654Z
LAST-MODIFIED:20250731T211654Z
UID:3712-1755424800-1755430200@spiritualistfirstchurchoftruth.org
SUMMARY:Sunday Services with speaker Chuck Roberts
DESCRIPTION:
URL:https://spiritualistfirstchurchoftruth.org/event/sunday-services-with-speaker-chuck-roberts/
LOCATION:First Church of Truth
CATEGORIES:At church,On Zoom.
END:VEVENT
BEGIN:VEVENT
DTSTART;TZID=America/Detroit:20250811T110000
DTEND;TZID=America/Detroit:20250811T123000
DTSTAMP:20260423T202630
CREATED:20250731T211505Z
LAST-MODIFIED:20250731T211505Z
UID:3709-1754910000-1754915400@spiritualistfirstchurchoftruth.org
SUMMARY:Development Class
DESCRIPTION:
URL:https://spiritualistfirstchurchoftruth.org/event/development-class-72/
LOCATION:Zoom
CATEGORIES:On Zoom.
END:VEVENT
BEGIN:VEVENT
DTSTART;TZID=America/Detroit:20250810T100000
DTEND;TZID=America/Detroit:20250810T113000
DTSTAMP:20260423T202630
CREATED:20250731T211417Z
LAST-MODIFIED:20250731T211556Z
UID:3707-1754820000-1754825400@spiritualistfirstchurchoftruth.org
SUMMARY:Sunday Services with speaker David Schroeder
DESCRIPTION:Board meeting today after service.
URL:https://spiritualistfirstchurchoftruth.org/event/sunday-services-with-speaker-david-schroeder/
LOCATION:First Church of Truth
CATEGORIES:At church,On Zoom.
END:VEVENT
BEGIN:VEVENT
DTSTART;TZID=America/Detroit:20250804T110000
DTEND;TZID=America/Detroit:20250804T123000
DTSTAMP:20260423T202630
CREATED:20250731T211329Z
LAST-MODIFIED:20250731T211329Z
UID:3705-1754305200-1754310600@spiritualistfirstchurchoftruth.org
SUMMARY:Development Class
DESCRIPTION:Zoom only.
URL:https://spiritualistfirstchurchoftruth.org/event/development-class-71/
LOCATION:Zoom
CATEGORIES:On Zoom.
END:VEVENT
BEGIN:VEVENT
DTSTART;TZID=America/Detroit:20250803T100000
DTEND;TZID=America/Detroit:20250803T113000
DTSTAMP:20260423T202630
CREATED:20250731T211245Z
LAST-MODIFIED:20250731T211245Z
UID:3703-1754215200-1754220600@spiritualistfirstchurchoftruth.org
SUMMARY:Services with speaker Billy Herrick
DESCRIPTION:We also have potluck. Board meeting is postponed until next week.
URL:https://spiritualistfirstchurchoftruth.org/event/services-with-speaker-billy-herrick/
LOCATION:First Church of Truth
CATEGORIES:At church,On Zoom.
END:VEVENT
BEGIN:VEVENT
DTSTART;TZID=America/Detroit:20250728T110000
DTEND;TZID=America/Detroit:20250728T123000
DTSTAMP:20260423T202630
CREATED:20250629T113448Z
LAST-MODIFIED:20250629T113448Z
UID:3600-1753700400-1753705800@spiritualistfirstchurchoftruth.org
SUMMARY:Development Class
DESCRIPTION:
URL:https://spiritualistfirstchurchoftruth.org/event/development-class-70/
LOCATION:Zoom
CATEGORIES:On Zoom.
END:VEVENT
BEGIN:VEVENT
DTSTART;TZID=America/Detroit:20250727T100000
DTEND;TZID=America/Detroit:20250727T113000
DTSTAMP:20260423T202630
CREATED:20250629T113416Z
LAST-MODIFIED:20250629T113416Z
UID:3598-1753610400-1753615800@spiritualistfirstchurchoftruth.org
SUMMARY:Church Services
DESCRIPTION:With speaker Rev. Bill Lumsden.
URL:https://spiritualistfirstchurchoftruth.org/event/church-services-5/
LOCATION:First Church of Truth
CATEGORIES:At church,On Zoom.
END:VEVENT
BEGIN:VEVENT
DTSTART;TZID=America/Detroit:20250721T110000
DTEND;TZID=America/Detroit:20250721T123000
DTSTAMP:20260423T202630
CREATED:20250629T113324Z
LAST-MODIFIED:20250629T113324Z
UID:3596-1753095600-1753101000@spiritualistfirstchurchoftruth.org
SUMMARY:Development Class
DESCRIPTION:
URL:https://spiritualistfirstchurchoftruth.org/event/development-class-69/
LOCATION:Zoom
CATEGORIES:On Zoom.
END:VEVENT
BEGIN:VEVENT
DTSTART;TZID=America/Detroit:20250720T100000
DTEND;TZID=America/Detroit:20250720T113000
DTSTAMP:20260423T202630
CREATED:20250629T113213Z
LAST-MODIFIED:20250629T113537Z
UID:3594-1753005600-1753011000@spiritualistfirstchurchoftruth.org
SUMMARY:Church Services
DESCRIPTION:With speaker Eric Webster.
URL:https://spiritualistfirstchurchoftruth.org/event/church-services-4/
LOCATION:First Church of Truth
CATEGORIES:At church,On Zoom.
END:VEVENT
BEGIN:VEVENT
DTSTART;TZID=America/Detroit:20250714T110000
DTEND;TZID=America/Detroit:20250714T123000
DTSTAMP:20260423T202630
CREATED:20250629T113126Z
LAST-MODIFIED:20250629T113126Z
UID:3592-1752490800-1752496200@spiritualistfirstchurchoftruth.org
SUMMARY:Development Class
DESCRIPTION:
URL:https://spiritualistfirstchurchoftruth.org/event/development-class-68/
CATEGORIES:On Zoom.
END:VEVENT
BEGIN:VEVENT
DTSTART;TZID=America/Detroit:20250713T100000
DTEND;TZID=America/Detroit:20250713T113000
DTSTAMP:20260423T202630
CREATED:20250629T113056Z
LAST-MODIFIED:20250629T113527Z
UID:3590-1752400800-1752406200@spiritualistfirstchurchoftruth.org
SUMMARY:Church Services
DESCRIPTION:With speaker Billy Herrick.
URL:https://spiritualistfirstchurchoftruth.org/event/church-services-3/
LOCATION:First Church of Truth
CATEGORIES:At church,On Zoom.
END:VEVENT
BEGIN:VEVENT
DTSTART;TZID=America/Detroit:20250707T110000
DTEND;TZID=America/Detroit:20250707T123000
DTSTAMP:20260423T202630
CREATED:20250629T113004Z
LAST-MODIFIED:20250629T113004Z
UID:3588-1751886000-1751891400@spiritualistfirstchurchoftruth.org
SUMMARY:Development Class
DESCRIPTION:
URL:https://spiritualistfirstchurchoftruth.org/event/development-class-67/
LOCATION:Zoom
CATEGORIES:On Zoom.
END:VEVENT
BEGIN:VEVENT
DTSTART;TZID=America/Detroit:20250706T100000
DTEND;TZID=America/Detroit:20250706T113000
DTSTAMP:20260423T202630
CREATED:20250629T112848Z
LAST-MODIFIED:20250629T113555Z
UID:3586-1751796000-1751801400@spiritualistfirstchurchoftruth.org
SUMMARY:Church Services
DESCRIPTION:With speaker Ortrun Franklin.
URL:https://spiritualistfirstchurchoftruth.org/event/church-services-2/
LOCATION:First Church of Truth
CATEGORIES:At church,On Zoom.
END:VEVENT
BEGIN:VEVENT
DTSTART;VALUE=DATE:20250621
DTEND;VALUE=DATE:20250623
DTSTAMP:20260423T202630
CREATED:20250413T173630Z
LAST-MODIFIED:20250427T174451Z
UID:3411-1750464000-1750636799@spiritualistfirstchurchoftruth.org
SUMMARY:Quarterly ISA Meeting In Grand Rapids.
DESCRIPTION:First Church of Truth hosts the ISA event in Grand Rapids\, MI.
URL:https://spiritualistfirstchurchoftruth.org/event/isa-weekend-at-fcot/
CATEGORIES:At church
END:VEVENT
BEGIN:VEVENT
DTSTART;TZID=America/Detroit:20250526T110000
DTEND;TZID=America/Detroit:20250526T123000
DTSTAMP:20260423T202630
CREATED:20250428T215254Z
LAST-MODIFIED:20250428T215254Z
UID:3461-1748257200-1748262600@spiritualistfirstchurchoftruth.org
SUMMARY:Development Class online only
DESCRIPTION:
URL:https://spiritualistfirstchurchoftruth.org/event/development-class-online-only-3/
LOCATION:Zoom
CATEGORIES:On Zoom.
END:VEVENT
BEGIN:VEVENT
DTSTART;TZID=America/Detroit:20250525T100000
DTEND;TZID=America/Detroit:20250525T113000
DTSTAMP:20260423T202630
CREATED:20250413T173839Z
LAST-MODIFIED:20250428T215027Z
UID:3417-1748167200-1748172600@spiritualistfirstchurchoftruth.org
SUMMARY:Church Services with speaker David Schroeder
DESCRIPTION:
URL:https://spiritualistfirstchurchoftruth.org/event/church-services-new-time-10am-est-4/
LOCATION:First Church of Truth
CATEGORIES:At church,On Zoom.
END:VEVENT
BEGIN:VEVENT
DTSTART;TZID=America/Detroit:20250519T110000
DTEND;TZID=America/Detroit:20250519T123000
DTSTAMP:20260423T202630
CREATED:20250428T215438Z
LAST-MODIFIED:20250428T215438Z
UID:3465-1747652400-1747657800@spiritualistfirstchurchoftruth.org
SUMMARY:Development Class online only
DESCRIPTION:
URL:https://spiritualistfirstchurchoftruth.org/event/development-class-online-only-4/
LOCATION:Zoom
CATEGORIES:On Zoom.
END:VEVENT
BEGIN:VEVENT
DTSTART;TZID=America/Detroit:20250518T110000
DTEND;TZID=America/Detroit:20250518T123000
DTSTAMP:20260423T202630
CREATED:20250428T215214Z
LAST-MODIFIED:20250428T215214Z
UID:3459-1747566000-1747571400@spiritualistfirstchurchoftruth.org
SUMMARY:Development Class online only
DESCRIPTION:
URL:https://spiritualistfirstchurchoftruth.org/event/development-class-online-only-2/
LOCATION:Zoom
CATEGORIES:On Zoom.
END:VEVENT
BEGIN:VEVENT
DTSTART;TZID=America/Detroit:20250518T100000
DTEND;TZID=America/Detroit:20250518T113000
DTSTAMP:20260423T202630
CREATED:20250413T173804Z
LAST-MODIFIED:20250428T215009Z
UID:3415-1747562400-1747567800@spiritualistfirstchurchoftruth.org
SUMMARY:Church Services with speaker Mike Miller
DESCRIPTION:
URL:https://spiritualistfirstchurchoftruth.org/event/church-services-new-time-10am-est-3/
LOCATION:First Church of Truth
CATEGORIES:At church,On Zoom.
END:VEVENT
BEGIN:VEVENT
DTSTART;TZID=America/Detroit:20250512T110000
DTEND;TZID=America/Detroit:20250512T123000
DTSTAMP:20260423T202630
CREATED:20250428T215137Z
LAST-MODIFIED:20250428T215137Z
UID:3457-1747047600-1747053000@spiritualistfirstchurchoftruth.org
SUMMARY:Development Class online only
DESCRIPTION:
URL:https://spiritualistfirstchurchoftruth.org/event/development-class-online-only/
LOCATION:Zoom
CATEGORIES:On Zoom.
END:VEVENT
BEGIN:VEVENT
DTSTART;TZID=America/Detroit:20250511T100000
DTEND;TZID=America/Detroit:20250511T113000
DTSTAMP:20260423T202630
CREATED:20250413T173735Z
LAST-MODIFIED:20250428T214948Z
UID:3413-1746957600-1746963000@spiritualistfirstchurchoftruth.org
SUMMARY:Church Services speaker Billy Herrick
DESCRIPTION:Healing Circle after services.
URL:https://spiritualistfirstchurchoftruth.org/event/church-services-new-time-10am-est-2/
LOCATION:First Church of Truth
CATEGORIES:At church,On Zoom.
END:VEVENT
BEGIN:VEVENT
DTSTART;TZID=America/Detroit:20250505T110000
DTEND;TZID=America/Detroit:20250505T123000
DTSTAMP:20260423T202630
CREATED:20250428T215106Z
LAST-MODIFIED:20250428T215349Z
UID:3455-1746442800-1746448200@spiritualistfirstchurchoftruth.org
SUMMARY:Development Class online only
DESCRIPTION:
URL:https://spiritualistfirstchurchoftruth.org/event/development-class-66/
LOCATION:Zoom
CATEGORIES:On Zoom.
END:VEVENT
END:VCALENDAR