BEGIN:VCALENDAR
VERSION:2.0
PRODID:-//Spiritualist First Church of Truth - ECPv6.15.20//NONSGML v1.0//EN
CALSCALE:GREGORIAN
METHOD:PUBLISH
X-WR-CALNAME:Spiritualist First Church of Truth
X-ORIGINAL-URL:https://spiritualistfirstchurchoftruth.org
X-WR-CALDESC:Events for Spiritualist First Church of Truth
REFRESH-INTERVAL;VALUE=DURATION:PT1H
X-Robots-Tag:noindex
X-PUBLISHED-TTL:PT1H
BEGIN:VTIMEZONE
TZID:America/Detroit
BEGIN:DAYLIGHT
TZOFFSETFROM:-0500
TZOFFSETTO:-0400
TZNAME:EDT
DTSTART:20210314T070000
END:DAYLIGHT
BEGIN:STANDARD
TZOFFSETFROM:-0400
TZOFFSETTO:-0500
TZNAME:EST
DTSTART:20211107T060000
END:STANDARD
BEGIN:DAYLIGHT
TZOFFSETFROM:-0500
TZOFFSETTO:-0400
TZNAME:EDT
DTSTART:20220313T070000
END:DAYLIGHT
BEGIN:STANDARD
TZOFFSETFROM:-0400
TZOFFSETTO:-0500
TZNAME:EST
DTSTART:20221106T060000
END:STANDARD
BEGIN:DAYLIGHT
TZOFFSETFROM:-0500
TZOFFSETTO:-0400
TZNAME:EDT
DTSTART:20230312T070000
END:DAYLIGHT
BEGIN:STANDARD
TZOFFSETFROM:-0400
TZOFFSETTO:-0500
TZNAME:EST
DTSTART:20231105T060000
END:STANDARD
END:VTIMEZONE
BEGIN:VEVENT
DTSTART;TZID=America/Detroit:20220515T110000
DTEND;TZID=America/Detroit:20220515T123000
DTSTAMP:20260426T003040
CREATED:20220426T133928Z
LAST-MODIFIED:20220426T133928Z
UID:141-1652612400-1652617800@spiritualistfirstchurchoftruth.org
SUMMARY:Church with Geri Breton
DESCRIPTION:
URL:https://spiritualistfirstchurchoftruth.org/event/church-with-geri-breton/
LOCATION:First Church of Truth
END:VEVENT
BEGIN:VEVENT
DTSTART;TZID=America/Detroit:20220512T120000
DTEND;TZID=America/Detroit:20220512T140000
DTSTAMP:20260426T003040
CREATED:20220426T125202Z
LAST-MODIFIED:20220426T125202Z
UID:130-1652356800-1652364000@spiritualistfirstchurchoftruth.org
SUMMARY:Church class and ACIM
DESCRIPTION:Zoom only.
URL:https://spiritualistfirstchurchoftruth.org/event/church-class-and-acim/
LOCATION:Zoom
END:VEVENT
BEGIN:VEVENT
DTSTART;TZID=America/Detroit:20220508T110000
DTEND;TZID=America/Detroit:20220508T130000
DTSTAMP:20260426T003040
CREATED:20220426T125103Z
LAST-MODIFIED:20220426T125103Z
UID:128-1652007600-1652014800@spiritualistfirstchurchoftruth.org
SUMMARY:Church\, speaker Rev. Bill Lumsden
DESCRIPTION:In person and on Zoom.
URL:https://spiritualistfirstchurchoftruth.org/event/church-speaker-rev-bill-lumsden/
LOCATION:First Church of Truth
END:VEVENT
BEGIN:VEVENT
DTSTART;VALUE=DATE:20220508
DTEND;VALUE=DATE:20220509
DTSTAMP:20260426T003040
CREATED:20220504T223808Z
LAST-MODIFIED:20220504T223808Z
UID:215-1651968000-1652054399@spiritualistfirstchurchoftruth.org
SUMMARY:Mother's Day
DESCRIPTION:
URL:https://spiritualistfirstchurchoftruth.org/event/mothers-day/
END:VEVENT
BEGIN:VEVENT
DTSTART;TZID=America/Detroit:20220505T120000
DTEND;TZID=America/Detroit:20220505T140000
DTSTAMP:20260426T003040
CREATED:20220426T123855Z
LAST-MODIFIED:20220426T125314Z
UID:114-1651752000-1651759200@spiritualistfirstchurchoftruth.org
SUMMARY:Church class ACIM
DESCRIPTION:Zoom only.
URL:https://spiritualistfirstchurchoftruth.org/event/church-class-acim/
LOCATION:Zoom
END:VEVENT
BEGIN:VEVENT
DTSTART;TZID=America/Detroit:20220503T153000
DTEND;TZID=America/Detroit:20220503T163000
DTSTAMP:20260426T003040
CREATED:20220426T123323Z
LAST-MODIFIED:20220426T162822Z
UID:109-1651591800-1651595400@spiritualistfirstchurchoftruth.org
SUMMARY:Board meeting
DESCRIPTION:On Zoom.
URL:https://spiritualistfirstchurchoftruth.org/event/board-meeting/
LOCATION:Zoom
END:VEVENT
BEGIN:VEVENT
DTSTART;TZID=America/Detroit:20220501T110000
DTEND;TZID=America/Detroit:20220501T130000
DTSTAMP:20260426T003040
CREATED:20220426T123211Z
LAST-MODIFIED:20220426T133705Z
UID:105-1651402800-1651410000@spiritualistfirstchurchoftruth.org
SUMMARY:Sunday Service\, Speaker Ortrun Franklin
DESCRIPTION:And Potluck.
URL:https://spiritualistfirstchurchoftruth.org/event/sunday-service-with-speaker-ortrun-franklin/
LOCATION:First Church of Truth
END:VEVENT
BEGIN:VEVENT
DTSTART;TZID=America/Detroit:20220501T100000
DTEND;TZID=America/Detroit:20220501T190000
DTSTAMP:20260426T003040
CREATED:20220426T124812Z
LAST-MODIFIED:20220426T124812Z
UID:124-1651399200-1651431600@spiritualistfirstchurchoftruth.org
SUMMARY:Psychic fair
DESCRIPTION:Crossroads conference center \n6611 Clay Ave SW \nGrand Rapids\, MI \nTickets $10usd at the door. Under age 12 are free.
URL:https://spiritualistfirstchurchoftruth.org/event/psychic-fair-2/
LOCATION:Crossroads Conf\, 6611 Clay Ave SW\, Grand Rapids\, MI\, 49548\, United States
END:VEVENT
BEGIN:VEVENT
DTSTART;TZID=America/Detroit:20220430T100000
DTEND;TZID=America/Detroit:20220430T190000
DTSTAMP:20260426T003040
CREATED:20220426T124618Z
LAST-MODIFIED:20220426T125005Z
UID:121-1651312800-1651345200@spiritualistfirstchurchoftruth.org
SUMMARY:Psychic fair
DESCRIPTION:Crossroads conference center \n6611 Clay Ave SW \nGrand Rapids\, MI \nTickets $10usd at the door. Under age 12 are free. \nA 2 Day Psychic & Holistic Festival featuring psychics\, mediums\, healers\, crystals\, aura photography\, holistic products & food concessions.
URL:https://spiritualistfirstchurchoftruth.org/event/psychic-fair/
LOCATION:Crossroads Conf\, 6611 Clay Ave SW\, Grand Rapids\, MI\, 49548\, United States
END:VEVENT
BEGIN:VEVENT
DTSTART;TZID=America/Detroit:20220428T120000
DTEND;TZID=America/Detroit:20220428T140000
DTSTAMP:20260426T003040
CREATED:20220427T112140Z
LAST-MODIFIED:20220427T112140Z
UID:169-1651147200-1651154400@spiritualistfirstchurchoftruth.org
SUMMARY:Class in ACIM
DESCRIPTION:Zoom only. No evening class today.
URL:https://spiritualistfirstchurchoftruth.org/event/class-in-acim/
LOCATION:Zoom
END:VEVENT
BEGIN:VEVENT
DTSTART;TZID=America/Detroit:20220427T150000
DTEND;TZID=America/Detroit:20220427T163000
DTSTAMP:20260426T003040
CREATED:20220426T124214Z
LAST-MODIFIED:20220426T124214Z
UID:119-1651071600-1651077000@spiritualistfirstchurchoftruth.org
SUMMARY:Board Mtg\, bylaws
DESCRIPTION:Working on bylaws. On Zoom.
URL:https://spiritualistfirstchurchoftruth.org/event/board-mtg-bylaws/
LOCATION:Zoom
END:VEVENT
END:VCALENDAR