BEGIN:VCALENDAR
VERSION:2.0
PRODID:-//Spiritualist First Church of Truth - ECPv6.15.20//NONSGML v1.0//EN
CALSCALE:GREGORIAN
METHOD:PUBLISH
X-WR-CALNAME:Spiritualist First Church of Truth
X-ORIGINAL-URL:https://spiritualistfirstchurchoftruth.org
X-WR-CALDESC:Events for Spiritualist First Church of Truth
REFRESH-INTERVAL;VALUE=DURATION:PT1H
X-Robots-Tag:noindex
X-PUBLISHED-TTL:PT1H
BEGIN:VTIMEZONE
TZID:America/Detroit
BEGIN:DAYLIGHT
TZOFFSETFROM:-0500
TZOFFSETTO:-0400
TZNAME:EDT
DTSTART:20210314T070000
END:DAYLIGHT
BEGIN:STANDARD
TZOFFSETFROM:-0400
TZOFFSETTO:-0500
TZNAME:EST
DTSTART:20211107T060000
END:STANDARD
BEGIN:DAYLIGHT
TZOFFSETFROM:-0500
TZOFFSETTO:-0400
TZNAME:EDT
DTSTART:20220313T070000
END:DAYLIGHT
BEGIN:STANDARD
TZOFFSETFROM:-0400
TZOFFSETTO:-0500
TZNAME:EST
DTSTART:20221106T060000
END:STANDARD
BEGIN:DAYLIGHT
TZOFFSETFROM:-0500
TZOFFSETTO:-0400
TZNAME:EDT
DTSTART:20230312T070000
END:DAYLIGHT
BEGIN:STANDARD
TZOFFSETFROM:-0400
TZOFFSETTO:-0500
TZNAME:EST
DTSTART:20231105T060000
END:STANDARD
END:VTIMEZONE
BEGIN:VEVENT
DTSTART;TZID=America/Detroit:20220911T080000
DTEND;TZID=America/Detroit:20220911T170000
DTSTAMP:20260425T230329
CREATED:20220815T093314Z
LAST-MODIFIED:20220815T093314Z
UID:884-1662883200-1662915600@spiritualistfirstchurchoftruth.org
SUMMARY:No church
DESCRIPTION:ISA quarterly meeting. No Zoom church either.
URL:https://spiritualistfirstchurchoftruth.org/event/no-church-2/
END:VEVENT
BEGIN:VEVENT
DTSTART;TZID=America/Detroit:20220908T190000
DTEND;TZID=America/Detroit:20220908T210000
DTSTAMP:20260425T230329
CREATED:20220821T161356Z
LAST-MODIFIED:20220908T184338Z
UID:974-1662663600-1662670800@spiritualistfirstchurchoftruth.org
SUMMARY:ACIM Class 7pm CANCELLED
DESCRIPTION:
URL:https://spiritualistfirstchurchoftruth.org/event/acim-class-8/
LOCATION:Zoom
CATEGORIES:On Zoom.
END:VEVENT
BEGIN:VEVENT
DTSTART;TZID=America/Detroit:20220908T120000
DTEND;TZID=America/Detroit:20220908T140000
DTSTAMP:20260425T230329
CREATED:20220821T160717Z
LAST-MODIFIED:20220821T161035Z
UID:957-1662638400-1662645600@spiritualistfirstchurchoftruth.org
SUMMARY:ACIM class noon
DESCRIPTION:2 hours each class.
URL:https://spiritualistfirstchurchoftruth.org/event/acim-class-noon-and-7pm-est/
LOCATION:Zoom
CATEGORIES:On Zoom.
END:VEVENT
BEGIN:VEVENT
DTSTART;VALUE=DATE:20220905
DTEND;VALUE=DATE:20220906
DTSTAMP:20260425T230329
CREATED:20220504T224118Z
LAST-MODIFIED:20220504T224118Z
UID:223-1662336000-1662422399@spiritualistfirstchurchoftruth.org
SUMMARY:Labor Day\, US
DESCRIPTION:
URL:https://spiritualistfirstchurchoftruth.org/event/labor-day-us/
END:VEVENT
BEGIN:VEVENT
DTSTART;TZID=America/Detroit:20220904T110000
DTEND;TZID=America/Detroit:20220904T123000
DTSTAMP:20260425T230329
CREATED:20220821T153833Z
LAST-MODIFIED:20220903T162447Z
UID:949-1662289200-1662294600@spiritualistfirstchurchoftruth.org
SUMMARY:Speaker David Schroeder\, POTLUCK
DESCRIPTION:With Potluck.
URL:https://spiritualistfirstchurchoftruth.org/event/speaker-david-schroeder/
CATEGORIES:At church
END:VEVENT
BEGIN:VEVENT
DTSTART;TZID=America/Detroit:20220901T120000
DTEND;TZID=America/Detroit:20220901T140000
DTSTAMP:20260425T230329
CREATED:20220725T163300Z
LAST-MODIFIED:20220725T163300Z
UID:720-1662033600-1662040800@spiritualistfirstchurchoftruth.org
SUMMARY:ACIM class
DESCRIPTION:No 7pm class.
URL:https://spiritualistfirstchurchoftruth.org/event/acim-class-5/
LOCATION:Zoom
CATEGORIES:On Zoom.
END:VEVENT
BEGIN:VEVENT
DTSTART;TZID=America/Detroit:20220828T110000
DTEND;TZID=America/Detroit:20220828T123000
DTSTAMP:20260425T230329
CREATED:20220725T162833Z
LAST-MODIFIED:20220725T162833Z
UID:718-1661684400-1661689800@spiritualistfirstchurchoftruth.org
SUMMARY:Church\, speaker Rev Bill Lumsden
DESCRIPTION:
URL:https://spiritualistfirstchurchoftruth.org/event/church-speaker-rev-bill-lumsden-2/
LOCATION:Zoom
CATEGORIES:At church,On Zoom.
END:VEVENT
BEGIN:VEVENT
DTSTART;TZID=America/Detroit:20220825T120000
DTEND;TZID=America/Detroit:20220825T140000
DTSTAMP:20260425T230329
CREATED:20220725T162727Z
LAST-MODIFIED:20220725T162727Z
UID:715-1661428800-1661436000@spiritualistfirstchurchoftruth.org
SUMMARY:ACIM class
DESCRIPTION:No 7pm class.
URL:https://spiritualistfirstchurchoftruth.org/event/acim-class-4/
LOCATION:Zoom
CATEGORIES:On Zoom.
END:VEVENT
BEGIN:VEVENT
DTSTART;TZID=America/Detroit:20220821T110000
DTEND;TZID=America/Detroit:20220821T123000
DTSTAMP:20260425T230329
CREATED:20220821T160504Z
LAST-MODIFIED:20220821T161804Z
UID:953-1661079600-1661085000@spiritualistfirstchurchoftruth.org
SUMMARY:Speaker Debbie Dehm
DESCRIPTION:
URL:https://spiritualistfirstchurchoftruth.org/event/speaker-debbie-dehm/
LOCATION:First Church of Truth
CATEGORIES:At church
END:VEVENT
BEGIN:VEVENT
DTSTART;TZID=America/Detroit:20220821T110000
DTEND;TZID=America/Detroit:20220821T123000
DTSTAMP:20260425T230329
CREATED:20220725T162639Z
LAST-MODIFIED:20220725T162639Z
UID:713-1661079600-1661085000@spiritualistfirstchurchoftruth.org
SUMMARY:Church\, speaker Geri Breton
DESCRIPTION:
URL:https://spiritualistfirstchurchoftruth.org/event/church-speaker-geri-breton/
LOCATION:First Church of Truth
CATEGORIES:At church,On Zoom.
END:VEVENT
BEGIN:VEVENT
DTSTART;TZID=America/Detroit:20220818T120000
DTEND;TZID=America/Detroit:20220818T140000
DTSTAMP:20260425T230329
CREATED:20220725T162553Z
LAST-MODIFIED:20220725T162553Z
UID:711-1660824000-1660831200@spiritualistfirstchurchoftruth.org
SUMMARY:ACIM class
DESCRIPTION:No 7pm class.
URL:https://spiritualistfirstchurchoftruth.org/event/acim-class-3/
LOCATION:Zoom
CATEGORIES:On Zoom.
END:VEVENT
BEGIN:VEVENT
DTSTART;TZID=America/Detroit:20220814T110000
DTEND;TZID=America/Detroit:20220814T123000
DTSTAMP:20260425T230329
CREATED:20220725T162426Z
LAST-MODIFIED:20220725T162426Z
UID:707-1660474800-1660480200@spiritualistfirstchurchoftruth.org
SUMMARY:Church\, speaker Chuck Roberts
DESCRIPTION:
URL:https://spiritualistfirstchurchoftruth.org/event/church-speaker-chuck-roberts/
LOCATION:First Church of Truth
CATEGORIES:At church,On Zoom.
END:VEVENT
BEGIN:VEVENT
DTSTART;TZID=America/Detroit:20220811T120000
DTEND;TZID=America/Detroit:20220811T140000
DTSTAMP:20260425T230329
CREATED:20220725T162505Z
LAST-MODIFIED:20220725T162505Z
UID:709-1660219200-1660226400@spiritualistfirstchurchoftruth.org
SUMMARY:ACIM class
DESCRIPTION:
URL:https://spiritualistfirstchurchoftruth.org/event/acim-class-2/
LOCATION:Zoom
CATEGORIES:On Zoom.
END:VEVENT
BEGIN:VEVENT
DTSTART;TZID=America/Detroit:20220807T110000
DTEND;TZID=America/Detroit:20220807T123000
DTSTAMP:20260425T230329
CREATED:20220725T162340Z
LAST-MODIFIED:20220725T162340Z
UID:705-1659870000-1659875400@spiritualistfirstchurchoftruth.org
SUMMARY:Church with Ortrun Franklin
DESCRIPTION:
URL:https://spiritualistfirstchurchoftruth.org/event/church-with-ortrun-franklin/
LOCATION:First Church of Truth
CATEGORIES:At church,On Zoom.
END:VEVENT
BEGIN:VEVENT
DTSTART;TZID=America/Detroit:20220804T120000
DTEND;TZID=America/Detroit:20220804T140000
DTSTAMP:20260425T230329
CREATED:20220725T162058Z
LAST-MODIFIED:20220725T162755Z
UID:703-1659614400-1659621600@spiritualistfirstchurchoftruth.org
SUMMARY:ACIM class 12pm only
DESCRIPTION:No 7pm EST class.
URL:https://spiritualistfirstchurchoftruth.org/event/church-class-12pm-only/
LOCATION:Zoom
CATEGORIES:On Zoom.
END:VEVENT
BEGIN:VEVENT
DTSTART;TZID=America/Detroit:20220801T190000
DTEND;TZID=America/Detroit:20220801T200000
DTSTAMP:20260425T230329
CREATED:20220725T161943Z
LAST-MODIFIED:20220725T162152Z
UID:701-1659380400-1659384000@spiritualistfirstchurchoftruth.org
SUMMARY:Board meeting
DESCRIPTION:
URL:https://spiritualistfirstchurchoftruth.org/event/board-meeting-3/
LOCATION:Zoom
CATEGORIES:On Zoom.
END:VEVENT
BEGIN:VEVENT
DTSTART;TZID=America/Detroit:20220731T110000
DTEND;TZID=America/Detroit:20220731T123000
DTSTAMP:20260425T230329
CREATED:20220624T154051Z
LAST-MODIFIED:20220624T154051Z
UID:465-1659265200-1659270600@spiritualistfirstchurchoftruth.org
SUMMARY:Church with Otany Alverez
DESCRIPTION:
URL:https://spiritualistfirstchurchoftruth.org/event/church-with-otany-alverez/
LOCATION:First Church of Truth
CATEGORIES:At church
END:VEVENT
BEGIN:VEVENT
DTSTART;TZID=America/Detroit:20220728T120000
DTEND;TZID=America/Detroit:20220728T140000
DTSTAMP:20260425T230329
CREATED:20220624T153955Z
LAST-MODIFIED:20220624T153955Z
UID:463-1659009600-1659016800@spiritualistfirstchurchoftruth.org
SUMMARY:Church Class and ACIM
DESCRIPTION:No evening class.
URL:https://spiritualistfirstchurchoftruth.org/event/church-class-and-acim-7/
LOCATION:Zoom
CATEGORIES:On Zoom.
END:VEVENT
BEGIN:VEVENT
DTSTART;TZID=America/Detroit:20220724T110000
DTEND;TZID=America/Detroit:20220724T123000
DTSTAMP:20260425T230329
CREATED:20220624T153917Z
LAST-MODIFIED:20220624T153917Z
UID:461-1658660400-1658665800@spiritualistfirstchurchoftruth.org
SUMMARY:Church\, David Schroeder
DESCRIPTION:
URL:https://spiritualistfirstchurchoftruth.org/event/church-david-schroeder/
LOCATION:First Church of Truth
CATEGORIES:At church
END:VEVENT
BEGIN:VEVENT
DTSTART;TZID=America/Detroit:20220721T120000
DTEND;TZID=America/Detroit:20220721T140000
DTSTAMP:20260425T230329
CREATED:20220624T153837Z
LAST-MODIFIED:20220624T153837Z
UID:459-1658404800-1658412000@spiritualistfirstchurchoftruth.org
SUMMARY:Class and ACIM
DESCRIPTION:No evening class.
URL:https://spiritualistfirstchurchoftruth.org/event/class-and-acim/
LOCATION:Zoom
CATEGORIES:On Zoom.
END:VEVENT
BEGIN:VEVENT
DTSTART;TZID=America/Detroit:20220717T110000
DTEND;TZID=America/Detroit:20220717T123000
DTSTAMP:20260425T230329
CREATED:20220624T153732Z
LAST-MODIFIED:20220624T153732Z
UID:457-1658055600-1658061000@spiritualistfirstchurchoftruth.org
SUMMARY:Church and Carl Franklin
DESCRIPTION:
URL:https://spiritualistfirstchurchoftruth.org/event/church-and-carl-franklin/
LOCATION:First Church of Truth
CATEGORIES:At church
END:VEVENT
BEGIN:VEVENT
DTSTART;TZID=America/Detroit:20220714T120000
DTEND;TZID=America/Detroit:20220714T140000
DTSTAMP:20260425T230329
CREATED:20220624T153635Z
LAST-MODIFIED:20220624T153635Z
UID:455-1657800000-1657807200@spiritualistfirstchurchoftruth.org
SUMMARY:Church class and ACIM
DESCRIPTION:No evening class.
URL:https://spiritualistfirstchurchoftruth.org/event/church-class-and-acim-6/
LOCATION:Zoom
CATEGORIES:At church,On Zoom.
END:VEVENT
BEGIN:VEVENT
DTSTART;TZID=America/Detroit:20220710T110000
DTEND;TZID=America/Detroit:20220710T123000
DTSTAMP:20260425T230329
CREATED:20220624T153510Z
LAST-MODIFIED:20220624T153510Z
UID:453-1657450800-1657456200@spiritualistfirstchurchoftruth.org
SUMMARY:Church\, with Debbie Dehm
DESCRIPTION:
URL:https://spiritualistfirstchurchoftruth.org/event/church-with-debbie-dehm/
LOCATION:First Church of Truth
CATEGORIES:At church,On Zoom.
END:VEVENT
BEGIN:VEVENT
DTSTART;TZID=America/Detroit:20220707T120000
DTEND;TZID=America/Detroit:20220707T140000
DTSTAMP:20260425T230329
CREATED:20220624T153412Z
LAST-MODIFIED:20220624T153412Z
UID:451-1657195200-1657202400@spiritualistfirstchurchoftruth.org
SUMMARY:Church class and ACIM
DESCRIPTION:No evening class.
URL:https://spiritualistfirstchurchoftruth.org/event/church-class-and-acim-5/
LOCATION:Zoom
END:VEVENT
BEGIN:VEVENT
DTSTART;VALUE=DATE:20220704
DTEND;VALUE=DATE:20220705
DTSTAMP:20260425T230329
CREATED:20220504T224040Z
LAST-MODIFIED:20220513T140615Z
UID:221-1656892800-1656979199@spiritualistfirstchurchoftruth.org
SUMMARY:Independence Day\, US
DESCRIPTION:Most Americans take this day off to have a long weekend.
URL:https://spiritualistfirstchurchoftruth.org/event/independence-day-us/
END:VEVENT
BEGIN:VEVENT
DTSTART;TZID=America/Detroit:20220703T110000
DTEND;TZID=America/Detroit:20220703T123000
DTSTAMP:20260425T230329
CREATED:20220513T140501Z
LAST-MODIFIED:20220624T153240Z
UID:255-1656846000-1656851400@spiritualistfirstchurchoftruth.org
SUMMARY:Church\, no potluck
DESCRIPTION:Speaker: Rev Bill Lumsden (no potluck in July)
URL:https://spiritualistfirstchurchoftruth.org/event/church-no-potluck/
LOCATION:First Church of Truth
CATEGORIES:At church
END:VEVENT
BEGIN:VEVENT
DTSTART;TZID=America/Detroit:20220630T120000
DTEND;TZID=America/Detroit:20220630T140000
DTSTAMP:20260425T230329
CREATED:20220526T172512Z
LAST-MODIFIED:20220526T172512Z
UID:270-1656590400-1656597600@spiritualistfirstchurchoftruth.org
SUMMARY:Church class and ACIM
DESCRIPTION:
URL:https://spiritualistfirstchurchoftruth.org/event/church-class-and-acim-4/
LOCATION:Zoom
END:VEVENT
BEGIN:VEVENT
DTSTART;TZID=America/Detroit:20220626T110000
DTEND;TZID=America/Detroit:20220626T123000
DTSTAMP:20260425T230329
CREATED:20220508T174202Z
LAST-MODIFIED:20220526T172416Z
UID:245-1656241200-1656246600@spiritualistfirstchurchoftruth.org
SUMMARY:Church with Helen Roberts\, potluck
DESCRIPTION:Potluck of July 3 moved to June 26\, 2022.
URL:https://spiritualistfirstchurchoftruth.org/event/church-2/
LOCATION:First Church of Truth
END:VEVENT
BEGIN:VEVENT
DTSTART;TZID=America/Detroit:20220623T120000
DTEND;TZID=America/Detroit:20220623T140000
DTSTAMP:20260425T230329
CREATED:20220526T172201Z
LAST-MODIFIED:20220526T172201Z
UID:264-1655985600-1655992800@spiritualistfirstchurchoftruth.org
SUMMARY:Church class and ACIM
DESCRIPTION:
URL:https://spiritualistfirstchurchoftruth.org/event/church-class-and-acim-2/
END:VEVENT
BEGIN:VEVENT
DTSTART;TZID=America/Detroit:20220619T110000
DTEND;TZID=America/Detroit:20220619T123000
DTSTAMP:20260425T230329
CREATED:20220508T174135Z
LAST-MODIFIED:20220526T172343Z
UID:243-1655636400-1655641800@spiritualistfirstchurchoftruth.org
SUMMARY:Church with David Schroeder
DESCRIPTION:
URL:https://spiritualistfirstchurchoftruth.org/event/church/
LOCATION:First Church of Truth
END:VEVENT
END:VCALENDAR