BEGIN:VCALENDAR
VERSION:2.0
PRODID:-//Spiritualist First Church of Truth - ECPv6.15.20//NONSGML v1.0//EN
CALSCALE:GREGORIAN
METHOD:PUBLISH
X-WR-CALNAME:Spiritualist First Church of Truth
X-ORIGINAL-URL:https://spiritualistfirstchurchoftruth.org
X-WR-CALDESC:Events for Spiritualist First Church of Truth
REFRESH-INTERVAL;VALUE=DURATION:PT1H
X-Robots-Tag:noindex
X-PUBLISHED-TTL:PT1H
BEGIN:VTIMEZONE
TZID:America/Detroit
BEGIN:DAYLIGHT
TZOFFSETFROM:-0500
TZOFFSETTO:-0400
TZNAME:EDT
DTSTART:20210314T070000
END:DAYLIGHT
BEGIN:STANDARD
TZOFFSETFROM:-0400
TZOFFSETTO:-0500
TZNAME:EST
DTSTART:20211107T060000
END:STANDARD
BEGIN:DAYLIGHT
TZOFFSETFROM:-0500
TZOFFSETTO:-0400
TZNAME:EDT
DTSTART:20220313T070000
END:DAYLIGHT
BEGIN:STANDARD
TZOFFSETFROM:-0400
TZOFFSETTO:-0500
TZNAME:EST
DTSTART:20221106T060000
END:STANDARD
BEGIN:DAYLIGHT
TZOFFSETFROM:-0500
TZOFFSETTO:-0400
TZNAME:EDT
DTSTART:20230312T070000
END:DAYLIGHT
BEGIN:STANDARD
TZOFFSETFROM:-0400
TZOFFSETTO:-0500
TZNAME:EST
DTSTART:20231105T060000
END:STANDARD
END:VTIMEZONE
BEGIN:VEVENT
DTSTART;TZID=America/Detroit:20221229T120000
DTEND;TZID=America/Detroit:20221229T140000
DTSTAMP:20260425T123147
CREATED:20221128T095246Z
LAST-MODIFIED:20221128T095246Z
UID:1644-1672315200-1672322400@spiritualistfirstchurchoftruth.org
SUMMARY:Class and ACIM
DESCRIPTION:
URL:https://spiritualistfirstchurchoftruth.org/event/class-and-acim-6/
LOCATION:Zoom
CATEGORIES:At church,On Zoom.
END:VEVENT
BEGIN:VEVENT
DTSTART;TZID=America/Detroit:20221225T110000
DTEND;TZID=America/Detroit:20221225T123000
DTSTAMP:20260425T123147
CREATED:20221128T095216Z
LAST-MODIFIED:20221206T002759Z
UID:1642-1671966000-1671971400@spiritualistfirstchurchoftruth.org
SUMMARY:No church\, no zoom.
DESCRIPTION:
URL:https://spiritualistfirstchurchoftruth.org/event/church-with-helen-roberts/
LOCATION:Zoom
CATEGORIES:At church,On Zoom.
END:VEVENT
BEGIN:VEVENT
DTSTART;TZID=America/Detroit:20221222T120000
DTEND;TZID=America/Detroit:20221222T140000
DTSTAMP:20260425T123147
CREATED:20221128T095144Z
LAST-MODIFIED:20221128T095144Z
UID:1640-1671710400-1671717600@spiritualistfirstchurchoftruth.org
SUMMARY:Class and ACIM
DESCRIPTION:
URL:https://spiritualistfirstchurchoftruth.org/event/class-and-acim-5/
LOCATION:Zoom
CATEGORIES:On Zoom.
END:VEVENT
BEGIN:VEVENT
DTSTART;TZID=America/Detroit:20221218T110000
DTEND;TZID=America/Detroit:20221218T123000
DTSTAMP:20260425T123147
CREATED:20221128T095028Z
LAST-MODIFIED:20221128T095028Z
UID:1638-1671361200-1671366600@spiritualistfirstchurchoftruth.org
SUMMARY:Church with Ortrun Franklin
DESCRIPTION:
URL:https://spiritualistfirstchurchoftruth.org/event/church-with-ortrun-franklin-2/
LOCATION:First Church of Truth
CATEGORIES:At church,On Zoom.
END:VEVENT
BEGIN:VEVENT
DTSTART;TZID=America/Detroit:20221215T120000
DTEND;TZID=America/Detroit:20221215T140000
DTSTAMP:20260425T123147
CREATED:20221128T094816Z
LAST-MODIFIED:20221128T094816Z
UID:1634-1671105600-1671112800@spiritualistfirstchurchoftruth.org
SUMMARY:Class and ACIM
DESCRIPTION:
URL:https://spiritualistfirstchurchoftruth.org/event/class-and-acim-4/
LOCATION:Zoom
CATEGORIES:On Zoom.
END:VEVENT
BEGIN:VEVENT
DTSTART;TZID=America/Detroit:20221211T110000
DTEND;TZID=America/Detroit:20221211T123000
DTSTAMP:20260425T123147
CREATED:20221128T094738Z
LAST-MODIFIED:20221128T094738Z
UID:1632-1670756400-1670761800@spiritualistfirstchurchoftruth.org
SUMMARY:Church with Michael Joy Stauffer
DESCRIPTION:
URL:https://spiritualistfirstchurchoftruth.org/event/church-with-michael-joy-stauffer/
LOCATION:First Church of Truth
CATEGORIES:At church,On Zoom.
END:VEVENT
BEGIN:VEVENT
DTSTART;TZID=America/Detroit:20221208T120000
DTEND;TZID=America/Detroit:20221208T140000
DTSTAMP:20260425T123147
CREATED:20221128T094657Z
LAST-MODIFIED:20221128T094657Z
UID:1630-1670500800-1670508000@spiritualistfirstchurchoftruth.org
SUMMARY:Class and ACIM
DESCRIPTION:
URL:https://spiritualistfirstchurchoftruth.org/event/class-and-acim-3/
LOCATION:Zoom
CATEGORIES:On Zoom.
END:VEVENT
BEGIN:VEVENT
DTSTART;TZID=America/Detroit:20221204T180000
DTEND;TZID=America/Detroit:20221204T190000
DTSTAMP:20260425T123147
CREATED:20221128T094930Z
LAST-MODIFIED:20221128T094930Z
UID:1636-1670176800-1670180400@spiritualistfirstchurchoftruth.org
SUMMARY:Chuck's speech at Coptic Center
DESCRIPTION:Chuck’s incredible healing experience in 2019. \nhttps://www.thecopticcenter.org/
URL:https://spiritualistfirstchurchoftruth.org/event/chucks-speech-at-coptic-center/
CATEGORIES:On Zoom.
END:VEVENT
BEGIN:VEVENT
DTSTART;TZID=America/Detroit:20221204T110000
DTEND;TZID=America/Detroit:20221204T123000
DTSTAMP:20260425T123147
CREATED:20221128T094610Z
LAST-MODIFIED:20221128T094610Z
UID:1628-1670151600-1670157000@spiritualistfirstchurchoftruth.org
SUMMARY:Church with David Schroeder
DESCRIPTION:
URL:https://spiritualistfirstchurchoftruth.org/event/church-with-david-schroeder-2/
LOCATION:First Church of Truth
CATEGORIES:At church,On Zoom.
END:VEVENT
BEGIN:VEVENT
DTSTART;TZID=America/Detroit:20221127T110000
DTEND;TZID=America/Detroit:20221127T123000
DTSTAMP:20260425T123147
CREATED:20221028T085420Z
LAST-MODIFIED:20221028T085420Z
UID:1495-1669546800-1669552200@spiritualistfirstchurchoftruth.org
SUMMARY:Church with Rev Bill Lumsden
DESCRIPTION:
URL:https://spiritualistfirstchurchoftruth.org/event/church-with-rev-bill-lumsden/
LOCATION:First Church of Truth
CATEGORIES:At church,On Zoom.
END:VEVENT
BEGIN:VEVENT
DTSTART;TZID=America/Detroit:20221124T120000
DTEND;TZID=America/Detroit:20221124T140000
DTSTAMP:20260425T123147
CREATED:20221028T085347Z
LAST-MODIFIED:20221029T100041Z
UID:1493-1669291200-1669298400@spiritualistfirstchurchoftruth.org
SUMMARY:No class
DESCRIPTION:Holiday.
URL:https://spiritualistfirstchurchoftruth.org/event/acim-and-development-class-3/
LOCATION:Zoom
CATEGORIES:At church,On Zoom.
END:VEVENT
BEGIN:VEVENT
DTSTART;TZID=America/Detroit:20221120T110000
DTEND;TZID=America/Detroit:20221120T123000
DTSTAMP:20260425T123147
CREATED:20221028T085254Z
LAST-MODIFIED:20221028T085254Z
UID:1491-1668942000-1668947400@spiritualistfirstchurchoftruth.org
SUMMARY:Church with Jim (Coop) Cooper
DESCRIPTION:
URL:https://spiritualistfirstchurchoftruth.org/event/church-with-jim-coop-cooper/
LOCATION:First Church of Truth
CATEGORIES:At church,On Zoom.
END:VEVENT
BEGIN:VEVENT
DTSTART;TZID=America/Detroit:20221117T120000
DTEND;TZID=America/Detroit:20221117T140000
DTSTAMP:20260425T123147
CREATED:20221028T085210Z
LAST-MODIFIED:20221028T085210Z
UID:1489-1668686400-1668693600@spiritualistfirstchurchoftruth.org
SUMMARY:ACIM and development class
DESCRIPTION:
URL:https://spiritualistfirstchurchoftruth.org/event/acim-and-development-class-2/
LOCATION:Zoom
CATEGORIES:On Zoom.
END:VEVENT
BEGIN:VEVENT
DTSTART;TZID=America/Detroit:20221113T110000
DTEND;TZID=America/Detroit:20221113T123000
DTSTAMP:20260425T123147
CREATED:20221028T085129Z
LAST-MODIFIED:20221028T085129Z
UID:1487-1668337200-1668342600@spiritualistfirstchurchoftruth.org
SUMMARY:Church with David Schroeder
DESCRIPTION:
URL:https://spiritualistfirstchurchoftruth.org/event/church-with-david-schroeder/
LOCATION:First Church of Truth
CATEGORIES:At church,On Zoom.
END:VEVENT
BEGIN:VEVENT
DTSTART;TZID=America/Detroit:20221110T120000
DTEND;TZID=America/Detroit:20221110T140000
DTSTAMP:20260425T123147
CREATED:20221028T085053Z
LAST-MODIFIED:20221028T085053Z
UID:1485-1668081600-1668088800@spiritualistfirstchurchoftruth.org
SUMMARY:ACIM and development class
DESCRIPTION:
URL:https://spiritualistfirstchurchoftruth.org/event/acim-and-development-class/
LOCATION:Zoom
CATEGORIES:On Zoom.
END:VEVENT
BEGIN:VEVENT
DTSTART;TZID=America/Detroit:20221107T190000
DTEND;TZID=America/Detroit:20221107T200000
DTSTAMP:20260425T123147
CREATED:20221028T085011Z
LAST-MODIFIED:20221028T085011Z
UID:1483-1667847600-1667851200@spiritualistfirstchurchoftruth.org
SUMMARY:Board Meeting
DESCRIPTION:
URL:https://spiritualistfirstchurchoftruth.org/event/board-meeting-6/
LOCATION:Zoom
CATEGORIES:On Zoom.
END:VEVENT
BEGIN:VEVENT
DTSTART;TZID=America/Detroit:20221106T110000
DTEND;TZID=America/Detroit:20221106T123000
DTSTAMP:20260425T123147
CREATED:20221028T084902Z
LAST-MODIFIED:20221029T100120Z
UID:1481-1667732400-1667737800@spiritualistfirstchurchoftruth.org
SUMMARY:Church\, speaker Tony Holmes\, Potluck
DESCRIPTION:Potluck
URL:https://spiritualistfirstchurchoftruth.org/event/church-speaker-tony-holmes/
LOCATION:First Church of Truth
CATEGORIES:At church,On Zoom.
END:VEVENT
BEGIN:VEVENT
DTSTART;TZID=America/Detroit:20221103T120000
DTEND;TZID=America/Detroit:20221103T140000
DTSTAMP:20260425T123147
CREATED:20221028T084930Z
LAST-MODIFIED:20221028T084930Z
UID:1479-1667476800-1667484000@spiritualistfirstchurchoftruth.org
SUMMARY:ACIM and development
DESCRIPTION:
URL:https://spiritualistfirstchurchoftruth.org/event/acim-and-development/
LOCATION:Zoom
CATEGORIES:On Zoom.
END:VEVENT
BEGIN:VEVENT
DTSTART;TZID=America/Detroit:20221030T110000
DTEND;TZID=America/Detroit:20221030T123000
DTSTAMP:20260425T123147
CREATED:20220924T152851Z
LAST-MODIFIED:20220924T152851Z
UID:1338-1667127600-1667133000@spiritualistfirstchurchoftruth.org
SUMMARY:Church\, Carl Franklin speaker
DESCRIPTION:
URL:https://spiritualistfirstchurchoftruth.org/event/church-carl-franklin-speaker/
LOCATION:First Church of Truth
CATEGORIES:At church,On Zoom.
END:VEVENT
BEGIN:VEVENT
DTSTART;TZID=America/Detroit:20221027T190000
DTEND;TZID=America/Detroit:20221027T210000
DTSTAMP:20260425T123147
CREATED:20220924T152819Z
LAST-MODIFIED:20220924T152819Z
UID:1336-1666897200-1666904400@spiritualistfirstchurchoftruth.org
SUMMARY:ACIM class and development
DESCRIPTION:
URL:https://spiritualistfirstchurchoftruth.org/event/acim-class-and-development-8/
LOCATION:Zoom
CATEGORIES:On Zoom.
END:VEVENT
BEGIN:VEVENT
DTSTART;TZID=America/Detroit:20221027T120000
DTEND;TZID=America/Detroit:20221027T140000
DTSTAMP:20260425T123147
CREATED:20220924T152746Z
LAST-MODIFIED:20220924T152746Z
UID:1334-1666872000-1666879200@spiritualistfirstchurchoftruth.org
SUMMARY:ACIM class and development
DESCRIPTION:
URL:https://spiritualistfirstchurchoftruth.org/event/acim-class-and-development-7/
LOCATION:Zoom
CATEGORIES:On Zoom.
END:VEVENT
BEGIN:VEVENT
DTSTART;TZID=America/Detroit:20221023T110000
DTEND;TZID=America/Detroit:20221023T123000
DTSTAMP:20260425T123147
CREATED:20220924T152715Z
LAST-MODIFIED:20220924T152715Z
UID:1332-1666522800-1666528200@spiritualistfirstchurchoftruth.org
SUMMARY:Church\, David Schroeder speaker
DESCRIPTION:
URL:https://spiritualistfirstchurchoftruth.org/event/church-david-schroeder-speaker/
LOCATION:First Church of Truth
CATEGORIES:At church,On Zoom.
END:VEVENT
BEGIN:VEVENT
DTSTART;TZID=America/Detroit:20221020T190000
DTEND;TZID=America/Detroit:20221020T210000
DTSTAMP:20260425T123147
CREATED:20220924T152637Z
LAST-MODIFIED:20220924T152637Z
UID:1330-1666292400-1666299600@spiritualistfirstchurchoftruth.org
SUMMARY:ACIM Class and Development
DESCRIPTION:
URL:https://spiritualistfirstchurchoftruth.org/event/acim-class-and-development-6/
LOCATION:Zoom
CATEGORIES:On Zoom.
END:VEVENT
BEGIN:VEVENT
DTSTART;TZID=America/Detroit:20221020T120000
DTEND;TZID=America/Detroit:20221020T140000
DTSTAMP:20260425T123147
CREATED:20220924T152603Z
LAST-MODIFIED:20220924T152603Z
UID:1328-1666267200-1666274400@spiritualistfirstchurchoftruth.org
SUMMARY:ACIM Class and Development
DESCRIPTION:
URL:https://spiritualistfirstchurchoftruth.org/event/acim-class-and-development-5/
LOCATION:Zoom
CATEGORIES:On Zoom.
END:VEVENT
BEGIN:VEVENT
DTSTART;TZID=America/Detroit:20221016T110000
DTEND;TZID=America/Detroit:20221016T123000
DTSTAMP:20260425T123147
CREATED:20220924T152503Z
LAST-MODIFIED:20220924T152503Z
UID:1326-1665918000-1665923400@spiritualistfirstchurchoftruth.org
SUMMARY:Church\, John Davis speaker
DESCRIPTION:
URL:https://spiritualistfirstchurchoftruth.org/event/church-john-davis-speaker/
LOCATION:First Church of Truth
CATEGORIES:At church,On Zoom.
END:VEVENT
BEGIN:VEVENT
DTSTART;TZID=America/Detroit:20221013T190000
DTEND;TZID=America/Detroit:20221013T210000
DTSTAMP:20260425T123147
CREATED:20220924T152418Z
LAST-MODIFIED:20220924T152418Z
UID:1324-1665687600-1665694800@spiritualistfirstchurchoftruth.org
SUMMARY:ACIM Class and Development
DESCRIPTION:
URL:https://spiritualistfirstchurchoftruth.org/event/acim-class-and-development-4/
LOCATION:Zoom
CATEGORIES:On Zoom.
END:VEVENT
BEGIN:VEVENT
DTSTART;TZID=America/Detroit:20221013T120000
DTEND;TZID=America/Detroit:20221013T140000
DTSTAMP:20260425T123147
CREATED:20220924T152340Z
LAST-MODIFIED:20220924T152340Z
UID:1322-1665662400-1665669600@spiritualistfirstchurchoftruth.org
SUMMARY:ACIM Class and development
DESCRIPTION:
URL:https://spiritualistfirstchurchoftruth.org/event/acim-class-and-development-3/
LOCATION:Zoom
CATEGORIES:On Zoom.
END:VEVENT
BEGIN:VEVENT
DTSTART;TZID=America/Detroit:20221009T110000
DTEND;TZID=America/Detroit:20221009T123000
DTSTAMP:20260425T123147
CREATED:20220924T152311Z
LAST-MODIFIED:20220924T152311Z
UID:1320-1665313200-1665318600@spiritualistfirstchurchoftruth.org
SUMMARY:Church\, with Geri Breton speaker
DESCRIPTION:
URL:https://spiritualistfirstchurchoftruth.org/event/church-with-geri-breton-speaker/
LOCATION:First Church of Truth
CATEGORIES:At church,On Zoom.
END:VEVENT
BEGIN:VEVENT
DTSTART;TZID=America/Detroit:20221006T190000
DTEND;TZID=America/Detroit:20221006T210000
DTSTAMP:20260425T123147
CREATED:20220924T152234Z
LAST-MODIFIED:20220924T152234Z
UID:1318-1665082800-1665090000@spiritualistfirstchurchoftruth.org
SUMMARY:ACIM class and development
DESCRIPTION:
URL:https://spiritualistfirstchurchoftruth.org/event/acim-class-and-development-2/
LOCATION:Zoom
CATEGORIES:On Zoom.
END:VEVENT
BEGIN:VEVENT
DTSTART;TZID=America/Detroit:20221006T120000
DTEND;TZID=America/Detroit:20221006T140000
DTSTAMP:20260425T123148
CREATED:20220924T152201Z
LAST-MODIFIED:20220924T152201Z
UID:1316-1665057600-1665064800@spiritualistfirstchurchoftruth.org
SUMMARY:ACIM class and development
DESCRIPTION:
URL:https://spiritualistfirstchurchoftruth.org/event/acim-class-and-development/
LOCATION:Zoom
CATEGORIES:On Zoom.
END:VEVENT
END:VCALENDAR