BEGIN:VCALENDAR
VERSION:2.0
PRODID:-//Spiritualist First Church of Truth - ECPv6.15.20//NONSGML v1.0//EN
CALSCALE:GREGORIAN
METHOD:PUBLISH
X-WR-CALNAME:Spiritualist First Church of Truth
X-ORIGINAL-URL:https://spiritualistfirstchurchoftruth.org
X-WR-CALDESC:Events for Spiritualist First Church of Truth
REFRESH-INTERVAL;VALUE=DURATION:PT1H
X-Robots-Tag:noindex
X-PUBLISHED-TTL:PT1H
BEGIN:VTIMEZONE
TZID:America/Detroit
BEGIN:DAYLIGHT
TZOFFSETFROM:-0500
TZOFFSETTO:-0400
TZNAME:EDT
DTSTART:20220313T070000
END:DAYLIGHT
BEGIN:STANDARD
TZOFFSETFROM:-0400
TZOFFSETTO:-0500
TZNAME:EST
DTSTART:20221106T060000
END:STANDARD
BEGIN:DAYLIGHT
TZOFFSETFROM:-0500
TZOFFSETTO:-0400
TZNAME:EDT
DTSTART:20230312T070000
END:DAYLIGHT
BEGIN:STANDARD
TZOFFSETFROM:-0400
TZOFFSETTO:-0500
TZNAME:EST
DTSTART:20231105T060000
END:STANDARD
BEGIN:DAYLIGHT
TZOFFSETFROM:-0500
TZOFFSETTO:-0400
TZNAME:EDT
DTSTART:20240310T070000
END:DAYLIGHT
BEGIN:STANDARD
TZOFFSETFROM:-0400
TZOFFSETTO:-0500
TZNAME:EST
DTSTART:20241103T060000
END:STANDARD
BEGIN:DAYLIGHT
TZOFFSETFROM:-0500
TZOFFSETTO:-0400
TZNAME:EDT
DTSTART:20250309T070000
END:DAYLIGHT
BEGIN:STANDARD
TZOFFSETFROM:-0400
TZOFFSETTO:-0500
TZNAME:EST
DTSTART:20251102T060000
END:STANDARD
END:VTIMEZONE
BEGIN:VEVENT
DTSTART;TZID=America/Detroit:20231109T110000
DTEND;TZID=America/Detroit:20231109T130000
DTSTAMP:20260425T112214
CREATED:20231030T220651Z
LAST-MODIFIED:20231030T220651Z
UID:2469-1699527600-1699534800@spiritualistfirstchurchoftruth.org
SUMMARY:Development class 11/9
DESCRIPTION:
URL:https://spiritualistfirstchurchoftruth.org/event/development-class-11-9/
LOCATION:Zoom
CATEGORIES:On Zoom.
END:VEVENT
BEGIN:VEVENT
DTSTART;VALUE=DATE:20231111
DTEND;VALUE=DATE:20231113
DTSTAMP:20260425T112214
CREATED:20230723T193844Z
LAST-MODIFIED:20230723T193844Z
UID:2286-1699660800-1699833599@spiritualistfirstchurchoftruth.org
SUMMARY:Psychic/Holistic fair in DeVos hall.
DESCRIPTION:Contact Rockyourworldevents@gmail.com \n 
URL:https://spiritualistfirstchurchoftruth.org/event/psychic-holistic-fair-in-devos-hall/
END:VEVENT
BEGIN:VEVENT
DTSTART;TZID=America/Detroit:20231112T110000
DTEND;TZID=America/Detroit:20231112T123000
DTSTAMP:20260425T112214
CREATED:20231030T220754Z
LAST-MODIFIED:20231030T220754Z
UID:2471-1699786800-1699792200@spiritualistfirstchurchoftruth.org
SUMMARY:Church with speaker David Schroeder
DESCRIPTION:
URL:https://spiritualistfirstchurchoftruth.org/event/church-with-speaker-david-schroeder/
LOCATION:First Church of Truth
CATEGORIES:At church,On Zoom.
END:VEVENT
BEGIN:VEVENT
DTSTART;TZID=America/Detroit:20231116T110000
DTEND;TZID=America/Detroit:20231116T123000
DTSTAMP:20260425T112214
CREATED:20231030T220857Z
LAST-MODIFIED:20231030T220857Z
UID:2473-1700132400-1700137800@spiritualistfirstchurchoftruth.org
SUMMARY:Development Class 11/16
DESCRIPTION:
URL:https://spiritualistfirstchurchoftruth.org/event/development-class-11-16/
LOCATION:Zoom
CATEGORIES:On Zoom.
END:VEVENT
BEGIN:VEVENT
DTSTART;TZID=America/Detroit:20231119T110000
DTEND;TZID=America/Detroit:20231119T123000
DTSTAMP:20260425T112214
CREATED:20231030T220953Z
LAST-MODIFIED:20231030T220953Z
UID:2475-1700391600-1700397000@spiritualistfirstchurchoftruth.org
SUMMARY:Church with speaker Carl Franklin
DESCRIPTION:
URL:https://spiritualistfirstchurchoftruth.org/event/church-with-speaker-carl-franklin-2/
LOCATION:First Church of Truth
CATEGORIES:At church,On Zoom.
END:VEVENT
BEGIN:VEVENT
DTSTART;VALUE=DATE:20231123
DTEND;VALUE=DATE:20231124
DTSTAMP:20260425T112214
CREATED:20231030T221027Z
LAST-MODIFIED:20231030T221027Z
UID:2477-1700697600-1700783999@spiritualistfirstchurchoftruth.org
SUMMARY:No class
DESCRIPTION:Happy Thanksgiving!
URL:https://spiritualistfirstchurchoftruth.org/event/no-class/
END:VEVENT
BEGIN:VEVENT
DTSTART;VALUE=DATE:20231124
DTEND;VALUE=DATE:20231125
DTSTAMP:20260425T112214
CREATED:20231030T221421Z
LAST-MODIFIED:20231030T221421Z
UID:2485-1700784000-1700870399@spiritualistfirstchurchoftruth.org
SUMMARY:Black Friday
DESCRIPTION:Most people in the US get this day off as well.
URL:https://spiritualistfirstchurchoftruth.org/event/black-friday/
END:VEVENT
BEGIN:VEVENT
DTSTART;TZID=America/Detroit:20231126T110000
DTEND;TZID=America/Detroit:20231126T123000
DTSTAMP:20260425T112214
CREATED:20231030T221127Z
LAST-MODIFIED:20231030T221127Z
UID:2479-1700996400-1701001800@spiritualistfirstchurchoftruth.org
SUMMARY:Church with speaker Ortrun Franklin
DESCRIPTION:
URL:https://spiritualistfirstchurchoftruth.org/event/church-with-speaker-ortrun-franklin/
CATEGORIES:At church,On Zoom.
END:VEVENT
BEGIN:VEVENT
DTSTART;TZID=America/Detroit:20231130T110000
DTEND;TZID=America/Detroit:20231130T130000
DTSTAMP:20260425T112214
CREATED:20231030T221213Z
LAST-MODIFIED:20231030T221213Z
UID:2481-1701342000-1701349200@spiritualistfirstchurchoftruth.org
SUMMARY:Development Class
DESCRIPTION:
URL:https://spiritualistfirstchurchoftruth.org/event/development-class-10/
LOCATION:First Church of Truth
CATEGORIES:On Zoom.
END:VEVENT
BEGIN:VEVENT
DTSTART;TZID=America/Detroit:20231203T110000
DTEND;TZID=America/Detroit:20231203T123000
DTSTAMP:20260425T112214
CREATED:20231202T193855Z
LAST-MODIFIED:20231202T193855Z
UID:2511-1701601200-1701606600@spiritualistfirstchurchoftruth.org
SUMMARY:Church\, speaker Carl Franklin\,
DESCRIPTION:Board meeting and potluck.
URL:https://spiritualistfirstchurchoftruth.org/event/church-speaker-carl-franklin/
LOCATION:First Church of Truth
CATEGORIES:At church,On Zoom.
END:VEVENT
BEGIN:VEVENT
DTSTART;TZID=America/Detroit:20231207T110000
DTEND;TZID=America/Detroit:20231207T130000
DTSTAMP:20260425T112214
CREATED:20231203T132330Z
LAST-MODIFIED:20231203T132330Z
UID:2513-1701946800-1701954000@spiritualistfirstchurchoftruth.org
SUMMARY:Dev class
DESCRIPTION:
URL:https://spiritualistfirstchurchoftruth.org/event/dev-class/
LOCATION:Zoom
CATEGORIES:On Zoom.
END:VEVENT
BEGIN:VEVENT
DTSTART;TZID=America/Detroit:20231210T110000
DTEND;TZID=America/Detroit:20231210T123000
DTSTAMP:20260425T112214
CREATED:20231203T132413Z
LAST-MODIFIED:20231203T132413Z
UID:2515-1702206000-1702211400@spiritualistfirstchurchoftruth.org
SUMMARY:Church with speaker Terese Schroeder
DESCRIPTION:
URL:https://spiritualistfirstchurchoftruth.org/event/church-with-speaker-terese-schroeder/
LOCATION:First Church of Truth
CATEGORIES:At church,On Zoom.
END:VEVENT
BEGIN:VEVENT
DTSTART;TZID=America/Detroit:20231214T110000
DTEND;TZID=America/Detroit:20231214T130000
DTSTAMP:20260425T112214
CREATED:20231203T132444Z
LAST-MODIFIED:20231203T133532Z
UID:2517-1702551600-1702558800@spiritualistfirstchurchoftruth.org
SUMMARY:Dev class
DESCRIPTION:
URL:https://spiritualistfirstchurchoftruth.org/event/dev-class-2/
LOCATION:Zoom
CATEGORIES:On Zoom.
END:VEVENT
BEGIN:VEVENT
DTSTART;TZID=America/Detroit:20231217T110000
DTEND;TZID=America/Detroit:20231217T123000
DTSTAMP:20260425T112214
CREATED:20231203T132524Z
LAST-MODIFIED:20231203T132524Z
UID:2519-1702810800-1702816200@spiritualistfirstchurchoftruth.org
SUMMARY:Church with speaker Tony Holmes
DESCRIPTION:
URL:https://spiritualistfirstchurchoftruth.org/event/church-with-speaker-tony-holmes/
LOCATION:Zoom
CATEGORIES:At church,On Zoom.
END:VEVENT
BEGIN:VEVENT
DTSTART;TZID=America/Detroit:20231221T110000
DTEND;TZID=America/Detroit:20231221T130000
DTSTAMP:20260425T112214
CREATED:20231203T132556Z
LAST-MODIFIED:20231203T132556Z
UID:2521-1703156400-1703163600@spiritualistfirstchurchoftruth.org
SUMMARY:Dev class
DESCRIPTION:Never stop learning.
URL:https://spiritualistfirstchurchoftruth.org/event/dev-class-3/
LOCATION:Zoom
CATEGORIES:On Zoom.
END:VEVENT
BEGIN:VEVENT
DTSTART;TZID=America/Detroit:20231224T110000
DTEND;TZID=America/Detroit:20231224T123000
DTSTAMP:20260425T112214
CREATED:20231203T132632Z
LAST-MODIFIED:20231204T101817Z
UID:2523-1703415600-1703421000@spiritualistfirstchurchoftruth.org
SUMMARY:Church with speaker John Rothwell
DESCRIPTION:And gift exchange. Limit $10 per gift. Gifts should be labeled “Man” or “Woman”.
URL:https://spiritualistfirstchurchoftruth.org/event/church-with-speaker-john-rothwell-3/
CATEGORIES:At church,On Zoom.
END:VEVENT
BEGIN:VEVENT
DTSTART;TZID=America/Detroit:20231228T110000
DTEND;TZID=America/Detroit:20231228T130000
DTSTAMP:20260425T112214
CREATED:20231203T132742Z
LAST-MODIFIED:20231203T132742Z
UID:2525-1703761200-1703768400@spiritualistfirstchurchoftruth.org
SUMMARY:Dev Class
DESCRIPTION:The measure of a person is not by how they treat those they agree with\, but how they treat those they disagree with.
URL:https://spiritualistfirstchurchoftruth.org/event/dev-class-4/
LOCATION:Zoom
CATEGORIES:On Zoom.
END:VEVENT
BEGIN:VEVENT
DTSTART;TZID=America/Detroit:20231231T110000
DTEND;TZID=America/Detroit:20231231T123000
DTSTAMP:20260425T112214
CREATED:20231203T132824Z
LAST-MODIFIED:20231203T132824Z
UID:2527-1704020400-1704025800@spiritualistfirstchurchoftruth.org
SUMMARY:Church with speaker Rev Bill Lumsden
DESCRIPTION:
URL:https://spiritualistfirstchurchoftruth.org/event/church-with-speaker-rev-bill-lumsden-2/
LOCATION:First Church of Truth
CATEGORIES:At church,On Zoom.
END:VEVENT
BEGIN:VEVENT
DTSTART;TZID=America/Detroit:20240104T110000
DTEND;TZID=America/Detroit:20240104T130000
DTSTAMP:20260425T112214
CREATED:20231228T100012Z
LAST-MODIFIED:20231228T100012Z
UID:2551-1704366000-1704373200@spiritualistfirstchurchoftruth.org
SUMMARY:Development class
DESCRIPTION:
URL:https://spiritualistfirstchurchoftruth.org/event/development-class-11/
LOCATION:Zoom
CATEGORIES:On Zoom.
END:VEVENT
BEGIN:VEVENT
DTSTART;TZID=America/Detroit:20240107T110000
DTEND;TZID=America/Detroit:20240107T123000
DTSTAMP:20260425T112214
CREATED:20231228T100113Z
LAST-MODIFIED:20231228T100113Z
UID:2553-1704625200-1704630600@spiritualistfirstchurchoftruth.org
SUMMARY:Services with Laura Joy as speaker
DESCRIPTION:Potluck \nHelen Roberts ordination
URL:https://spiritualistfirstchurchoftruth.org/event/services-with-laura-joy-as-speaker/
LOCATION:First Church of Truth
CATEGORIES:At church
END:VEVENT
BEGIN:VEVENT
DTSTART;TZID=America/Detroit:20240108T110000
DTEND;TZID=America/Detroit:20240108T130000
DTSTAMP:20260425T112214
CREATED:20231228T100203Z
LAST-MODIFIED:20231228T100203Z
UID:2555-1704711600-1704718800@spiritualistfirstchurchoftruth.org
SUMMARY:Development Class
DESCRIPTION:Communing with the Divine.
URL:https://spiritualistfirstchurchoftruth.org/event/development-class-12/
LOCATION:Zoom
CATEGORIES:On Zoom.
END:VEVENT
BEGIN:VEVENT
DTSTART;TZID=America/Detroit:20240114T110000
DTEND;TZID=America/Detroit:20240114T123000
DTSTAMP:20260425T112214
CREATED:20231228T100308Z
LAST-MODIFIED:20231228T100308Z
UID:2557-1705230000-1705235400@spiritualistfirstchurchoftruth.org
SUMMARY:Church with David Schroeder as speaker
DESCRIPTION:Board Meeting.
URL:https://spiritualistfirstchurchoftruth.org/event/church-with-david-schroeder-as-speaker-2/
LOCATION:First Church of Truth
CATEGORIES:At church,On Zoom.
END:VEVENT
BEGIN:VEVENT
DTSTART;TZID=America/Detroit:20240115T110000
DTEND;TZID=America/Detroit:20240115T123000
DTSTAMP:20260425T112214
CREATED:20231228T100359Z
LAST-MODIFIED:20231228T100359Z
UID:2559-1705316400-1705321800@spiritualistfirstchurchoftruth.org
SUMMARY:Development Class
DESCRIPTION:“Communing with the Divine”
URL:https://spiritualistfirstchurchoftruth.org/event/development-class-13/
LOCATION:Zoom
CATEGORIES:On Zoom.
END:VEVENT
BEGIN:VEVENT
DTSTART;TZID=America/Detroit:20240121T110000
DTEND;TZID=America/Detroit:20240121T123000
DTSTAMP:20260425T112214
CREATED:20231228T100437Z
LAST-MODIFIED:20231228T100437Z
UID:2561-1705834800-1705840200@spiritualistfirstchurchoftruth.org
SUMMARY:Church with Mike Miller\, Speaker
DESCRIPTION:
URL:https://spiritualistfirstchurchoftruth.org/event/church-with-mike-miller-speaker/
LOCATION:First Church of Truth
CATEGORIES:At church,On Zoom.
END:VEVENT
BEGIN:VEVENT
DTSTART;TZID=America/Detroit:20240122T110000
DTEND;TZID=America/Detroit:20240122T130000
DTSTAMP:20260425T112214
CREATED:20231228T100514Z
LAST-MODIFIED:20231228T100514Z
UID:2563-1705921200-1705928400@spiritualistfirstchurchoftruth.org
SUMMARY:Development class
DESCRIPTION:
URL:https://spiritualistfirstchurchoftruth.org/event/development-class-14/
LOCATION:Zoom
CATEGORIES:On Zoom.
END:VEVENT
BEGIN:VEVENT
DTSTART;TZID=America/Detroit:20240128T110000
DTEND;TZID=America/Detroit:20240128T123000
DTSTAMP:20260425T112214
CREATED:20231228T100553Z
LAST-MODIFIED:20231228T100553Z
UID:2565-1706439600-1706445000@spiritualistfirstchurchoftruth.org
SUMMARY:Church with Billy Herrick\, Speaker
DESCRIPTION:
URL:https://spiritualistfirstchurchoftruth.org/event/church-with-billy-herrick-speaker/
LOCATION:First Church of Truth
CATEGORIES:At church,On Zoom.
END:VEVENT
BEGIN:VEVENT
DTSTART;TZID=America/Detroit:20240129T110000
DTEND;TZID=America/Detroit:20240129T130000
DTSTAMP:20260425T112214
CREATED:20231228T100633Z
LAST-MODIFIED:20231228T100633Z
UID:2567-1706526000-1706533200@spiritualistfirstchurchoftruth.org
SUMMARY:Development Class
DESCRIPTION:“Communing with the Divine.”
URL:https://spiritualistfirstchurchoftruth.org/event/development-class-15/
LOCATION:Zoom
CATEGORIES:On Zoom.
END:VEVENT
BEGIN:VEVENT
DTSTART;TZID=America/Detroit:20240204T100000
DTEND;TZID=America/Detroit:20240204T110000
DTSTAMP:20260425T112214
CREATED:20240130T194704Z
LAST-MODIFIED:20240130T194704Z
UID:2592-1707040800-1707044400@spiritualistfirstchurchoftruth.org
SUMMARY:Channelling
DESCRIPTION:With David and Terese Schroeder.
URL:https://spiritualistfirstchurchoftruth.org/event/channelling/
LOCATION:First Church of Truth
CATEGORIES:At church
END:VEVENT
BEGIN:VEVENT
DTSTART;TZID=America/Detroit:20240204T110000
DTEND;TZID=America/Detroit:20240204T123000
DTSTAMP:20260425T112214
CREATED:20240130T194735Z
LAST-MODIFIED:20240130T194749Z
UID:2594-1707044400-1707049800@spiritualistfirstchurchoftruth.org
SUMMARY:Church with David Schroeder speaker
DESCRIPTION:Potluck after\, and board meeting.
URL:https://spiritualistfirstchurchoftruth.org/event/church-with-david-schroeder-speaker/
LOCATION:First Church of Truth
CATEGORIES:At church,On Zoom.
END:VEVENT
BEGIN:VEVENT
DTSTART;TZID=America/Detroit:20240205T110000
DTEND;TZID=America/Detroit:20240205T130000
DTSTAMP:20260425T112214
CREATED:20240130T194827Z
LAST-MODIFIED:20240130T194827Z
UID:2597-1707130800-1707138000@spiritualistfirstchurchoftruth.org
SUMMARY:Development class
DESCRIPTION:“Leap of Perception” book.
URL:https://spiritualistfirstchurchoftruth.org/event/development-class-16/
LOCATION:Zoom
CATEGORIES:On Zoom.
END:VEVENT
END:VCALENDAR