BEGIN:VCALENDAR
VERSION:2.0
PRODID:-//Spiritualist First Church of Truth - ECPv6.15.20//NONSGML v1.0//EN
CALSCALE:GREGORIAN
METHOD:PUBLISH
X-ORIGINAL-URL:https://spiritualistfirstchurchoftruth.org
X-WR-CALDESC:Events for Spiritualist First Church of Truth
REFRESH-INTERVAL;VALUE=DURATION:PT1H
X-Robots-Tag:noindex
X-PUBLISHED-TTL:PT1H
BEGIN:VTIMEZONE
TZID:America/Detroit
BEGIN:DAYLIGHT
TZOFFSETFROM:-0500
TZOFFSETTO:-0400
TZNAME:EDT
DTSTART:20240310T070000
END:DAYLIGHT
BEGIN:STANDARD
TZOFFSETFROM:-0400
TZOFFSETTO:-0500
TZNAME:EST
DTSTART:20241103T060000
END:STANDARD
BEGIN:DAYLIGHT
TZOFFSETFROM:-0500
TZOFFSETTO:-0400
TZNAME:EDT
DTSTART:20250309T070000
END:DAYLIGHT
BEGIN:STANDARD
TZOFFSETFROM:-0400
TZOFFSETTO:-0500
TZNAME:EST
DTSTART:20251102T060000
END:STANDARD
BEGIN:DAYLIGHT
TZOFFSETFROM:-0500
TZOFFSETTO:-0400
TZNAME:EDT
DTSTART:20260308T070000
END:DAYLIGHT
BEGIN:STANDARD
TZOFFSETFROM:-0400
TZOFFSETTO:-0500
TZNAME:EST
DTSTART:20261101T060000
END:STANDARD
END:VTIMEZONE
BEGIN:VEVENT
DTSTART;TZID=America/Detroit:20250202T110000
DTEND;TZID=America/Detroit:20250202T123000
DTSTAMP:20260424T092514
CREATED:20250113T142947Z
LAST-MODIFIED:20250131T192954Z
UID:3246-1738494000-1738499400@spiritualistfirstchurchoftruth.org
SUMMARY:Church Services\, Rev Bill Lumsden speaks.
DESCRIPTION:
URL:https://spiritualistfirstchurchoftruth.org/event/church-services/
LOCATION:First Church of Truth
CATEGORIES:At church,On Zoom.
END:VEVENT
BEGIN:VEVENT
DTSTART;TZID=America/Detroit:20250203T110000
DTEND;TZID=America/Detroit:20250203T130000
DTSTAMP:20260424T092514
CREATED:20250113T143055Z
LAST-MODIFIED:20250113T143147Z
UID:3250-1738580400-1738587600@spiritualistfirstchurchoftruth.org
SUMMARY:Development class
DESCRIPTION:
URL:https://spiritualistfirstchurchoftruth.org/event/development-class-58/
CATEGORIES:On Zoom.
END:VEVENT
BEGIN:VEVENT
DTSTART;TZID=America/Detroit:20250209T110000
DTEND;TZID=America/Detroit:20250209T123000
DTSTAMP:20260424T092514
CREATED:20250131T193040Z
LAST-MODIFIED:20250131T193040Z
UID:3274-1739098800-1739104200@spiritualistfirstchurchoftruth.org
SUMMARY:Church Services\, with Ortrun Franklin speaker
DESCRIPTION:
URL:https://spiritualistfirstchurchoftruth.org/event/church-services-with-ortrun-franklin-speaker/
CATEGORIES:At church,On Zoom.
END:VEVENT
BEGIN:VEVENT
DTSTART;TZID=America/Detroit:20250210T110000
DTEND;TZID=America/Detroit:20250210T130000
DTSTAMP:20260424T092514
CREATED:20250113T143124Z
LAST-MODIFIED:20250113T143124Z
UID:3252-1739185200-1739192400@spiritualistfirstchurchoftruth.org
SUMMARY:Development class
DESCRIPTION:
URL:https://spiritualistfirstchurchoftruth.org/event/development-class-59/
CATEGORIES:On Zoom.
END:VEVENT
BEGIN:VEVENT
DTSTART;TZID=America/Detroit:20250216T110000
DTEND;TZID=America/Detroit:20250216T123000
DTSTAMP:20260424T092514
CREATED:20250131T193122Z
LAST-MODIFIED:20250131T193122Z
UID:3276-1739703600-1739709000@spiritualistfirstchurchoftruth.org
SUMMARY:Church Services\, with speaker Carl Franklin
DESCRIPTION:
URL:https://spiritualistfirstchurchoftruth.org/event/church-services-with-speaker-carl-franklin-2/
CATEGORIES:At church,On Zoom.
END:VEVENT
BEGIN:VEVENT
DTSTART;TZID=America/Detroit:20250217T110000
DTEND;TZID=America/Detroit:20250217T130000
DTSTAMP:20260424T092514
CREATED:20250113T143214Z
LAST-MODIFIED:20250113T143214Z
UID:3254-1739790000-1739797200@spiritualistfirstchurchoftruth.org
SUMMARY:Development class
DESCRIPTION:
URL:https://spiritualistfirstchurchoftruth.org/event/development-class-60/
CATEGORIES:On Zoom.
END:VEVENT
BEGIN:VEVENT
DTSTART;TZID=America/Detroit:20250223T110000
DTEND;TZID=America/Detroit:20250223T123000
DTSTAMP:20260424T092514
CREATED:20250131T193237Z
LAST-MODIFIED:20250131T193237Z
UID:3278-1740308400-1740313800@spiritualistfirstchurchoftruth.org
SUMMARY:Church Services\, with speaker David Schroeder
DESCRIPTION:
URL:https://spiritualistfirstchurchoftruth.org/event/church-services-with-speaker-david-schroeder-3/
CATEGORIES:At church,On Zoom.
END:VEVENT
BEGIN:VEVENT
DTSTART;TZID=America/Detroit:20250224T110000
DTEND;TZID=America/Detroit:20250224T130000
DTSTAMP:20260424T092514
CREATED:20250113T143249Z
LAST-MODIFIED:20250113T143249Z
UID:3256-1740394800-1740402000@spiritualistfirstchurchoftruth.org
SUMMARY:Development class
DESCRIPTION:
URL:https://spiritualistfirstchurchoftruth.org/event/development-class-61/
CATEGORIES:On Zoom.
END:VEVENT
END:VCALENDAR