BEGIN:VCALENDAR
VERSION:2.0
PRODID:-//Spiritualist First Church of Truth - ECPv6.15.20//NONSGML v1.0//EN
CALSCALE:GREGORIAN
METHOD:PUBLISH
X-ORIGINAL-URL:https://spiritualistfirstchurchoftruth.org
X-WR-CALDESC:Events for Spiritualist First Church of Truth
REFRESH-INTERVAL;VALUE=DURATION:PT1H
X-Robots-Tag:noindex
X-PUBLISHED-TTL:PT1H
BEGIN:VTIMEZONE
TZID:America/Detroit
BEGIN:DAYLIGHT
TZOFFSETFROM:-0500
TZOFFSETTO:-0400
TZNAME:EDT
DTSTART:20230312T070000
END:DAYLIGHT
BEGIN:STANDARD
TZOFFSETFROM:-0400
TZOFFSETTO:-0500
TZNAME:EST
DTSTART:20231105T060000
END:STANDARD
BEGIN:DAYLIGHT
TZOFFSETFROM:-0500
TZOFFSETTO:-0400
TZNAME:EDT
DTSTART:20240310T070000
END:DAYLIGHT
BEGIN:STANDARD
TZOFFSETFROM:-0400
TZOFFSETTO:-0500
TZNAME:EST
DTSTART:20241103T060000
END:STANDARD
BEGIN:DAYLIGHT
TZOFFSETFROM:-0500
TZOFFSETTO:-0400
TZNAME:EDT
DTSTART:20250309T070000
END:DAYLIGHT
BEGIN:STANDARD
TZOFFSETFROM:-0400
TZOFFSETTO:-0500
TZNAME:EST
DTSTART:20251102T060000
END:STANDARD
END:VTIMEZONE
BEGIN:VEVENT
DTSTART;TZID=America/Detroit:20240901T110000
DTEND;TZID=America/Detroit:20240901T123000
DTSTAMP:20260424T164941
CREATED:20240828T204456Z
LAST-MODIFIED:20240828T204456Z
UID:2973-1725188400-1725193800@spiritualistfirstchurchoftruth.org
SUMMARY:Services\, Speaker Rev Bill Lumsden
DESCRIPTION:
URL:https://spiritualistfirstchurchoftruth.org/event/services-speaker-rev-bill-lumsden/
CATEGORIES:At church,On Zoom.
END:VEVENT
BEGIN:VEVENT
DTSTART;TZID=America/Detroit:20240908T110000
DTEND;TZID=America/Detroit:20240908T123000
DTSTAMP:20260424T164941
CREATED:20240828T205150Z
LAST-MODIFIED:20240828T205150Z
UID:2986-1725793200-1725798600@spiritualistfirstchurchoftruth.org
SUMMARY:Church Services\, spkr Chuck Roberts
DESCRIPTION:
URL:https://spiritualistfirstchurchoftruth.org/event/church-services-spkr-chuck-roberts/
CATEGORIES:At church,On Zoom.
END:VEVENT
BEGIN:VEVENT
DTSTART;TZID=America/Detroit:20240915T110000
DTEND;TZID=America/Detroit:20240915T123000
DTSTAMP:20260424T164941
CREATED:20240828T205339Z
LAST-MODIFIED:20240828T205339Z
UID:2990-1726398000-1726403400@spiritualistfirstchurchoftruth.org
SUMMARY:Church and ISA quarterly
DESCRIPTION:
URL:https://spiritualistfirstchurchoftruth.org/event/church-and-isa-quarterly/
CATEGORIES:At church,On Zoom.
END:VEVENT
BEGIN:VEVENT
DTSTART;TZID=America/Detroit:20240916T110000
DTEND;TZID=America/Detroit:20240916T130000
DTSTAMP:20260424T164941
CREATED:20240828T204848Z
LAST-MODIFIED:20240828T204848Z
UID:2983-1726484400-1726491600@spiritualistfirstchurchoftruth.org
SUMMARY:Development class
DESCRIPTION:
URL:https://spiritualistfirstchurchoftruth.org/event/development-class-41/
LOCATION:Zoom
CATEGORIES:On Zoom.
END:VEVENT
BEGIN:VEVENT
DTSTART;TZID=America/Detroit:20240922T110000
DTEND;TZID=America/Detroit:20240922T123000
DTSTAMP:20260424T164941
CREATED:20240828T205245Z
LAST-MODIFIED:20240828T205245Z
UID:2988-1727002800-1727008200@spiritualistfirstchurchoftruth.org
SUMMARY:Church\, spkr Carl Franklin
DESCRIPTION:
URL:https://spiritualistfirstchurchoftruth.org/event/church-spkr-carl-franklin-2/
CATEGORIES:At church,On Zoom.
END:VEVENT
BEGIN:VEVENT
DTSTART;TZID=America/Detroit:20240923T110000
DTEND;TZID=America/Detroit:20240923T130000
DTSTAMP:20260424T164941
CREATED:20240828T205425Z
LAST-MODIFIED:20240828T205425Z
UID:2992-1727089200-1727096400@spiritualistfirstchurchoftruth.org
SUMMARY:Development class
DESCRIPTION:
URL:https://spiritualistfirstchurchoftruth.org/event/development-class-42/
CATEGORIES:On Zoom.
END:VEVENT
BEGIN:VEVENT
DTSTART;TZID=America/Detroit:20240929T110000
DTEND;TZID=America/Detroit:20240929T123000
DTSTAMP:20260424T164941
CREATED:20240828T205555Z
LAST-MODIFIED:20240828T205555Z
UID:2997-1727607600-1727613000@spiritualistfirstchurchoftruth.org
SUMMARY:Church\, spkr Ortrun Franklin
DESCRIPTION:
URL:https://spiritualistfirstchurchoftruth.org/event/church-spkr-ortrun-franklin-2/
CATEGORIES:At church,On Zoom.
END:VEVENT
BEGIN:VEVENT
DTSTART;TZID=America/Detroit:20240930T110000
DTEND;TZID=America/Detroit:20240930T130000
DTSTAMP:20260424T164941
CREATED:20240828T205640Z
LAST-MODIFIED:20240925T195910Z
UID:2999-1727694000-1727701200@spiritualistfirstchurchoftruth.org
SUMMARY:Development class
DESCRIPTION:
URL:https://spiritualistfirstchurchoftruth.org/event/development-class-43/
CATEGORIES:On Zoom.
END:VEVENT
END:VCALENDAR