BEGIN:VCALENDAR
VERSION:2.0
PRODID:-//Spiritualist First Church of Truth - ECPv6.15.20//NONSGML v1.0//EN
CALSCALE:GREGORIAN
METHOD:PUBLISH
X-ORIGINAL-URL:https://spiritualistfirstchurchoftruth.org
X-WR-CALDESC:Events for Spiritualist First Church of Truth
REFRESH-INTERVAL;VALUE=DURATION:PT1H
X-Robots-Tag:noindex
X-PUBLISHED-TTL:PT1H
BEGIN:VTIMEZONE
TZID:America/Detroit
BEGIN:DAYLIGHT
TZOFFSETFROM:-0500
TZOFFSETTO:-0400
TZNAME:EDT
DTSTART:20230312T070000
END:DAYLIGHT
BEGIN:STANDARD
TZOFFSETFROM:-0400
TZOFFSETTO:-0500
TZNAME:EST
DTSTART:20231105T060000
END:STANDARD
BEGIN:DAYLIGHT
TZOFFSETFROM:-0500
TZOFFSETTO:-0400
TZNAME:EDT
DTSTART:20240310T070000
END:DAYLIGHT
BEGIN:STANDARD
TZOFFSETFROM:-0400
TZOFFSETTO:-0500
TZNAME:EST
DTSTART:20241103T060000
END:STANDARD
BEGIN:DAYLIGHT
TZOFFSETFROM:-0500
TZOFFSETTO:-0400
TZNAME:EDT
DTSTART:20250309T070000
END:DAYLIGHT
BEGIN:STANDARD
TZOFFSETFROM:-0400
TZOFFSETTO:-0500
TZNAME:EST
DTSTART:20251102T060000
END:STANDARD
END:VTIMEZONE
BEGIN:VEVENT
DTSTART;TZID=America/Detroit:20240602T110000
DTEND;TZID=America/Detroit:20240602T123000
DTSTAMP:20260424T230537
CREATED:20240529T085858Z
LAST-MODIFIED:20240529T085858Z
UID:2836-1717326000-1717331400@spiritualistfirstchurchoftruth.org
SUMMARY:Church with speaker Tony Holmes
DESCRIPTION:Also Potluck and Board Meeting.
URL:https://spiritualistfirstchurchoftruth.org/event/church-with-speaker-tony-holmes-3/
CATEGORIES:At church,On Zoom.
END:VEVENT
BEGIN:VEVENT
DTSTART;TZID=America/Detroit:20240603T110000
DTEND;TZID=America/Detroit:20240603T130000
DTSTAMP:20260424T230537
CREATED:20240529T085937Z
LAST-MODIFIED:20240529T085937Z
UID:2838-1717412400-1717419600@spiritualistfirstchurchoftruth.org
SUMMARY:Development class
DESCRIPTION:“Leap of Perception” book.
URL:https://spiritualistfirstchurchoftruth.org/event/development-class-32/
LOCATION:Zoom
CATEGORIES:On Zoom.
END:VEVENT
BEGIN:VEVENT
DTSTART;TZID=America/Detroit:20240610T110000
DTEND;TZID=America/Detroit:20240610T130000
DTSTAMP:20260424T230537
CREATED:20240529T090050Z
LAST-MODIFIED:20240529T090050Z
UID:2842-1718017200-1718024400@spiritualistfirstchurchoftruth.org
SUMMARY:Development class
DESCRIPTION:
URL:https://spiritualistfirstchurchoftruth.org/event/development-class-33/
LOCATION:Zoom
CATEGORIES:On Zoom.
END:VEVENT
BEGIN:VEVENT
DTSTART;TZID=America/Detroit:20240616T110000
DTEND;TZID=America/Detroit:20240616T123000
DTSTAMP:20260424T230537
CREATED:20240529T090134Z
LAST-MODIFIED:20240529T090749Z
UID:2844-1718535600-1718541000@spiritualistfirstchurchoftruth.org
SUMMARY:Church with speaker Helen Roberts
DESCRIPTION:
URL:https://spiritualistfirstchurchoftruth.org/event/church-with-speaker-helen-roberts/
LOCATION:First Church of Truth
CATEGORIES:At church,On Zoom.
END:VEVENT
BEGIN:VEVENT
DTSTART;TZID=America/Detroit:20240617T110000
DTEND;TZID=America/Detroit:20240617T130000
DTSTAMP:20260424T230537
CREATED:20240529T090211Z
LAST-MODIFIED:20240529T090211Z
UID:2846-1718622000-1718629200@spiritualistfirstchurchoftruth.org
SUMMARY:Development class
DESCRIPTION:
URL:https://spiritualistfirstchurchoftruth.org/event/development-class-34/
LOCATION:Zoom
CATEGORIES:On Zoom.
END:VEVENT
BEGIN:VEVENT
DTSTART;TZID=America/Detroit:20240623T110000
DTEND;TZID=America/Detroit:20240623T123000
DTSTAMP:20260424T230537
CREATED:20240529T090256Z
LAST-MODIFIED:20240529T090256Z
UID:2848-1719140400-1719145800@spiritualistfirstchurchoftruth.org
SUMMARY:Church with speaker David Schroeder
DESCRIPTION:
URL:https://spiritualistfirstchurchoftruth.org/event/church-with-speaker-david-schroeder-3/
LOCATION:First Church of Truth
CATEGORIES:At church,On Zoom.
END:VEVENT
BEGIN:VEVENT
DTSTART;TZID=America/Detroit:20240624T110000
DTEND;TZID=America/Detroit:20240624T130000
DTSTAMP:20260424T230537
CREATED:20240529T090336Z
LAST-MODIFIED:20240529T090336Z
UID:2850-1719226800-1719234000@spiritualistfirstchurchoftruth.org
SUMMARY:Development class
DESCRIPTION:Book “Leap of Perception”
URL:https://spiritualistfirstchurchoftruth.org/event/development-class-35/
LOCATION:Zoom
CATEGORIES:On Zoom.
END:VEVENT
BEGIN:VEVENT
DTSTART;TZID=America/Detroit:20240630T110000
DTEND;TZID=America/Detroit:20240630T123000
DTSTAMP:20260424T230537
CREATED:20240529T090511Z
LAST-MODIFIED:20240529T090511Z
UID:2854-1719745200-1719750600@spiritualistfirstchurchoftruth.org
SUMMARY:Church with speaker Michael Joy
DESCRIPTION:
URL:https://spiritualistfirstchurchoftruth.org/event/church-with-speaker-michael-joy/
LOCATION:First Church of Truth
CATEGORIES:At church,On Zoom.
END:VEVENT
END:VCALENDAR