BEGIN:VCALENDAR
VERSION:2.0
PRODID:-//Spiritualist First Church of Truth - ECPv6.15.20//NONSGML v1.0//EN
CALSCALE:GREGORIAN
METHOD:PUBLISH
X-ORIGINAL-URL:https://spiritualistfirstchurchoftruth.org
X-WR-CALDESC:Events for Spiritualist First Church of Truth
REFRESH-INTERVAL;VALUE=DURATION:PT1H
X-Robots-Tag:noindex
X-PUBLISHED-TTL:PT1H
BEGIN:VTIMEZONE
TZID:America/Detroit
BEGIN:DAYLIGHT
TZOFFSETFROM:-0500
TZOFFSETTO:-0400
TZNAME:EDT
DTSTART:20220313T070000
END:DAYLIGHT
BEGIN:STANDARD
TZOFFSETFROM:-0400
TZOFFSETTO:-0500
TZNAME:EST
DTSTART:20221106T060000
END:STANDARD
BEGIN:DAYLIGHT
TZOFFSETFROM:-0500
TZOFFSETTO:-0400
TZNAME:EDT
DTSTART:20230312T070000
END:DAYLIGHT
BEGIN:STANDARD
TZOFFSETFROM:-0400
TZOFFSETTO:-0500
TZNAME:EST
DTSTART:20231105T060000
END:STANDARD
BEGIN:DAYLIGHT
TZOFFSETFROM:-0500
TZOFFSETTO:-0400
TZNAME:EDT
DTSTART:20240310T070000
END:DAYLIGHT
BEGIN:STANDARD
TZOFFSETFROM:-0400
TZOFFSETTO:-0500
TZNAME:EST
DTSTART:20241103T060000
END:STANDARD
END:VTIMEZONE
BEGIN:VEVENT
DTSTART;TZID=America/Detroit:20230601T120000
DTEND;TZID=America/Detroit:20230601T140000
DTSTAMP:20260425T171440
CREATED:20230601T121438Z
LAST-MODIFIED:20230601T121438Z
UID:2191-1685620800-1685628000@spiritualistfirstchurchoftruth.org
SUMMARY:Church Class
DESCRIPTION:
URL:https://spiritualistfirstchurchoftruth.org/event/church-class-15/
CATEGORIES:On Zoom.
END:VEVENT
BEGIN:VEVENT
DTSTART;TZID=America/Detroit:20230604T110000
DTEND;TZID=America/Detroit:20230604T123000
DTSTAMP:20260425T171440
CREATED:20230601T121520Z
LAST-MODIFIED:20230601T122257Z
UID:2193-1685876400-1685881800@spiritualistfirstchurchoftruth.org
SUMMARY:Church services with speaker Rev Bill Lumsden\, pot luck
DESCRIPTION:No board meeting this month.
URL:https://spiritualistfirstchurchoftruth.org/event/church-services-pot-luck/
CATEGORIES:At church,On Zoom.
END:VEVENT
BEGIN:VEVENT
DTSTART;TZID=America/Detroit:20230608T120000
DTEND;TZID=America/Detroit:20230608T140000
DTSTAMP:20260425T171440
CREATED:20230601T121621Z
LAST-MODIFIED:20230601T121621Z
UID:2196-1686225600-1686232800@spiritualistfirstchurchoftruth.org
SUMMARY:Church class
DESCRIPTION:“Jesus\, My Autobiography”.
URL:https://spiritualistfirstchurchoftruth.org/event/church-class-16/
CATEGORIES:On Zoom.
END:VEVENT
BEGIN:VEVENT
DTSTART;TZID=America/Detroit:20230615T120000
DTEND;TZID=America/Detroit:20230615T140000
DTSTAMP:20260425T171440
CREATED:20230601T121739Z
LAST-MODIFIED:20230601T121739Z
UID:2200-1686830400-1686837600@spiritualistfirstchurchoftruth.org
SUMMARY:Church class
DESCRIPTION:“Jesus\, My Autobiography”
URL:https://spiritualistfirstchurchoftruth.org/event/church-class-17/
CATEGORIES:On Zoom.
END:VEVENT
BEGIN:VEVENT
DTSTART;TZID=America/Detroit:20230622T120000
DTEND;TZID=America/Detroit:20230622T140000
DTSTAMP:20260425T171440
CREATED:20230601T121921Z
LAST-MODIFIED:20230601T121921Z
UID:2204-1687435200-1687442400@spiritualistfirstchurchoftruth.org
SUMMARY:Church class
DESCRIPTION:“Jesus\, My Autobiography”
URL:https://spiritualistfirstchurchoftruth.org/event/church-class-18/
CATEGORIES:On Zoom.
END:VEVENT
BEGIN:VEVENT
DTSTART;TZID=America/Detroit:20230625T110000
DTEND;TZID=America/Detroit:20230625T123000
DTSTAMP:20260425T171440
CREATED:20230601T122008Z
LAST-MODIFIED:20230601T122008Z
UID:2206-1687690800-1687696200@spiritualistfirstchurchoftruth.org
SUMMARY:Church with speaker John Rothwell
DESCRIPTION:
URL:https://spiritualistfirstchurchoftruth.org/event/church-with-speaker-john-rothwell/
LOCATION:First Church of Truth
CATEGORIES:At church,On Zoom.
END:VEVENT
BEGIN:VEVENT
DTSTART;TZID=America/Detroit:20230629T120000
DTEND;TZID=America/Detroit:20230629T140000
DTSTAMP:20260425T171440
CREATED:20230601T122051Z
LAST-MODIFIED:20230601T122051Z
UID:2208-1688040000-1688047200@spiritualistfirstchurchoftruth.org
SUMMARY:Church class
DESCRIPTION:“Jesus\, My Autobiography”
URL:https://spiritualistfirstchurchoftruth.org/event/church-class-19/
LOCATION:Zoom
CATEGORIES:On Zoom.
END:VEVENT
END:VCALENDAR