BEGIN:VCALENDAR
VERSION:2.0
PRODID:-//Spiritualist First Church of Truth - ECPv6.15.20//NONSGML v1.0//EN
CALSCALE:GREGORIAN
METHOD:PUBLISH
X-WR-CALNAME:Spiritualist First Church of Truth
X-ORIGINAL-URL:https://spiritualistfirstchurchoftruth.org
X-WR-CALDESC:Events for Spiritualist First Church of Truth
REFRESH-INTERVAL;VALUE=DURATION:PT1H
X-Robots-Tag:noindex
X-PUBLISHED-TTL:PT1H
BEGIN:VTIMEZONE
TZID:America/Detroit
BEGIN:DAYLIGHT
TZOFFSETFROM:-0500
TZOFFSETTO:-0400
TZNAME:EDT
DTSTART:20220313T070000
END:DAYLIGHT
BEGIN:STANDARD
TZOFFSETFROM:-0400
TZOFFSETTO:-0500
TZNAME:EST
DTSTART:20221106T060000
END:STANDARD
BEGIN:DAYLIGHT
TZOFFSETFROM:-0500
TZOFFSETTO:-0400
TZNAME:EDT
DTSTART:20230312T070000
END:DAYLIGHT
BEGIN:STANDARD
TZOFFSETFROM:-0400
TZOFFSETTO:-0500
TZNAME:EST
DTSTART:20231105T060000
END:STANDARD
BEGIN:DAYLIGHT
TZOFFSETFROM:-0500
TZOFFSETTO:-0400
TZNAME:EDT
DTSTART:20240310T070000
END:DAYLIGHT
BEGIN:STANDARD
TZOFFSETFROM:-0400
TZOFFSETTO:-0500
TZNAME:EST
DTSTART:20241103T060000
END:STANDARD
END:VTIMEZONE
BEGIN:VEVENT
DTSTART;TZID=America/Detroit:20230302T120000
DTEND;TZID=America/Detroit:20230302T140000
DTSTAMP:20260425T215621
CREATED:20230301T221054Z
LAST-MODIFIED:20230301T221107Z
UID:2070-1677758400-1677765600@spiritualistfirstchurchoftruth.org
SUMMARY:Church Class
DESCRIPTION:
URL:https://spiritualistfirstchurchoftruth.org/event/church-class-2/
LOCATION:Zoom
CATEGORIES:On Zoom.
END:VEVENT
BEGIN:VEVENT
DTSTART;TZID=America/Detroit:20230305T110000
DTEND;TZID=America/Detroit:20230305T123000
DTSTAMP:20260425T215621
CREATED:20230226T193940Z
LAST-MODIFIED:20230301T220946Z
UID:2059-1678014000-1678019400@spiritualistfirstchurchoftruth.org
SUMMARY:Service with Chuck as speaker
DESCRIPTION:Chuck will speak about his amazing healing from 2019. \nAlso potluck\, and board election after church.
URL:https://spiritualistfirstchurchoftruth.org/event/service-with-chuck-as-speaker/
LOCATION:First Church of Truth
CATEGORIES:At church,On Zoom.
END:VEVENT
BEGIN:VEVENT
DTSTART;TZID=America/Detroit:20230309T120000
DTEND;TZID=America/Detroit:20230309T140000
DTSTAMP:20260425T215621
CREATED:20230301T221139Z
LAST-MODIFIED:20230301T221139Z
UID:2072-1678363200-1678370400@spiritualistfirstchurchoftruth.org
SUMMARY:Church class
DESCRIPTION:
URL:https://spiritualistfirstchurchoftruth.org/event/church-class-3/
LOCATION:Zoom
CATEGORIES:On Zoom.
END:VEVENT
BEGIN:VEVENT
DTSTART;TZID=America/Detroit:20230316T120000
DTEND;TZID=America/Detroit:20230316T140000
DTSTAMP:20260425T215621
CREATED:20230301T221303Z
LAST-MODIFIED:20230301T221303Z
UID:2076-1678968000-1678975200@spiritualistfirstchurchoftruth.org
SUMMARY:Church class
DESCRIPTION:
URL:https://spiritualistfirstchurchoftruth.org/event/church-class-4/
LOCATION:Zoom
CATEGORIES:On Zoom.
END:VEVENT
BEGIN:VEVENT
DTSTART;TZID=America/Detroit:20230319T110000
DTEND;TZID=America/Detroit:20230319T123000
DTSTAMP:20260425T215621
CREATED:20230301T221228Z
LAST-MODIFIED:20230301T221228Z
UID:2074-1679223600-1679229000@spiritualistfirstchurchoftruth.org
SUMMARY:Church with Rev Bill Lumsden
DESCRIPTION:
URL:https://spiritualistfirstchurchoftruth.org/event/church-with-rev-bill-lumsden-2/
LOCATION:Zoom
CATEGORIES:At church,On Zoom.
END:VEVENT
BEGIN:VEVENT
DTSTART;TZID=America/Detroit:20230323T120000
DTEND;TZID=America/Detroit:20230323T140000
DTSTAMP:20260425T215621
CREATED:20230301T221350Z
LAST-MODIFIED:20230301T221350Z
UID:2078-1679572800-1679580000@spiritualistfirstchurchoftruth.org
SUMMARY:Church class
DESCRIPTION:
URL:https://spiritualistfirstchurchoftruth.org/event/church-class-5/
LOCATION:Zoom
CATEGORIES:On Zoom.
END:VEVENT
BEGIN:VEVENT
DTSTART;TZID=America/Detroit:20230326T110000
DTEND;TZID=America/Detroit:20230326T123000
DTSTAMP:20260425T215621
CREATED:20230301T221422Z
LAST-MODIFIED:20230301T221422Z
UID:2080-1679828400-1679833800@spiritualistfirstchurchoftruth.org
SUMMARY:Church with David Schroeder as speaker
DESCRIPTION:
URL:https://spiritualistfirstchurchoftruth.org/event/church-with-david-schroeder-as-speaker/
LOCATION:Zoom
CATEGORIES:At church,On Zoom.
END:VEVENT
BEGIN:VEVENT
DTSTART;TZID=America/Detroit:20230330T120000
DTEND;TZID=America/Detroit:20230330T140000
DTSTAMP:20260425T215621
CREATED:20230301T221453Z
LAST-MODIFIED:20230301T221453Z
UID:2082-1680177600-1680184800@spiritualistfirstchurchoftruth.org
SUMMARY:Church class
DESCRIPTION:
URL:https://spiritualistfirstchurchoftruth.org/event/church-class-6/
LOCATION:Zoom
CATEGORIES:On Zoom.
END:VEVENT
END:VCALENDAR