BEGIN:VCALENDAR
VERSION:2.0
PRODID:-//Spiritualist First Church of Truth - ECPv6.15.20//NONSGML v1.0//EN
CALSCALE:GREGORIAN
METHOD:PUBLISH
X-WR-CALNAME:Spiritualist First Church of Truth
X-ORIGINAL-URL:https://spiritualistfirstchurchoftruth.org
X-WR-CALDESC:Events for Spiritualist First Church of Truth
REFRESH-INTERVAL;VALUE=DURATION:PT1H
X-Robots-Tag:noindex
X-PUBLISHED-TTL:PT1H
BEGIN:VTIMEZONE
TZID:America/Detroit
BEGIN:DAYLIGHT
TZOFFSETFROM:-0500
TZOFFSETTO:-0400
TZNAME:EDT
DTSTART:20220313T070000
END:DAYLIGHT
BEGIN:STANDARD
TZOFFSETFROM:-0400
TZOFFSETTO:-0500
TZNAME:EST
DTSTART:20221106T060000
END:STANDARD
BEGIN:DAYLIGHT
TZOFFSETFROM:-0500
TZOFFSETTO:-0400
TZNAME:EDT
DTSTART:20230312T070000
END:DAYLIGHT
BEGIN:STANDARD
TZOFFSETFROM:-0400
TZOFFSETTO:-0500
TZNAME:EST
DTSTART:20231105T060000
END:STANDARD
BEGIN:DAYLIGHT
TZOFFSETFROM:-0500
TZOFFSETTO:-0400
TZNAME:EDT
DTSTART:20240310T070000
END:DAYLIGHT
BEGIN:STANDARD
TZOFFSETFROM:-0400
TZOFFSETTO:-0500
TZNAME:EST
DTSTART:20241103T060000
END:STANDARD
BEGIN:DAYLIGHT
TZOFFSETFROM:-0500
TZOFFSETTO:-0400
TZNAME:EDT
DTSTART:20250309T070000
END:DAYLIGHT
BEGIN:STANDARD
TZOFFSETFROM:-0400
TZOFFSETTO:-0500
TZNAME:EST
DTSTART:20251102T060000
END:STANDARD
END:VTIMEZONE
BEGIN:VEVENT
DTSTART;TZID=America/Detroit:20240608T080000
DTEND;TZID=America/Detroit:20240609T170000
DTSTAMP:20260424T121811
CREATED:20240529T090017Z
LAST-MODIFIED:20240529T090017Z
UID:2840-1717833600-1717952400@spiritualistfirstchurchoftruth.org
SUMMARY:ISA quarterly\, no church services
DESCRIPTION:
URL:https://spiritualistfirstchurchoftruth.org/event/isa-quarterly-no-church-services/
CATEGORIES:Off site
END:VEVENT
BEGIN:VEVENT
DTSTART;VALUE=DATE:20230929
DTEND;VALUE=DATE:20231001
DTSTAMP:20260424T121811
CREATED:20230924T174806Z
LAST-MODIFIED:20230924T174839Z
UID:2439-1695945600-1696118399@spiritualistfirstchurchoftruth.org
SUMMARY:Oktoberfest Grand Rapids https://oktoberfestgr.com/
DESCRIPTION:Sep 29-30\, 2023 Oktoberfest Grand Rapids. For more info see https://oktoberfestgr.com/
URL:https://spiritualistfirstchurchoftruth.org/event/oktoberfest-grand-rapids/
CATEGORIES:Off site
END:VEVENT
BEGIN:VEVENT
DTSTART;TZID=America/Detroit:20230304T130000
DTEND;TZID=America/Detroit:20230304T150000
DTSTAMP:20260424T121811
CREATED:20230226T193802Z
LAST-MODIFIED:20230301T220755Z
UID:2057-1677934800-1677942000@spiritualistfirstchurchoftruth.org
SUMMARY:John Davis services
DESCRIPTION:Visitation starts at 1pm\, service at 2pm. \nHeritage Life Story Funeral Homes\nAlt & Shawmut Hills Chapel\n2120 Lake Michigan Dr.\, N.W.\nGrand Rapids\, MI 49504\n(616) 453-8263 \nVisitation from 1PM until the start of the service. Live stream service at 2pm at this link: https://vimeo.com/event/2983069
URL:https://spiritualistfirstchurchoftruth.org/event/john-davis-services/
CATEGORIES:Off site
END:VEVENT
END:VCALENDAR