BEGIN:VCALENDAR
VERSION:2.0
PRODID:-//Spiritualist First Church of Truth - ECPv6.15.20//NONSGML v1.0//EN
CALSCALE:GREGORIAN
METHOD:PUBLISH
X-ORIGINAL-URL:https://spiritualistfirstchurchoftruth.org
X-WR-CALDESC:Events for Spiritualist First Church of Truth
REFRESH-INTERVAL;VALUE=DURATION:PT1H
X-Robots-Tag:noindex
X-PUBLISHED-TTL:PT1H
BEGIN:VTIMEZONE
TZID:America/Detroit
BEGIN:DAYLIGHT
TZOFFSETFROM:-0500
TZOFFSETTO:-0400
TZNAME:EDT
DTSTART:20210314T070000
END:DAYLIGHT
BEGIN:STANDARD
TZOFFSETFROM:-0400
TZOFFSETTO:-0500
TZNAME:EST
DTSTART:20211107T060000
END:STANDARD
BEGIN:DAYLIGHT
TZOFFSETFROM:-0500
TZOFFSETTO:-0400
TZNAME:EDT
DTSTART:20220313T070000
END:DAYLIGHT
BEGIN:STANDARD
TZOFFSETFROM:-0400
TZOFFSETTO:-0500
TZNAME:EST
DTSTART:20221106T060000
END:STANDARD
BEGIN:DAYLIGHT
TZOFFSETFROM:-0500
TZOFFSETTO:-0400
TZNAME:EDT
DTSTART:20230312T070000
END:DAYLIGHT
BEGIN:STANDARD
TZOFFSETFROM:-0400
TZOFFSETTO:-0500
TZNAME:EST
DTSTART:20231105T060000
END:STANDARD
BEGIN:DAYLIGHT
TZOFFSETFROM:-0500
TZOFFSETTO:-0400
TZNAME:EDT
DTSTART:20240310T070000
END:DAYLIGHT
BEGIN:STANDARD
TZOFFSETFROM:-0400
TZOFFSETTO:-0500
TZNAME:EST
DTSTART:20241103T060000
END:STANDARD
END:VTIMEZONE
BEGIN:VEVENT
DTSTART;TZID=America/Detroit:20230416T110000
DTEND;TZID=America/Detroit:20230416T123000
DTSTAMP:20260424T123736
CREATED:20230326T115637Z
LAST-MODIFIED:20230326T115637Z
UID:2116-1681642800-1681648200@spiritualistfirstchurchoftruth.org
SUMMARY:Church with Diva Mihelic
DESCRIPTION:
URL:https://spiritualistfirstchurchoftruth.org/event/church-with-diva-mihelic/
LOCATION:First Church of Truth
CATEGORIES:At church,On Zoom.
END:VEVENT
BEGIN:VEVENT
DTSTART;TZID=America/Detroit:20230409T110000
DTEND;TZID=America/Detroit:20230409T123000
DTSTAMP:20260424T123736
CREATED:20230326T115455Z
LAST-MODIFIED:20230326T115455Z
UID:2112-1681038000-1681043400@spiritualistfirstchurchoftruth.org
SUMMARY:Church with Terese Schroeder
DESCRIPTION:
URL:https://spiritualistfirstchurchoftruth.org/event/church-with-terese-schroeder/
LOCATION:First Church of Truth
CATEGORIES:At church,On Zoom.
END:VEVENT
BEGIN:VEVENT
DTSTART;TZID=America/Detroit:20230402T110000
DTEND;TZID=America/Detroit:20230402T123000
DTSTAMP:20260424T123736
CREATED:20230326T115324Z
LAST-MODIFIED:20230326T120039Z
UID:2108-1680433200-1680438600@spiritualistfirstchurchoftruth.org
SUMMARY:Church\, potluck\, board meeting
DESCRIPTION:Speaker: Rev Bill Lumsden. Potluck and board meeting at the church.
URL:https://spiritualistfirstchurchoftruth.org/event/church-potluck-board-meeting/
LOCATION:First Church of Truth
CATEGORIES:At church,On Zoom.
END:VEVENT
BEGIN:VEVENT
DTSTART;TZID=America/Detroit:20230326T110000
DTEND;TZID=America/Detroit:20230326T123000
DTSTAMP:20260424T123736
CREATED:20230301T221422Z
LAST-MODIFIED:20230301T221422Z
UID:2080-1679828400-1679833800@spiritualistfirstchurchoftruth.org
SUMMARY:Church with David Schroeder as speaker
DESCRIPTION:
URL:https://spiritualistfirstchurchoftruth.org/event/church-with-david-schroeder-as-speaker/
LOCATION:Zoom
CATEGORIES:At church,On Zoom.
END:VEVENT
BEGIN:VEVENT
DTSTART;TZID=America/Detroit:20230319T110000
DTEND;TZID=America/Detroit:20230319T123000
DTSTAMP:20260424T123736
CREATED:20230301T221228Z
LAST-MODIFIED:20230301T221228Z
UID:2074-1679223600-1679229000@spiritualistfirstchurchoftruth.org
SUMMARY:Church with Rev Bill Lumsden
DESCRIPTION:
URL:https://spiritualistfirstchurchoftruth.org/event/church-with-rev-bill-lumsden-2/
LOCATION:Zoom
CATEGORIES:At church,On Zoom.
END:VEVENT
BEGIN:VEVENT
DTSTART;TZID=America/Detroit:20230318T140000
DTEND;TZID=America/Detroit:20230318T150000
DTSTAMP:20260424T123736
CREATED:20230226T193635Z
LAST-MODIFIED:20230304T131319Z
UID:2055-1679148000-1679151600@spiritualistfirstchurchoftruth.org
SUMMARY:Quan Yin Channelling\, in person church only
DESCRIPTION:Not on Zoom.
URL:https://spiritualistfirstchurchoftruth.org/event/quan-yin-channelling/
LOCATION:First Church of Truth
CATEGORIES:At church
END:VEVENT
BEGIN:VEVENT
DTSTART;TZID=America/Detroit:20230305T110000
DTEND;TZID=America/Detroit:20230305T123000
DTSTAMP:20260424T123736
CREATED:20230226T193940Z
LAST-MODIFIED:20230301T220946Z
UID:2059-1678014000-1678019400@spiritualistfirstchurchoftruth.org
SUMMARY:Service with Chuck as speaker
DESCRIPTION:Chuck will speak about his amazing healing from 2019. \nAlso potluck\, and board election after church.
URL:https://spiritualistfirstchurchoftruth.org/event/service-with-chuck-as-speaker/
LOCATION:First Church of Truth
CATEGORIES:At church,On Zoom.
END:VEVENT
BEGIN:VEVENT
DTSTART;TZID=America/Detroit:20230226T110000
DTEND;TZID=America/Detroit:20230226T123000
DTSTAMP:20260424T123736
CREATED:20230131T101901Z
LAST-MODIFIED:20230131T101901Z
UID:1973-1677409200-1677414600@spiritualistfirstchurchoftruth.org
SUMMARY:Church with Ortrun Franklin
DESCRIPTION:
URL:https://spiritualistfirstchurchoftruth.org/event/church-with-ortrun-franklin-3/
CATEGORIES:At church,On Zoom.
END:VEVENT
BEGIN:VEVENT
DTSTART;TZID=America/Detroit:20230223T120000
DTEND;TZID=America/Detroit:20230223T140000
DTSTAMP:20260424T123736
CREATED:20230131T101825Z
LAST-MODIFIED:20230131T101825Z
UID:1971-1677153600-1677160800@spiritualistfirstchurchoftruth.org
SUMMARY:Class\, Jesus Autobio.
DESCRIPTION:
URL:https://spiritualistfirstchurchoftruth.org/event/class-jesus-autobio/
CATEGORIES:At church,On Zoom.
END:VEVENT
BEGIN:VEVENT
DTSTART;TZID=America/Detroit:20230219T110000
DTEND;TZID=America/Detroit:20230219T123000
DTSTAMP:20260424T123736
CREATED:20230131T101740Z
LAST-MODIFIED:20230131T101740Z
UID:1969-1676804400-1676809800@spiritualistfirstchurchoftruth.org
SUMMARY:Church with Michael Joy
DESCRIPTION:
URL:https://spiritualistfirstchurchoftruth.org/event/church-with-michael-joy-2/
CATEGORIES:At church,On Zoom.
END:VEVENT
BEGIN:VEVENT
DTSTART;TZID=America/Detroit:20230212T110000
DTEND;TZID=America/Detroit:20230212T123000
DTSTAMP:20260424T123736
CREATED:20230131T101621Z
LAST-MODIFIED:20230131T101621Z
UID:1965-1676199600-1676205000@spiritualistfirstchurchoftruth.org
SUMMARY:Church with David Schroeder
DESCRIPTION:
URL:https://spiritualistfirstchurchoftruth.org/event/church-with-david-schroeder-3/
CATEGORIES:At church,On Zoom.
END:VEVENT
BEGIN:VEVENT
DTSTART;TZID=America/Detroit:20230205T110000
DTEND;TZID=America/Detroit:20230205T123000
DTSTAMP:20260424T123736
CREATED:20230131T101315Z
LAST-MODIFIED:20230131T101315Z
UID:1957-1675594800-1675600200@spiritualistfirstchurchoftruth.org
SUMMARY:Church with Helen Roberts
DESCRIPTION:
URL:https://spiritualistfirstchurchoftruth.org/event/church-with-helen-roberts-2/
CATEGORIES:At church,On Zoom.
END:VEVENT
BEGIN:VEVENT
DTSTART;TZID=America/Detroit:20230202T120000
DTEND;TZID=America/Detroit:20230202T140000
DTSTAMP:20260424T123736
CREATED:20230102T140008Z
LAST-MODIFIED:20230102T140008Z
UID:1807-1675339200-1675346400@spiritualistfirstchurchoftruth.org
SUMMARY:Church class and ACIM
DESCRIPTION:
URL:https://spiritualistfirstchurchoftruth.org/event/church-class-and-acim-13/
LOCATION:Zoom
CATEGORIES:At church,On Zoom.
END:VEVENT
BEGIN:VEVENT
DTSTART;TZID=America/Detroit:20230129T110000
DTEND;TZID=America/Detroit:20230129T123000
DTSTAMP:20260424T123736
CREATED:20230102T135934Z
LAST-MODIFIED:20230102T135934Z
UID:1805-1674990000-1674995400@spiritualistfirstchurchoftruth.org
SUMMARY:Church with spkr Helen Roberts
DESCRIPTION:
URL:https://spiritualistfirstchurchoftruth.org/event/church-with-spkr-helen-roberts/
LOCATION:Zoom
CATEGORIES:At church,On Zoom.
END:VEVENT
BEGIN:VEVENT
DTSTART;TZID=America/Detroit:20230122T110000
DTEND;TZID=America/Detroit:20230122T123000
DTSTAMP:20260424T123736
CREATED:20230102T135740Z
LAST-MODIFIED:20230102T135740Z
UID:1801-1674385200-1674390600@spiritualistfirstchurchoftruth.org
SUMMARY:Church with spkr Mike Miller
DESCRIPTION:
URL:https://spiritualistfirstchurchoftruth.org/event/church-with-spkr-mike-miller/
LOCATION:Zoom
CATEGORIES:At church,On Zoom.
END:VEVENT
BEGIN:VEVENT
DTSTART;TZID=America/Detroit:20230115T110000
DTEND;TZID=America/Detroit:20230115T123000
DTSTAMP:20260424T123736
CREATED:20230102T135419Z
LAST-MODIFIED:20230102T135541Z
UID:1796-1673780400-1673785800@spiritualistfirstchurchoftruth.org
SUMMARY:Church with David Schroeder
DESCRIPTION:
URL:https://spiritualistfirstchurchoftruth.org/event/church-class-and-acim-10/
LOCATION:First Church of Truth
CATEGORIES:At church,On Zoom.
END:VEVENT
BEGIN:VEVENT
DTSTART;TZID=America/Detroit:20230108T110000
DTEND;TZID=America/Detroit:20230108T123000
DTSTAMP:20260424T123736
CREATED:20230102T135233Z
LAST-MODIFIED:20230102T135233Z
UID:1790-1673175600-1673181000@spiritualistfirstchurchoftruth.org
SUMMARY:Church with Debbie Dehm
DESCRIPTION:
URL:https://spiritualistfirstchurchoftruth.org/event/church-with-debbie-dehm-2/
LOCATION:Zoom
CATEGORIES:At church,On Zoom.
END:VEVENT
BEGIN:VEVENT
DTSTART;TZID=America/Detroit:20221229T120000
DTEND;TZID=America/Detroit:20221229T140000
DTSTAMP:20260424T123736
CREATED:20221128T095246Z
LAST-MODIFIED:20221128T095246Z
UID:1644-1672315200-1672322400@spiritualistfirstchurchoftruth.org
SUMMARY:Class and ACIM
DESCRIPTION:
URL:https://spiritualistfirstchurchoftruth.org/event/class-and-acim-6/
LOCATION:Zoom
CATEGORIES:At church,On Zoom.
END:VEVENT
BEGIN:VEVENT
DTSTART;TZID=America/Detroit:20221225T110000
DTEND;TZID=America/Detroit:20221225T123000
DTSTAMP:20260424T123736
CREATED:20221128T095216Z
LAST-MODIFIED:20221206T002759Z
UID:1642-1671966000-1671971400@spiritualistfirstchurchoftruth.org
SUMMARY:No church\, no zoom.
DESCRIPTION:
URL:https://spiritualistfirstchurchoftruth.org/event/church-with-helen-roberts/
LOCATION:Zoom
CATEGORIES:At church,On Zoom.
END:VEVENT
BEGIN:VEVENT
DTSTART;TZID=America/Detroit:20221218T110000
DTEND;TZID=America/Detroit:20221218T123000
DTSTAMP:20260424T123736
CREATED:20221128T095028Z
LAST-MODIFIED:20221128T095028Z
UID:1638-1671361200-1671366600@spiritualistfirstchurchoftruth.org
SUMMARY:Church with Ortrun Franklin
DESCRIPTION:
URL:https://spiritualistfirstchurchoftruth.org/event/church-with-ortrun-franklin-2/
LOCATION:First Church of Truth
CATEGORIES:At church,On Zoom.
END:VEVENT
BEGIN:VEVENT
DTSTART;TZID=America/Detroit:20221211T110000
DTEND;TZID=America/Detroit:20221211T123000
DTSTAMP:20260424T123736
CREATED:20221128T094738Z
LAST-MODIFIED:20221128T094738Z
UID:1632-1670756400-1670761800@spiritualistfirstchurchoftruth.org
SUMMARY:Church with Michael Joy Stauffer
DESCRIPTION:
URL:https://spiritualistfirstchurchoftruth.org/event/church-with-michael-joy-stauffer/
LOCATION:First Church of Truth
CATEGORIES:At church,On Zoom.
END:VEVENT
BEGIN:VEVENT
DTSTART;TZID=America/Detroit:20221204T110000
DTEND;TZID=America/Detroit:20221204T123000
DTSTAMP:20260424T123736
CREATED:20221128T094610Z
LAST-MODIFIED:20221128T094610Z
UID:1628-1670151600-1670157000@spiritualistfirstchurchoftruth.org
SUMMARY:Church with David Schroeder
DESCRIPTION:
URL:https://spiritualistfirstchurchoftruth.org/event/church-with-david-schroeder-2/
LOCATION:First Church of Truth
CATEGORIES:At church,On Zoom.
END:VEVENT
BEGIN:VEVENT
DTSTART;TZID=America/Detroit:20221127T110000
DTEND;TZID=America/Detroit:20221127T123000
DTSTAMP:20260424T123736
CREATED:20221028T085420Z
LAST-MODIFIED:20221028T085420Z
UID:1495-1669546800-1669552200@spiritualistfirstchurchoftruth.org
SUMMARY:Church with Rev Bill Lumsden
DESCRIPTION:
URL:https://spiritualistfirstchurchoftruth.org/event/church-with-rev-bill-lumsden/
LOCATION:First Church of Truth
CATEGORIES:At church,On Zoom.
END:VEVENT
BEGIN:VEVENT
DTSTART;TZID=America/Detroit:20221124T120000
DTEND;TZID=America/Detroit:20221124T140000
DTSTAMP:20260424T123736
CREATED:20221028T085347Z
LAST-MODIFIED:20221029T100041Z
UID:1493-1669291200-1669298400@spiritualistfirstchurchoftruth.org
SUMMARY:No class
DESCRIPTION:Holiday.
URL:https://spiritualistfirstchurchoftruth.org/event/acim-and-development-class-3/
LOCATION:Zoom
CATEGORIES:At church,On Zoom.
END:VEVENT
BEGIN:VEVENT
DTSTART;TZID=America/Detroit:20221120T110000
DTEND;TZID=America/Detroit:20221120T123000
DTSTAMP:20260424T123736
CREATED:20221028T085254Z
LAST-MODIFIED:20221028T085254Z
UID:1491-1668942000-1668947400@spiritualistfirstchurchoftruth.org
SUMMARY:Church with Jim (Coop) Cooper
DESCRIPTION:
URL:https://spiritualistfirstchurchoftruth.org/event/church-with-jim-coop-cooper/
LOCATION:First Church of Truth
CATEGORIES:At church,On Zoom.
END:VEVENT
BEGIN:VEVENT
DTSTART;TZID=America/Detroit:20221113T110000
DTEND;TZID=America/Detroit:20221113T123000
DTSTAMP:20260424T123736
CREATED:20221028T085129Z
LAST-MODIFIED:20221028T085129Z
UID:1487-1668337200-1668342600@spiritualistfirstchurchoftruth.org
SUMMARY:Church with David Schroeder
DESCRIPTION:
URL:https://spiritualistfirstchurchoftruth.org/event/church-with-david-schroeder/
LOCATION:First Church of Truth
CATEGORIES:At church,On Zoom.
END:VEVENT
BEGIN:VEVENT
DTSTART;TZID=America/Detroit:20221106T110000
DTEND;TZID=America/Detroit:20221106T123000
DTSTAMP:20260424T123736
CREATED:20221028T084902Z
LAST-MODIFIED:20221029T100120Z
UID:1481-1667732400-1667737800@spiritualistfirstchurchoftruth.org
SUMMARY:Church\, speaker Tony Holmes\, Potluck
DESCRIPTION:Potluck
URL:https://spiritualistfirstchurchoftruth.org/event/church-speaker-tony-holmes/
LOCATION:First Church of Truth
CATEGORIES:At church,On Zoom.
END:VEVENT
BEGIN:VEVENT
DTSTART;TZID=America/Detroit:20221030T110000
DTEND;TZID=America/Detroit:20221030T123000
DTSTAMP:20260424T123736
CREATED:20220924T152851Z
LAST-MODIFIED:20220924T152851Z
UID:1338-1667127600-1667133000@spiritualistfirstchurchoftruth.org
SUMMARY:Church\, Carl Franklin speaker
DESCRIPTION:
URL:https://spiritualistfirstchurchoftruth.org/event/church-carl-franklin-speaker/
LOCATION:First Church of Truth
CATEGORIES:At church,On Zoom.
END:VEVENT
BEGIN:VEVENT
DTSTART;TZID=America/Detroit:20221023T110000
DTEND;TZID=America/Detroit:20221023T123000
DTSTAMP:20260424T123736
CREATED:20220924T152715Z
LAST-MODIFIED:20220924T152715Z
UID:1332-1666522800-1666528200@spiritualistfirstchurchoftruth.org
SUMMARY:Church\, David Schroeder speaker
DESCRIPTION:
URL:https://spiritualistfirstchurchoftruth.org/event/church-david-schroeder-speaker/
LOCATION:First Church of Truth
CATEGORIES:At church,On Zoom.
END:VEVENT
BEGIN:VEVENT
DTSTART;TZID=America/Detroit:20221016T110000
DTEND;TZID=America/Detroit:20221016T123000
DTSTAMP:20260424T123736
CREATED:20220924T152503Z
LAST-MODIFIED:20220924T152503Z
UID:1326-1665918000-1665923400@spiritualistfirstchurchoftruth.org
SUMMARY:Church\, John Davis speaker
DESCRIPTION:
URL:https://spiritualistfirstchurchoftruth.org/event/church-john-davis-speaker/
LOCATION:First Church of Truth
CATEGORIES:At church,On Zoom.
END:VEVENT
END:VCALENDAR