BEGIN:VCALENDAR
VERSION:2.0
PRODID:-//Spiritualist First Church of Truth - ECPv6.15.20//NONSGML v1.0//EN
CALSCALE:GREGORIAN
METHOD:PUBLISH
X-WR-CALNAME:Spiritualist First Church of Truth
X-ORIGINAL-URL:https://spiritualistfirstchurchoftruth.org
X-WR-CALDESC:Events for Spiritualist First Church of Truth
REFRESH-INTERVAL;VALUE=DURATION:PT1H
X-Robots-Tag:noindex
X-PUBLISHED-TTL:PT1H
BEGIN:VTIMEZONE
TZID:America/Detroit
BEGIN:DAYLIGHT
TZOFFSETFROM:-0500
TZOFFSETTO:-0400
TZNAME:EDT
DTSTART:20240310T070000
END:DAYLIGHT
BEGIN:STANDARD
TZOFFSETFROM:-0400
TZOFFSETTO:-0500
TZNAME:EST
DTSTART:20241103T060000
END:STANDARD
BEGIN:DAYLIGHT
TZOFFSETFROM:-0500
TZOFFSETTO:-0400
TZNAME:EDT
DTSTART:20250309T070000
END:DAYLIGHT
BEGIN:STANDARD
TZOFFSETFROM:-0400
TZOFFSETTO:-0500
TZNAME:EST
DTSTART:20251102T060000
END:STANDARD
BEGIN:DAYLIGHT
TZOFFSETFROM:-0500
TZOFFSETTO:-0400
TZNAME:EDT
DTSTART:20260308T070000
END:DAYLIGHT
BEGIN:STANDARD
TZOFFSETFROM:-0400
TZOFFSETTO:-0500
TZNAME:EST
DTSTART:20261101T060000
END:STANDARD
BEGIN:DAYLIGHT
TZOFFSETFROM:-0500
TZOFFSETTO:-0400
TZNAME:EDT
DTSTART:20270314T070000
END:DAYLIGHT
BEGIN:STANDARD
TZOFFSETFROM:-0400
TZOFFSETTO:-0500
TZNAME:EST
DTSTART:20271107T060000
END:STANDARD
END:VTIMEZONE
BEGIN:VEVENT
DTSTART;TZID=America/Detroit:20260419T110000
DTEND;TZID=America/Detroit:20260419T123000
DTSTAMP:20260423T161836
CREATED:20260327T211513Z
LAST-MODIFIED:20260327T211513Z
UID:4481-1776596400-1776601800@spiritualistfirstchurchoftruth.org
SUMMARY:Church Services with speaker Billy Herrick
DESCRIPTION:
URL:https://spiritualistfirstchurchoftruth.org/event/church-services-with-speaker-billy-herrick-2/
LOCATION:First Church of Truth
CATEGORIES:At church,On Zoom.
END:VEVENT
BEGIN:VEVENT
DTSTART;TZID=America/Detroit:20260412T110000
DTEND;TZID=America/Detroit:20260412T123000
DTSTAMP:20260423T161836
CREATED:20260327T211251Z
LAST-MODIFIED:20260327T211306Z
UID:4474-1775991600-1775997000@spiritualistfirstchurchoftruth.org
SUMMARY:Church Services with speaker Carl Franklin
DESCRIPTION:Potluck and board meeting after services.
URL:https://spiritualistfirstchurchoftruth.org/event/church-services-with-speaker-carl-franklin-9/
LOCATION:First Church of Truth
CATEGORIES:At church,On Zoom.
END:VEVENT
BEGIN:VEVENT
DTSTART;TZID=America/Detroit:20260405T110000
DTEND;TZID=America/Detroit:20260405T123000
DTSTAMP:20260423T161836
CREATED:20260327T211122Z
LAST-MODIFIED:20260327T211336Z
UID:4470-1775386800-1775392200@spiritualistfirstchurchoftruth.org
SUMMARY:Church Services with speaker Helen Roberts
DESCRIPTION:Easter Sunday \n 
URL:https://spiritualistfirstchurchoftruth.org/event/church-services-with-speaker-helen-roberts-2/
LOCATION:First Church of Truth
CATEGORIES:At church,On Zoom.
END:VEVENT
BEGIN:VEVENT
DTSTART;TZID=America/Detroit:20260308T110000
DTEND;TZID=America/Detroit:20260308T123000
DTSTAMP:20260423T161836
CREATED:20260228T100922Z
LAST-MODIFIED:20260228T100922Z
UID:4407-1772967600-1772973000@spiritualistfirstchurchoftruth.org
SUMMARY:Church Services with speaker Otany Alverez
DESCRIPTION:
URL:https://spiritualistfirstchurchoftruth.org/event/church-services-with-speaker-otany-alverez-2/
LOCATION:First Church of Truth
CATEGORIES:At church,On Zoom.
END:VEVENT
BEGIN:VEVENT
DTSTART;TZID=America/Detroit:20260301T110000
DTEND;TZID=America/Detroit:20260301T123000
DTSTAMP:20260423T161836
CREATED:20260228T100443Z
LAST-MODIFIED:20260228T100443Z
UID:4403-1772362800-1772368200@spiritualistfirstchurchoftruth.org
SUMMARY:Church Services with Rev Bill Lumsden
DESCRIPTION:Speaker: Rev Bill Lumsden
URL:https://spiritualistfirstchurchoftruth.org/event/church-services-with-rev-bill-lumsden-3/
LOCATION:First Church of Truth
CATEGORIES:At church,On Zoom.
END:VEVENT
BEGIN:VEVENT
DTSTART;TZID=America/Detroit:20260222T110000
DTEND;TZID=America/Detroit:20260222T123000
DTSTAMP:20260423T161836
CREATED:20260127T202955Z
LAST-MODIFIED:20260127T202955Z
UID:4354-1771758000-1771763400@spiritualistfirstchurchoftruth.org
SUMMARY:Church Services with speaker Eric Webster
DESCRIPTION:
URL:https://spiritualistfirstchurchoftruth.org/event/church-services-with-speaker-eric-webster-3/
LOCATION:First Church of Truth
CATEGORIES:At church,On Zoom.
END:VEVENT
BEGIN:VEVENT
DTSTART;TZID=America/Detroit:20260215T110000
DTEND;TZID=America/Detroit:20260215T123000
DTSTAMP:20260423T161836
CREATED:20260127T202845Z
LAST-MODIFIED:20260127T202845Z
UID:4350-1771153200-1771158600@spiritualistfirstchurchoftruth.org
SUMMARY:Church Services with speaker Carl Franklin
DESCRIPTION:
URL:https://spiritualistfirstchurchoftruth.org/event/church-services-with-speaker-carl-franklin-8/
LOCATION:First Church of Truth
CATEGORIES:At church,On Zoom.
END:VEVENT
BEGIN:VEVENT
DTSTART;TZID=America/Detroit:20260208T110000
DTEND;TZID=America/Detroit:20260208T123000
DTSTAMP:20260423T161836
CREATED:20260127T202728Z
LAST-MODIFIED:20260127T202728Z
UID:4346-1770548400-1770553800@spiritualistfirstchurchoftruth.org
SUMMARY:Church Services with speaker Otany Alverez
DESCRIPTION:
URL:https://spiritualistfirstchurchoftruth.org/event/church-services-with-speaker-otany-alverez/
LOCATION:First Church of Truth
CATEGORIES:At church,On Zoom.
END:VEVENT
BEGIN:VEVENT
DTSTART;TZID=America/Detroit:20260201T110000
DTEND;TZID=America/Detroit:20260201T123000
DTSTAMP:20260423T161836
CREATED:20260127T202540Z
LAST-MODIFIED:20260127T202540Z
UID:4342-1769943600-1769949000@spiritualistfirstchurchoftruth.org
SUMMARY:Church Services with speaker John Rothwell
DESCRIPTION:Also\, Potluck and Board meeting.
URL:https://spiritualistfirstchurchoftruth.org/event/church-services-with-speaker-john-rothwell-2/
CATEGORIES:At church,On Zoom.
END:VEVENT
BEGIN:VEVENT
DTSTART;TZID=America/Detroit:20260125T110000
DTEND;TZID=America/Detroit:20260125T123000
DTSTAMP:20260423T161836
CREATED:20251230T220951Z
LAST-MODIFIED:20251230T220951Z
UID:4286-1769338800-1769344200@spiritualistfirstchurchoftruth.org
SUMMARY:Church Services with speaker Ortrun Franklin
DESCRIPTION:
URL:https://spiritualistfirstchurchoftruth.org/event/church-services-with-speaker-ortrun-franklin-3/
CATEGORIES:At church,On Zoom.
END:VEVENT
BEGIN:VEVENT
DTSTART;TZID=America/Detroit:20260119T110000
DTEND;TZID=America/Detroit:20260119T123000
DTSTAMP:20260423T161836
CREATED:20251230T220912Z
LAST-MODIFIED:20251230T220912Z
UID:4284-1768820400-1768825800@spiritualistfirstchurchoftruth.org
SUMMARY:Development class
DESCRIPTION:
URL:https://spiritualistfirstchurchoftruth.org/event/development-class-83/
CATEGORIES:At church,On Zoom.
END:VEVENT
BEGIN:VEVENT
DTSTART;TZID=America/Detroit:20260118T110000
DTEND;TZID=America/Detroit:20260118T123000
DTSTAMP:20260423T161836
CREATED:20251230T220842Z
LAST-MODIFIED:20251230T220842Z
UID:4282-1768734000-1768739400@spiritualistfirstchurchoftruth.org
SUMMARY:Church Services with speaker Mike Miller
DESCRIPTION:
URL:https://spiritualistfirstchurchoftruth.org/event/church-services-with-speaker-mike-miller-2/
CATEGORIES:At church,On Zoom.
END:VEVENT
BEGIN:VEVENT
DTSTART;TZID=America/Detroit:20260111T110000
DTEND;TZID=America/Detroit:20260111T123000
DTSTAMP:20260423T161836
CREATED:20251230T220617Z
LAST-MODIFIED:20251230T220617Z
UID:4278-1768129200-1768134600@spiritualistfirstchurchoftruth.org
SUMMARY:Church Services with speaker Mary Theadoor
DESCRIPTION:
URL:https://spiritualistfirstchurchoftruth.org/event/church-services-with-speaker-mary-theadoor/
CATEGORIES:At church,On Zoom.
END:VEVENT
BEGIN:VEVENT
DTSTART;TZID=America/Detroit:20260104T110000
DTEND;TZID=America/Detroit:20260104T123000
DTSTAMP:20260423T161836
CREATED:20251230T220448Z
LAST-MODIFIED:20251230T220448Z
UID:4274-1767524400-1767529800@spiritualistfirstchurchoftruth.org
SUMMARY:Church Services with speaker Carl Franklin
DESCRIPTION:NO POTLUCK. Board meeting after church.
URL:https://spiritualistfirstchurchoftruth.org/event/church-services-with-speaker-carl-franklin-7/
CATEGORIES:At church,On Zoom.
END:VEVENT
BEGIN:VEVENT
DTSTART;TZID=America/Detroit:20251228T110000
DTEND;TZID=America/Detroit:20251228T123000
DTSTAMP:20260423T161836
CREATED:20251129T151759Z
LAST-MODIFIED:20251129T151759Z
UID:4150-1766919600-1766925000@spiritualistfirstchurchoftruth.org
SUMMARY:Church Services with speaker David Schroeder
DESCRIPTION:
URL:https://spiritualistfirstchurchoftruth.org/event/church-services-with-speaker-david-schroeder-7/
CATEGORIES:At church,On Zoom.
END:VEVENT
BEGIN:VEVENT
DTSTART;TZID=America/Detroit:20251221T110000
DTEND;TZID=America/Detroit:20251221T123000
DTSTAMP:20260423T161836
CREATED:20251129T151724Z
LAST-MODIFIED:20251129T151724Z
UID:4148-1766314800-1766320200@spiritualistfirstchurchoftruth.org
SUMMARY:Church Services with speaker Ortrun Franklin
DESCRIPTION:
URL:https://spiritualistfirstchurchoftruth.org/event/church-services-with-speaker-ortrun-franklin-2/
CATEGORIES:At church,On Zoom.
END:VEVENT
BEGIN:VEVENT
DTSTART;TZID=America/Detroit:20251214T110000
DTEND;TZID=America/Detroit:20251214T123000
DTSTAMP:20260423T161836
CREATED:20251129T151616Z
LAST-MODIFIED:20251208T141427Z
UID:4145-1765710000-1765715400@spiritualistfirstchurchoftruth.org
SUMMARY:FCOT Church Services with speaker Carl Franklin
DESCRIPTION:
URL:https://spiritualistfirstchurchoftruth.org/event/church-services-with-speaker-carl-franklin-6/
CATEGORIES:At church,On Zoom.
END:VEVENT
BEGIN:VEVENT
DTSTART;TZID=America/Detroit:20251207T110000
DTEND;TZID=America/Detroit:20251207T123000
DTSTAMP:20260423T161836
CREATED:20251129T151434Z
LAST-MODIFIED:20251129T151454Z
UID:4140-1765105200-1765110600@spiritualistfirstchurchoftruth.org
SUMMARY:Church Services with speaker Rev Bill Lumsden
DESCRIPTION:No potluck\, no board meeting.
URL:https://spiritualistfirstchurchoftruth.org/event/church-services-with-speaker-rev-bill-lumsden/
CATEGORIES:At church,On Zoom.
END:VEVENT
BEGIN:VEVENT
DTSTART;TZID=America/Detroit:20251130T110000
DTEND;TZID=America/Detroit:20251130T123000
DTSTAMP:20260423T161836
CREATED:20251029T200720Z
LAST-MODIFIED:20251129T153000Z
UID:4044-1764500400-1764505800@spiritualistfirstchurchoftruth.org
SUMMARY:Church Services with speaker Michael Joy Stauffer
DESCRIPTION:If weather is bad\, services will be on Zoom only.
URL:https://spiritualistfirstchurchoftruth.org/event/church-services-with-speaker-michael-joy-stauffer/
CATEGORIES:At church,On Zoom.
END:VEVENT
BEGIN:VEVENT
DTSTART;TZID=America/Detroit:20251123T110000
DTEND;TZID=America/Detroit:20251123T123000
DTSTAMP:20260423T161836
CREATED:20251029T171346Z
LAST-MODIFIED:20251029T171346Z
UID:4039-1763895600-1763901000@spiritualistfirstchurchoftruth.org
SUMMARY:Church Services with speaker Billy Herrick
DESCRIPTION:
URL:https://spiritualistfirstchurchoftruth.org/event/church-services-with-speaker-billy-herrick/
CATEGORIES:At church,On Zoom.
END:VEVENT
BEGIN:VEVENT
DTSTART;TZID=America/Detroit:20251116T110000
DTEND;TZID=America/Detroit:20251116T123000
DTSTAMP:20260423T161836
CREATED:20251029T171154Z
LAST-MODIFIED:20251029T171154Z
UID:4033-1763290800-1763296200@spiritualistfirstchurchoftruth.org
SUMMARY:Church Services with speaker Helen Roberts
DESCRIPTION:
URL:https://spiritualistfirstchurchoftruth.org/event/church-services-with-speaker-helen-roberts/
CATEGORIES:At church,On Zoom.
END:VEVENT
BEGIN:VEVENT
DTSTART;TZID=America/Detroit:20251109T110000
DTEND;TZID=America/Detroit:20251109T123000
DTSTAMP:20260423T161836
CREATED:20251029T171041Z
LAST-MODIFIED:20251029T171041Z
UID:4029-1762686000-1762691400@spiritualistfirstchurchoftruth.org
SUMMARY:Church Services with speaker Mike Miller
DESCRIPTION:
URL:https://spiritualistfirstchurchoftruth.org/event/church-services-with-speaker-mike-miller/
CATEGORIES:At church,On Zoom.
END:VEVENT
BEGIN:VEVENT
DTSTART;TZID=America/Detroit:20251104T183000
DTEND;TZID=America/Detroit:20251104T193000
DTSTAMP:20260423T161836
CREATED:20251029T171004Z
LAST-MODIFIED:20251029T171004Z
UID:4027-1762281000-1762284600@spiritualistfirstchurchoftruth.org
SUMMARY:Full Moon Ceremony at church
DESCRIPTION:Donations welcome.
URL:https://spiritualistfirstchurchoftruth.org/event/full-moon-ceremony-at-church-2/
CATEGORIES:At church
END:VEVENT
BEGIN:VEVENT
DTSTART;TZID=America/Detroit:20251102T110000
DTEND;TZID=America/Detroit:20251102T123000
DTSTAMP:20260423T161836
CREATED:20251029T170822Z
LAST-MODIFIED:20251029T170822Z
UID:4023-1762081200-1762086600@spiritualistfirstchurchoftruth.org
SUMMARY:Church Services with speaker David Schroeder
DESCRIPTION:Potluck and board meeting after service.
URL:https://spiritualistfirstchurchoftruth.org/event/church-services-with-speaker-david-schroeder-6/
CATEGORIES:At church,On Zoom.
END:VEVENT
BEGIN:VEVENT
DTSTART;TZID=America/Detroit:20251026T110000
DTEND;TZID=America/Detroit:20251026T123000
DTSTAMP:20260423T161836
CREATED:20250928T130153Z
LAST-MODIFIED:20250928T130416Z
UID:3961-1761476400-1761481800@spiritualistfirstchurchoftruth.org
SUMMARY:Church Services with speaker Carl Franklin
DESCRIPTION:
URL:https://spiritualistfirstchurchoftruth.org/event/church-services-with-speaker-carl-franklin-5/
LOCATION:First Church of Truth
CATEGORIES:At church,On Zoom.
END:VEVENT
BEGIN:VEVENT
DTSTART;TZID=America/Detroit:20251019T110000
DTEND;TZID=America/Detroit:20251019T123000
DTSTAMP:20260423T161836
CREATED:20250928T130032Z
LAST-MODIFIED:20250928T130032Z
UID:3957-1760871600-1760877000@spiritualistfirstchurchoftruth.org
SUMMARY:Church Services with speaker Ruth Zuiderveen
DESCRIPTION:
URL:https://spiritualistfirstchurchoftruth.org/event/church-services-with-speaker-ruth-zuiderveen/
LOCATION:First Church of Truth
CATEGORIES:At church,On Zoom.
END:VEVENT
BEGIN:VEVENT
DTSTART;TZID=America/Detroit:20251012T110000
DTEND;TZID=America/Detroit:20251012T123000
DTSTAMP:20260423T161836
CREATED:20250928T125909Z
LAST-MODIFIED:20250928T125909Z
UID:3953-1760266800-1760272200@spiritualistfirstchurchoftruth.org
SUMMARY:Church Services with speaker Ortrun Franklin
DESCRIPTION:
URL:https://spiritualistfirstchurchoftruth.org/event/church-services-with-speaker-ortrun-franklin/
LOCATION:First Church of Truth
CATEGORIES:At church,On Zoom.
END:VEVENT
BEGIN:VEVENT
DTSTART;TZID=America/Detroit:20251006T183000
DTEND;TZID=America/Detroit:20251006T193000
DTSTAMP:20260423T161836
CREATED:20250928T125825Z
LAST-MODIFIED:20250928T125825Z
UID:3951-1759775400-1759779000@spiritualistfirstchurchoftruth.org
SUMMARY:Full Moon Ceremony at Church
DESCRIPTION:
URL:https://spiritualistfirstchurchoftruth.org/event/full-moon-ceremony-at-church/
LOCATION:First Church of Truth
CATEGORIES:At church
END:VEVENT
BEGIN:VEVENT
DTSTART;TZID=America/Detroit:20251006T110000
DTEND;TZID=America/Detroit:20251006T123000
DTSTAMP:20260423T161836
CREATED:20250928T125743Z
LAST-MODIFIED:20250928T125743Z
UID:3949-1759748400-1759753800@spiritualistfirstchurchoftruth.org
SUMMARY:Development class
DESCRIPTION:
URL:https://spiritualistfirstchurchoftruth.org/event/development-class-77/
LOCATION:Zoom
CATEGORIES:At church,On Zoom.
END:VEVENT
BEGIN:VEVENT
DTSTART;TZID=America/Detroit:20251005T110000
DTEND;TZID=America/Detroit:20251005T123000
DTSTAMP:20260423T161836
CREATED:20250928T125710Z
LAST-MODIFIED:20250928T125710Z
UID:3947-1759662000-1759667400@spiritualistfirstchurchoftruth.org
SUMMARY:Church Services with speaker Eric Webster
DESCRIPTION:Also Potluck and board meeting after church.
URL:https://spiritualistfirstchurchoftruth.org/event/church-services-with-speaker-eric-webster-2/
LOCATION:First Church of Truth
CATEGORIES:At church,On Zoom.
END:VEVENT
END:VCALENDAR