BEGIN:VCALENDAR
VERSION:2.0
PRODID:-//Spiritualist First Church of Truth - ECPv6.15.20//NONSGML v1.0//EN
CALSCALE:GREGORIAN
METHOD:PUBLISH
X-ORIGINAL-URL:https://spiritualistfirstchurchoftruth.org
X-WR-CALDESC:Events for Spiritualist First Church of Truth
REFRESH-INTERVAL;VALUE=DURATION:PT1H
X-Robots-Tag:noindex
X-PUBLISHED-TTL:PT1H
BEGIN:VTIMEZONE
TZID:America/Detroit
BEGIN:DAYLIGHT
TZOFFSETFROM:-0500
TZOFFSETTO:-0400
TZNAME:EDT
DTSTART:20240310T070000
END:DAYLIGHT
BEGIN:STANDARD
TZOFFSETFROM:-0400
TZOFFSETTO:-0500
TZNAME:EST
DTSTART:20241103T060000
END:STANDARD
BEGIN:DAYLIGHT
TZOFFSETFROM:-0500
TZOFFSETTO:-0400
TZNAME:EDT
DTSTART:20250309T070000
END:DAYLIGHT
BEGIN:STANDARD
TZOFFSETFROM:-0400
TZOFFSETTO:-0500
TZNAME:EST
DTSTART:20251102T060000
END:STANDARD
BEGIN:DAYLIGHT
TZOFFSETFROM:-0500
TZOFFSETTO:-0400
TZNAME:EDT
DTSTART:20260308T070000
END:DAYLIGHT
BEGIN:STANDARD
TZOFFSETFROM:-0400
TZOFFSETTO:-0500
TZNAME:EST
DTSTART:20261101T060000
END:STANDARD
END:VTIMEZONE
BEGIN:VEVENT
DTSTART;TZID=America/Detroit:20250406T110000
DTEND;TZID=America/Detroit:20250406T123000
DTSTAMP:20260424T062819
CREATED:20250329T123024Z
LAST-MODIFIED:20250329T123024Z
UID:3371-1743937200-1743942600@spiritualistfirstchurchoftruth.org
SUMMARY:Church Services with speaker Rev Helen Roberts
DESCRIPTION:Potluck and board meeting right after services.
URL:https://spiritualistfirstchurchoftruth.org/event/church-services-with-speaker-rev-helen-roberts/
LOCATION:First Church of Truth
CATEGORIES:At church,On Zoom.
END:VEVENT
BEGIN:VEVENT
DTSTART;TZID=America/Detroit:20250413T110000
DTEND;TZID=America/Detroit:20250413T123000
DTSTAMP:20260424T062819
CREATED:20250329T123140Z
LAST-MODIFIED:20250329T123140Z
UID:3375-1744542000-1744547400@spiritualistfirstchurchoftruth.org
SUMMARY:Church services with speaker Chuck Roberts
DESCRIPTION:
URL:https://spiritualistfirstchurchoftruth.org/event/church-services-with-speaker-chuck-roberts-2/
LOCATION:First Church of Truth
CATEGORIES:At church,On Zoom.
END:VEVENT
BEGIN:VEVENT
DTSTART;TZID=America/Detroit:20250420T110000
DTEND;TZID=America/Detroit:20250420T123000
DTSTAMP:20260424T062819
CREATED:20250329T123247Z
LAST-MODIFIED:20250329T123247Z
UID:3379-1745146800-1745152200@spiritualistfirstchurchoftruth.org
SUMMARY:Church Services with speaker David Schroeder
DESCRIPTION:
URL:https://spiritualistfirstchurchoftruth.org/event/church-services-with-speaker-david-schroeder-4/
LOCATION:First Church of Truth
CATEGORIES:At church,On Zoom.
END:VEVENT
BEGIN:VEVENT
DTSTART;TZID=America/Detroit:20250427T110000
DTEND;TZID=America/Detroit:20250427T123000
DTSTAMP:20260424T062819
CREATED:20250329T123407Z
LAST-MODIFIED:20250329T123407Z
UID:3383-1745751600-1745757000@spiritualistfirstchurchoftruth.org
SUMMARY:Church Services with speaker Carl Franklin
DESCRIPTION:Carl is a great speaker!
URL:https://spiritualistfirstchurchoftruth.org/event/church-services-with-speaker-carl-franklin-3/
LOCATION:Zoom
CATEGORIES:At church,On Zoom.
END:VEVENT
END:VCALENDAR