BEGIN:VCALENDAR
VERSION:2.0
PRODID:-//Spiritualist First Church of Truth - ECPv6.15.20//NONSGML v1.0//EN
CALSCALE:GREGORIAN
METHOD:PUBLISH
X-ORIGINAL-URL:https://spiritualistfirstchurchoftruth.org
X-WR-CALDESC:Events for Spiritualist First Church of Truth
REFRESH-INTERVAL;VALUE=DURATION:PT1H
X-Robots-Tag:noindex
X-PUBLISHED-TTL:PT1H
BEGIN:VTIMEZONE
TZID:America/Detroit
BEGIN:DAYLIGHT
TZOFFSETFROM:-0500
TZOFFSETTO:-0400
TZNAME:EDT
DTSTART:20220313T070000
END:DAYLIGHT
BEGIN:STANDARD
TZOFFSETFROM:-0400
TZOFFSETTO:-0500
TZNAME:EST
DTSTART:20221106T060000
END:STANDARD
BEGIN:DAYLIGHT
TZOFFSETFROM:-0500
TZOFFSETTO:-0400
TZNAME:EDT
DTSTART:20230312T070000
END:DAYLIGHT
BEGIN:STANDARD
TZOFFSETFROM:-0400
TZOFFSETTO:-0500
TZNAME:EST
DTSTART:20231105T060000
END:STANDARD
BEGIN:DAYLIGHT
TZOFFSETFROM:-0500
TZOFFSETTO:-0400
TZNAME:EDT
DTSTART:20240310T070000
END:DAYLIGHT
BEGIN:STANDARD
TZOFFSETFROM:-0400
TZOFFSETTO:-0500
TZNAME:EST
DTSTART:20241103T060000
END:STANDARD
END:VTIMEZONE
BEGIN:VEVENT
DTSTART;TZID=America/Detroit:20230903T110000
DTEND;TZID=America/Detroit:20230903T123000
DTSTAMP:20260425T115925
CREATED:20230827T123449Z
LAST-MODIFIED:20230827T123449Z
UID:2339-1693738800-1693744200@spiritualistfirstchurchoftruth.org
SUMMARY:Church\, speaker Rev Bill Lumsden
DESCRIPTION:
URL:https://spiritualistfirstchurchoftruth.org/event/church-speaker-rev-bill-lumsden-4/
CATEGORIES:At church,On Zoom.
END:VEVENT
BEGIN:VEVENT
DTSTART;TZID=America/Detroit:20230908T190000
DTEND;TZID=America/Detroit:20230908T200000
DTSTAMP:20260425T115925
CREATED:20230827T123720Z
LAST-MODIFIED:20230827T123720Z
UID:2346-1694199600-1694203200@spiritualistfirstchurchoftruth.org
SUMMARY:Mental Phenonema Seance
DESCRIPTION:
URL:https://spiritualistfirstchurchoftruth.org/event/mental-phenonema-seance/
LOCATION:First Church of Truth
CATEGORIES:At church
END:VEVENT
BEGIN:VEVENT
DTSTART;VALUE=DATE:20230909
DTEND;VALUE=DATE:20230911
DTSTAMP:20260425T115925
CREATED:20230722T155331Z
LAST-MODIFIED:20230905T161942Z
UID:2278-1694217600-1694390399@spiritualistfirstchurchoftruth.org
SUMMARY:ISA quarterly in Grand Rapids\, MI
DESCRIPTION:Address: 127 Meerse Ave\, Grand Rapids\, MI. \nFor the schedule and more PDF files see our Links page: https://spiritualistfirstchurchoftruth.org/links/ \nSaturday 9-11 Readings. $20.00 by ISA mediums. \nNoon lunch \n2:00  Business meeting possible. Mini class afterwards\n5:00 Dinner\n6:00 evening Service combined with workshop\nAfter activity TBD\n\nSunday:\n11am Service- your regular time\nAfterwards Lunch\n2:00 workshop TBD
URL:https://spiritualistfirstchurchoftruth.org/event/isa-quarterly-in-grand-rapids-mi/
LOCATION:First Church of Truth
CATEGORIES:At church
END:VEVENT
BEGIN:VEVENT
DTSTART;TZID=America/Detroit:20230910T110000
DTEND;TZID=America/Detroit:20230910T123000
DTSTAMP:20260425T115925
CREATED:20230827T124232Z
LAST-MODIFIED:20230827T124232Z
UID:2358-1694343600-1694349000@spiritualistfirstchurchoftruth.org
SUMMARY:Church with ISA members
DESCRIPTION:At church and on Zoom.com. Come meet Joan from the UK! She will be there in person.
URL:https://spiritualistfirstchurchoftruth.org/event/church-with-isa-members/
LOCATION:First Church of Truth
CATEGORIES:At church,On Zoom.
END:VEVENT
BEGIN:VEVENT
DTSTART;TZID=America/Detroit:20230917T110000
DTEND;TZID=America/Detroit:20230917T123000
DTSTAMP:20260425T115925
CREATED:20230827T123836Z
LAST-MODIFIED:20230827T123836Z
UID:2350-1694948400-1694953800@spiritualistfirstchurchoftruth.org
SUMMARY:Church with speaker John Rothwell
DESCRIPTION:
URL:https://spiritualistfirstchurchoftruth.org/event/church-with-speaker-john-rothwell-2/
LOCATION:First Church of Truth
CATEGORIES:At church,On Zoom.
END:VEVENT
BEGIN:VEVENT
DTSTART;TZID=America/Detroit:20230924T110000
DTEND;TZID=America/Detroit:20230924T123000
DTSTAMP:20260425T115925
CREATED:20230827T124005Z
LAST-MODIFIED:20230827T124005Z
UID:2354-1695553200-1695558600@spiritualistfirstchurchoftruth.org
SUMMARY:Church with spkr Michael Joy Stauffer
DESCRIPTION:Church and Zoom.com
URL:https://spiritualistfirstchurchoftruth.org/event/church-with-spkr-michael-joy-stauffer/
LOCATION:First Church of Truth
CATEGORIES:At church,On Zoom.
END:VEVENT
END:VCALENDAR